PDS_VERSION_ID = PDS3
/* Identification Information */
DATA_SET_ID = "MRO-M-CTX-HiROC-V1.0"
PRODUCT_ID = "B01_010161_1692_XI_10S131W"
PRODUCER_INSTITUTION_NAME = "UNIVERSITY OF ARIZONA"
PRDOUCER_ID = "UA"
PRODUCER_FULL_NAME = "ALFRED MCEWEN"
SOURCE_PRODUCT_ID = NULL
MISSION_NAME = "MARS RECONNAISSANCE ORBITER"
SPACECRAFT_NAME = "MARS RECONNAISSANCE ORBITER"
INSTRUMENT_NAME = "CONTEXT CAMERA"
INSTRUMENT_ID = "MRO-CTX"
TARGET_NAME = "Mars"
START_TIME = "2008-09-26T05:58:09.474"
ORBIT_NUMBER = 10161
SPACECRAFT_CLOCK_START_COUNT = "0906875909:210"
PRODUCT_CREATION_TIME = 2011-11-15T05:33:08
SOFTWARE_NAME = "CTX_Finalizer (1.7 2011/06/20 22:58:41)"
NOTE = "Special map product for HiROC"
OBJECT = IMAGE_MAP_PROJECTION
  MAP_PROJECTION_TYPE = "EQUIRECTANGULAR"
  PROJECTION_LATITUDE_TYPE = PLANETOCENTRIC
  A_AXIS_RADIUS = 3396.19
  B_AXIS_RADIUS = 3396.19
  C_AXIS_RADIUS = 3376.2
  FIRST_STANDARD_PARALLEL = "N/A"
  SECOND_STANDARD_PARALLEL = "N/A"
  COORDINATE_SYSTEM_NAME = PLANETOCENTRIC
  POSITIVE_LONGITUDE_DIRECTION = EAST
  KEYWORD_LATITUDE_TYPE = PLANETOCENTRIC
  CENTER_LATITUDE = -10
  CENTER_LONGITUDE = 0.0
  LINE_FIRST_PIXEL = 1
  LINE_LAST_PIXEL = 21362
  SAMPLE_FIRST_PIXEL = 1
  SAMPLE_LAST_PIXEL = 7671
  MAP_PROJECTION_ROTATION = 0.0
  MAP_RESOLUTION = 11852.817278819
  MAP_SCALE = 0.005
  MAXIMUM_LATITUDE = -9.8284566762909
  MINIMUM_LATITUDE = -11.630662937458
  EASTERNMOST_LONGITUDE = 228.54961562342
  WESTERNMOST_LONGITUDE = 227.89254197625
  LINE_PROJECTION_OFFSET = -116493.5
  SAMPLE_PROJECTION_OFFSET = -2660130.5
END_OBJECT = IMAGE_MAP_PROJECTION
/* The JPEG2000 image data file associated with this label. */
OBJECT = COMPRESSED_FILE
  FILE_NAME = "B01_010161_1692_XI_10S131W.JP2"
  RECORD_TYPE = UNDEFINED
  ENCODING_TYPE = "JP2"
  ENCODING_TYPE_VERSION_NAME = "ISO/IEC15444-1:2004"
  INTERCHANGE_FORMAT = BINARY
  /* The name of the original source file. */
  UNCOMPRESSED_FILE_NAME = "B01_010161_1692_XI_10S131W.2895.img"
  /* The amount of original image data. */
  REQUIRED_STORAGE_BYTES = 163867902
  ^DESCRIPTION = "JP2INFO.TXT"
END_OBJECT = COMPRESSED_FILE
/* The source image data definition. */
OBJECT = UNCOMPRESSED_FILE
  FILE_NAME = "B01_010161_1692_XI_10S131W.2895.img"
  RECORD_TYPE = FIXED_LENGTH
  RECORD_BYTES = 7671
  FILE_RECORDS = 21362
  ^IMAGE = "B01_010161_1692_XI_10S131W.2895.img"
  OBJECT = IMAGE
    LINES = 21362
    LINE_SAMPLES = 7671
    BANDS = 1
    CENTER_FILTER_WAVELENGTH = 0.65
    BANDWIDTH = 0.15
    BAND_STORAGE_TYPE = BAND_SEQUENTIAL
    OFFSET = 0.037601241056761
    SCALING_FACTOR = 4.60796346993472e-04
    SAMPLE_BITS = 8
    SAMPLE_BIT_MASK = 2#11111111#
    SAMPLE_TYPE = MSB_UNSIGNED_INTEGER
    CORE_NULL = 0
    CORE_LOW_REPR_SATURATION = 1
    CORE_LOW_INSTR_SATURATION = 1
    CORE_HIGH_REPR_SATURATION = 255
    CORE_HIGH_INSTR_SATURATION = 255
  END_OBJECT = IMAGE
END_OBJECT = UNCOMPRESSED_FILE
END
