PDS_VERSION_ID = PDS3
/* Identification Information */
DATA_SET_ID = "MRO-M-CTX-HiROC-V1.0"
PRODUCT_ID = "B01_009924_1771_XI_02S142W"
PRODUCER_INSTITUTION_NAME = "UNIVERSITY OF ARIZONA"
PRDOUCER_ID = "UA"
PRODUCER_FULL_NAME = "ALFRED MCEWEN"
SOURCE_PRODUCT_ID = NULL
MISSION_NAME = "MARS RECONNAISSANCE ORBITER"
SPACECRAFT_NAME = "MARS RECONNAISSANCE ORBITER"
INSTRUMENT_NAME = "CONTEXT CAMERA"
INSTRUMENT_ID = "MRO-CTX"
TARGET_NAME = "Mars"
START_TIME = "2008-09-07T18:47:12.604"
ORBIT_NUMBER = 9924
SPACECRAFT_CLOCK_START_COUNT = "0905280452:234"
PRODUCT_CREATION_TIME = 2011-11-11T08:53:06
SOFTWARE_NAME = "CTX_Finalizer (1.7 2011/06/20 22:58:41)"
NOTE = "Special map product for HiROC"
OBJECT = IMAGE_MAP_PROJECTION
  MAP_PROJECTION_TYPE = "EQUIRECTANGULAR"
  PROJECTION_LATITUDE_TYPE = PLANETOCENTRIC
  A_AXIS_RADIUS = 3396.19
  B_AXIS_RADIUS = 3396.19
  C_AXIS_RADIUS = 3376.2
  FIRST_STANDARD_PARALLEL = "N/A"
  SECOND_STANDARD_PARALLEL = "N/A"
  COORDINATE_SYSTEM_NAME = PLANETOCENTRIC
  POSITIVE_LONGITUDE_DIRECTION = EAST
  KEYWORD_LATITUDE_TYPE = PLANETOCENTRIC
  CENTER_LATITUDE = 0
  CENTER_LONGITUDE = 0.0
  LINE_FIRST_PIXEL = 1
  LINE_LAST_PIXEL = 50584
  SAMPLE_FIRST_PIXEL = 1
  SAMPLE_LAST_PIXEL = 11412
  MAP_PROJECTION_ROTATION = 0.0
  MAP_RESOLUTION = 11854.939504661
  MAP_SCALE = 0.005
  MAXIMUM_LATITUDE = -0.74695981367971
  MINIMUM_LATITUDE = -5.0138606033154
  EASTERNMOST_LONGITUDE = 217.57717063143
  WESTERNMOST_LONGITUDE = 216.61457871026
  LINE_PROJECTION_OFFSET = -8854.5
  SAMPLE_PROJECTION_OFFSET = -2567951.5
END_OBJECT = IMAGE_MAP_PROJECTION
/* The JPEG2000 image data file associated with this label. */
OBJECT = COMPRESSED_FILE
  FILE_NAME = "B01_009924_1771_XI_02S142W.JP2"
  RECORD_TYPE = UNDEFINED
  ENCODING_TYPE = "JP2"
  ENCODING_TYPE_VERSION_NAME = "ISO/IEC15444-1:2004"
  INTERCHANGE_FORMAT = BINARY
  /* The name of the original source file. */
  UNCOMPRESSED_FILE_NAME = "B01_009924_1771_XI_02S142W.6361.img"
  /* The amount of original image data. */
  REQUIRED_STORAGE_BYTES = 577264608
  ^DESCRIPTION = "JP2INFO.TXT"
END_OBJECT = COMPRESSED_FILE
/* The source image data definition. */
OBJECT = UNCOMPRESSED_FILE
  FILE_NAME = "B01_009924_1771_XI_02S142W.6361.img"
  RECORD_TYPE = FIXED_LENGTH
  RECORD_BYTES = 11412
  FILE_RECORDS = 50584
  ^IMAGE = "B01_009924_1771_XI_02S142W.6361.img"
  OBJECT = IMAGE
    LINES = 50584
    LINE_SAMPLES = 11412
    BANDS = 1
    CENTER_FILTER_WAVELENGTH = 0.65
    BANDWIDTH = 0.15
    BAND_STORAGE_TYPE = BAND_SEQUENTIAL
    OFFSET = 0.085013237563679
    SCALING_FACTOR = 3.10724294322229e-04
    SAMPLE_BITS = 8
    SAMPLE_BIT_MASK = 2#11111111#
    SAMPLE_TYPE = MSB_UNSIGNED_INTEGER
    CORE_NULL = 0
    CORE_LOW_REPR_SATURATION = 1
    CORE_LOW_INSTR_SATURATION = 1
    CORE_HIGH_REPR_SATURATION = 255
    CORE_HIGH_INSTR_SATURATION = 255
  END_OBJECT = IMAGE
END_OBJECT = UNCOMPRESSED_FILE
END
