PDS_VERSION_ID = PDS3
/* Identification Information */
DATA_SET_ID = "MRO-M-CTX-HiROC-V1.0"
PRODUCT_ID = "P22_009709_2094_XN_29N036W"
PRODUCER_INSTITUTION_NAME = "UNIVERSITY OF ARIZONA"
PRDOUCER_ID = "UA"
PRODUCER_FULL_NAME = "ALFRED MCEWEN"
SOURCE_PRODUCT_ID = NULL
MISSION_NAME = "MARS RECONNAISSANCE ORBITER"
SPACECRAFT_NAME = "MARS RECONNAISSANCE ORBITER"
INSTRUMENT_NAME = "CONTEXT CAMERA"
INSTRUMENT_ID = "MRO-CTX"
TARGET_NAME = "Mars"
START_TIME = "2008-08-22T00:52:27.688"
ORBIT_NUMBER = 9709
SPACECRAFT_CLOCK_START_COUNT = "0903833567:247"
PRODUCT_CREATION_TIME = 2011-11-06T19:56:37
SOFTWARE_NAME = "CTX_Finalizer (1.7 2011/06/20 22:58:41)"
NOTE = "Special map product for HiROC"
OBJECT = IMAGE_MAP_PROJECTION
  MAP_PROJECTION_TYPE = "EQUIRECTANGULAR"
  PROJECTION_LATITUDE_TYPE = PLANETOCENTRIC
  A_AXIS_RADIUS = 3396.19
  B_AXIS_RADIUS = 3396.19
  C_AXIS_RADIUS = 3376.2
  FIRST_STANDARD_PARALLEL = "N/A"
  SECOND_STANDARD_PARALLEL = "N/A"
  COORDINATE_SYSTEM_NAME = PLANETOCENTRIC
  POSITIVE_LONGITUDE_DIRECTION = EAST
  KEYWORD_LATITUDE_TYPE = PLANETOCENTRIC
  CENTER_LATITUDE = 25
  CENTER_LONGITUDE = 0.0
  LINE_FIRST_PIXEL = 1
  LINE_LAST_PIXEL = 62187
  SAMPLE_FIRST_PIXEL = 1
  SAMPLE_LAST_PIXEL = 13580
  MAP_PROJECTION_ROTATION = 0.0
  MAP_RESOLUTION = 11842.385738967
  MAP_SCALE = 0.005
  MAXIMUM_LATITUDE = 31.781892792833
  MINIMUM_LATITUDE = 26.530707177202
  EASTERNMOST_LONGITUDE = 323.77920830944
  WESTERNMOST_LONGITUDE = 322.51401480089
  LINE_PROJECTION_OFFSET = 376374.5
  SAMPLE_PROJECTION_OFFSET = -3461492.5
END_OBJECT = IMAGE_MAP_PROJECTION
/* The JPEG2000 image data file associated with this label. */
OBJECT = COMPRESSED_FILE
  FILE_NAME = "P22_009709_2094_XN_29N036W.JP2"
  RECORD_TYPE = UNDEFINED
  ENCODING_TYPE = "JP2"
  ENCODING_TYPE_VERSION_NAME = "ISO/IEC15444-1:2004"
  INTERCHANGE_FORMAT = BINARY
  /* The name of the original source file. */
  UNCOMPRESSED_FILE_NAME = "P22_009709_2094_XN_29N036W.26933.img"
  /* The amount of original image data. */
  REQUIRED_STORAGE_BYTES = 844499460
  ^DESCRIPTION = "JP2INFO.TXT"
END_OBJECT = COMPRESSED_FILE
/* The source image data definition. */
OBJECT = UNCOMPRESSED_FILE
  FILE_NAME = "P22_009709_2094_XN_29N036W.26933.img"
  RECORD_TYPE = FIXED_LENGTH
  RECORD_BYTES = 13580
  FILE_RECORDS = 62187
  ^IMAGE = "P22_009709_2094_XN_29N036W.26933.img"
  OBJECT = IMAGE
    LINES = 62187
    LINE_SAMPLES = 13580
    BANDS = 1
    CENTER_FILTER_WAVELENGTH = 0.65
    BANDWIDTH = 0.15
    BAND_STORAGE_TYPE = BAND_SEQUENTIAL
    OFFSET = 0.060343108821084
    SCALING_FACTOR = 2.39584296872201e-04
    SAMPLE_BITS = 8
    SAMPLE_BIT_MASK = 2#11111111#
    SAMPLE_TYPE = MSB_UNSIGNED_INTEGER
    CORE_NULL = 0
    CORE_LOW_REPR_SATURATION = 1
    CORE_LOW_INSTR_SATURATION = 1
    CORE_HIGH_REPR_SATURATION = 255
    CORE_HIGH_INSTR_SATURATION = 255
  END_OBJECT = IMAGE
END_OBJECT = UNCOMPRESSED_FILE
END
