PDS_VERSION_ID = PDS3
/* Identification Information */
DATA_SET_ID = "MRO-M-CTX-HiROC-V1.0"
PRODUCT_ID = "P21_009389_2118_XN_31N300W"
PRODUCER_INSTITUTION_NAME = "UNIVERSITY OF ARIZONA"
PRDOUCER_ID = "UA"
PRODUCER_FULL_NAME = "ALFRED MCEWEN"
SOURCE_PRODUCT_ID = NULL
MISSION_NAME = "MARS RECONNAISSANCE ORBITER"
SPACECRAFT_NAME = "MARS RECONNAISSANCE ORBITER"
INSTRUMENT_NAME = "CONTEXT CAMERA"
INSTRUMENT_ID = "MRO-CTX"
TARGET_NAME = "Mars"
START_TIME = "2008-07-28T02:26:12.000"
ORBIT_NUMBER = 9389
SPACECRAFT_CLOCK_START_COUNT = "0901679192:058"
PRODUCT_CREATION_TIME = 2011-10-30T22:27:22
SOFTWARE_NAME = "CTX_Finalizer (1.7 2011/06/20 22:58:41)"
NOTE = "Special map product for HiROC"
OBJECT = IMAGE_MAP_PROJECTION
  MAP_PROJECTION_TYPE = "EQUIRECTANGULAR"
  PROJECTION_LATITUDE_TYPE = PLANETOCENTRIC
  A_AXIS_RADIUS = 3396.19
  B_AXIS_RADIUS = 3396.19
  C_AXIS_RADIUS = 3376.2
  FIRST_STANDARD_PARALLEL = "N/A"
  SECOND_STANDARD_PARALLEL = "N/A"
  COORDINATE_SYSTEM_NAME = PLANETOCENTRIC
  POSITIVE_LONGITUDE_DIRECTION = EAST
  KEYWORD_LATITUDE_TYPE = PLANETOCENTRIC
  CENTER_LATITUDE = 30
  CENTER_LONGITUDE = 0.0
  LINE_FIRST_PIXEL = 1
  LINE_LAST_PIXEL = 58425
  SAMPLE_FIRST_PIXEL = 1
  SAMPLE_LAST_PIXEL = 12931
  MAP_PROJECTION_ROTATION = 0.0
  MAP_RESOLUTION = 11837.378799006
  MAP_SCALE = 0.005
  MAXIMUM_LATITUDE = 34.073137427341
  MINIMUM_LATITUDE = 29.137511252977
  EASTERNMOST_LONGITUDE = 59.875334848364
  WESTERNMOST_LONGITUDE = 58.614019294555
  LINE_PROJECTION_OFFSET = 403337.5
  SAMPLE_PROJECTION_OFFSET = -600878.5
END_OBJECT = IMAGE_MAP_PROJECTION
/* The JPEG2000 image data file associated with this label. */
OBJECT = COMPRESSED_FILE
  FILE_NAME = "P21_009389_2118_XN_31N300W.JP2"
  RECORD_TYPE = UNDEFINED
  ENCODING_TYPE = "JP2"
  ENCODING_TYPE_VERSION_NAME = "ISO/IEC15444-1:2004"
  INTERCHANGE_FORMAT = BINARY
  /* The name of the original source file. */
  UNCOMPRESSED_FILE_NAME = "P21_009389_2118_XN_31N300W.16837.img"
  /* The amount of original image data. */
  REQUIRED_STORAGE_BYTES = 755493675
  ^DESCRIPTION = "JP2INFO.TXT"
END_OBJECT = COMPRESSED_FILE
/* The source image data definition. */
OBJECT = UNCOMPRESSED_FILE
  FILE_NAME = "P21_009389_2118_XN_31N300W.16837.img"
  RECORD_TYPE = FIXED_LENGTH
  RECORD_BYTES = 12931
  FILE_RECORDS = 58425
  ^IMAGE = "P21_009389_2118_XN_31N300W.16837.img"
  OBJECT = IMAGE
    LINES = 58425
    LINE_SAMPLES = 12931
    BANDS = 1
    CENTER_FILTER_WAVELENGTH = 0.65
    BANDWIDTH = 0.15
    BAND_STORAGE_TYPE = BAND_SEQUENTIAL
    OFFSET = 0.091644154545266
    SCALING_FACTOR = 3.50658312698323e-04
    SAMPLE_BITS = 8
    SAMPLE_BIT_MASK = 2#11111111#
    SAMPLE_TYPE = MSB_UNSIGNED_INTEGER
    CORE_NULL = 0
    CORE_LOW_REPR_SATURATION = 1
    CORE_LOW_INSTR_SATURATION = 1
    CORE_HIGH_REPR_SATURATION = 255
    CORE_HIGH_INSTR_SATURATION = 255
  END_OBJECT = IMAGE
END_OBJECT = UNCOMPRESSED_FILE
END
