PDS_VERSION_ID = PDS3
/* Identification Information */
DATA_SET_ID = "MRO-M-CTX-HiROC-V1.0"
PRODUCT_ID = "P20_008861_1477_XN_32S276W"
PRODUCER_INSTITUTION_NAME = "UNIVERSITY OF ARIZONA"
PRDOUCER_ID = "UA"
PRODUCER_FULL_NAME = "ALFRED MCEWEN"
SOURCE_PRODUCT_ID = NULL
MISSION_NAME = "MARS RECONNAISSANCE ORBITER"
SPACECRAFT_NAME = "MARS RECONNAISSANCE ORBITER"
INSTRUMENT_NAME = "CONTEXT CAMERA"
INSTRUMENT_ID = "MRO-CTX"
TARGET_NAME = "Mars"
START_TIME = "2008-06-16T22:36:02.644"
ORBIT_NUMBER = 8861
SPACECRAFT_CLOCK_START_COUNT = "0898122982:202"
PRODUCT_CREATION_TIME = 2011-10-17T20:11:16
SOFTWARE_NAME = "CTX_Finalizer (1.7 2011/06/20 22:58:41)"
NOTE = "Special map product for HiROC"
OBJECT = IMAGE_MAP_PROJECTION
  MAP_PROJECTION_TYPE = "EQUIRECTANGULAR"
  PROJECTION_LATITUDE_TYPE = PLANETOCENTRIC
  A_AXIS_RADIUS = 3396.19
  B_AXIS_RADIUS = 3396.19
  C_AXIS_RADIUS = 3376.2
  FIRST_STANDARD_PARALLEL = "N/A"
  SECOND_STANDARD_PARALLEL = "N/A"
  COORDINATE_SYSTEM_NAME = PLANETOCENTRIC
  POSITIVE_LONGITUDE_DIRECTION = EAST
  KEYWORD_LATITUDE_TYPE = PLANETOCENTRIC
  CENTER_LATITUDE = -30
  CENTER_LONGITUDE = 0.0
  LINE_FIRST_PIXEL = 1
  LINE_LAST_PIXEL = 63155
  SAMPLE_FIRST_PIXEL = 1
  SAMPLE_LAST_PIXEL = 12883
  MAP_PROJECTION_ROTATION = 0.0
  MAP_RESOLUTION = 11837.378799006
  MAP_SCALE = 0.005
  MAXIMUM_LATITUDE = -29.400328682588
  MINIMUM_LATITUDE = -34.735482211191
  EASTERNMOST_LONGITUDE = 84.221491253963
  WESTERNMOST_LONGITUDE = 82.964785177312
  LINE_PROJECTION_OFFSET = -348021.5
  SAMPLE_PROJECTION_OFFSET = -850510.5
END_OBJECT = IMAGE_MAP_PROJECTION
/* The JPEG2000 image data file associated with this label. */
OBJECT = COMPRESSED_FILE
  FILE_NAME = "P20_008861_1477_XN_32S276W.JP2"
  RECORD_TYPE = UNDEFINED
  ENCODING_TYPE = "JP2"
  ENCODING_TYPE_VERSION_NAME = "ISO/IEC15444-1:2004"
  INTERCHANGE_FORMAT = BINARY
  /* The name of the original source file. */
  UNCOMPRESSED_FILE_NAME = "P20_008861_1477_XN_32S276W.24337.img"
  /* The amount of original image data. */
  REQUIRED_STORAGE_BYTES = 813625865
  ^DESCRIPTION = "JP2INFO.TXT"
END_OBJECT = COMPRESSED_FILE
/* The source image data definition. */
OBJECT = UNCOMPRESSED_FILE
  FILE_NAME = "P20_008861_1477_XN_32S276W.24337.img"
  RECORD_TYPE = FIXED_LENGTH
  RECORD_BYTES = 12883
  FILE_RECORDS = 63155
  ^IMAGE = "P20_008861_1477_XN_32S276W.24337.img"
  OBJECT = IMAGE
    LINES = 63155
    LINE_SAMPLES = 12883
    BANDS = 1
    CENTER_FILTER_WAVELENGTH = 0.65
    BANDWIDTH = 0.15
    BAND_STORAGE_TYPE = BAND_SEQUENTIAL
    OFFSET = 0.017912705011555
    SCALING_FACTOR = 2.25517251447424e-04
    SAMPLE_BITS = 8
    SAMPLE_BIT_MASK = 2#11111111#
    SAMPLE_TYPE = MSB_UNSIGNED_INTEGER
    CORE_NULL = 0
    CORE_LOW_REPR_SATURATION = 1
    CORE_LOW_INSTR_SATURATION = 1
    CORE_HIGH_REPR_SATURATION = 255
    CORE_HIGH_INSTR_SATURATION = 255
  END_OBJECT = IMAGE
END_OBJECT = UNCOMPRESSED_FILE
END
