PDS_VERSION_ID = PDS3
/* Identification Information */
DATA_SET_ID = "MRO-M-CTX-HiROC-V1.0"
PRODUCT_ID = "P16_007335_1845_XN_04N010W"
PRODUCER_INSTITUTION_NAME = "UNIVERSITY OF ARIZONA"
PRDOUCER_ID = "UA"
PRODUCER_FULL_NAME = "ALFRED MCEWEN"
SOURCE_PRODUCT_ID = NULL
MISSION_NAME = "MARS RECONNAISSANCE ORBITER"
SPACECRAFT_NAME = "MARS RECONNAISSANCE ORBITER"
INSTRUMENT_NAME = "CONTEXT CAMERA"
INSTRUMENT_ID = "MRO-CTX"
TARGET_NAME = "Mars"
START_TIME = "2008-02-19T00:21:38.193"
ORBIT_NUMBER = 7335
SPACECRAFT_CLOCK_START_COUNT = "0887847718:009"
PRODUCT_CREATION_TIME = 2011-08-22T18:16:19
SOFTWARE_NAME = "CTX_Finalizer (1.7 2011/06/20 22:58:41)"
NOTE = "Special map product for HiROC"
OBJECT = IMAGE_MAP_PROJECTION
  MAP_PROJECTION_TYPE = "EQUIRECTANGULAR"
  PROJECTION_LATITUDE_TYPE = PLANETOCENTRIC
  A_AXIS_RADIUS = 3396.19
  B_AXIS_RADIUS = 3396.19
  C_AXIS_RADIUS = 3376.2
  FIRST_STANDARD_PARALLEL = "N/A"
  SECOND_STANDARD_PARALLEL = "N/A"
  COORDINATE_SYSTEM_NAME = PLANETOCENTRIC
  POSITIVE_LONGITUDE_DIRECTION = EAST
  KEYWORD_LATITUDE_TYPE = PLANETOCENTRIC
  CENTER_LATITUDE = 0
  CENTER_LONGITUDE = 0.0
  LINE_FIRST_PIXEL = 1
  LINE_LAST_PIXEL = 62629
  SAMPLE_FIRST_PIXEL = 1
  SAMPLE_LAST_PIXEL = 12961
  MAP_PROJECTION_ROTATION = 0.0
  MAP_RESOLUTION = 11854.939504661
  MAP_SCALE = 0.005
  MAXIMUM_LATITUDE = 7.16428729749
  MINIMUM_LATITUDE = 1.881440271385
  EASTERNMOST_LONGITUDE = 349.92779102054
  WESTERNMOST_LONGITUDE = 348.8345120925
  LINE_PROJECTION_OFFSET = 84933.5
  SAMPLE_PROJECTION_OFFSET = -4135411.5
END_OBJECT = IMAGE_MAP_PROJECTION
/* The JPEG2000 image data file associated with this label. */
OBJECT = COMPRESSED_FILE
  FILE_NAME = "P16_007335_1845_XN_04N010W.JP2"
  RECORD_TYPE = UNDEFINED
  ENCODING_TYPE = "JP2"
  ENCODING_TYPE_VERSION_NAME = "ISO/IEC15444-1:2004"
  INTERCHANGE_FORMAT = BINARY
  /* The name of the original source file. */
  UNCOMPRESSED_FILE_NAME = "P16_007335_1845_XN_04N010W.431.img"
  /* The amount of original image data. */
  REQUIRED_STORAGE_BYTES = 811734469
  ^DESCRIPTION = "JP2INFO.TXT"
END_OBJECT = COMPRESSED_FILE
/* The source image data definition. */
OBJECT = UNCOMPRESSED_FILE
  FILE_NAME = "P16_007335_1845_XN_04N010W.431.img"
  RECORD_TYPE = FIXED_LENGTH
  RECORD_BYTES = 12961
  FILE_RECORDS = 62629
  ^IMAGE = "P16_007335_1845_XN_04N010W.431.img"
  OBJECT = IMAGE
    LINES = 62629
    LINE_SAMPLES = 12961
    BANDS = 1
    CENTER_FILTER_WAVELENGTH = 0.65
    BANDWIDTH = 0.15
    BAND_STORAGE_TYPE = BAND_SEQUENTIAL
    OFFSET = 0.077031444313776
    SCALING_FACTOR = 3.81797678352315e-04
    SAMPLE_BITS = 8
    SAMPLE_BIT_MASK = 2#11111111#
    SAMPLE_TYPE = MSB_UNSIGNED_INTEGER
    CORE_NULL = 0
    CORE_LOW_REPR_SATURATION = 1
    CORE_LOW_INSTR_SATURATION = 1
    CORE_HIGH_REPR_SATURATION = 255
    CORE_HIGH_INSTR_SATURATION = 255
  END_OBJECT = IMAGE
END_OBJECT = UNCOMPRESSED_FILE
END
