PDS_VERSION_ID = PDS3
/* Identification Information */
DATA_SET_ID = "MRO-M-CTX-HiROC-V1.0"
PRODUCT_ID = "P14_006677_1999_XI_19N046W"
PRODUCER_INSTITUTION_NAME = "UNIVERSITY OF ARIZONA"
PRDOUCER_ID = "UA"
PRODUCER_FULL_NAME = "ALFRED MCEWEN"
SOURCE_PRODUCT_ID = NULL
MISSION_NAME = "MARS RECONNAISSANCE ORBITER"
SPACECRAFT_NAME = "MARS RECONNAISSANCE ORBITER"
INSTRUMENT_NAME = "CONTEXT CAMERA"
INSTRUMENT_ID = "MRO-CTX"
TARGET_NAME = "Mars"
START_TIME = "2007-12-29T17:45:17.087"
ORBIT_NUMBER = 6677
SPACECRAFT_CLOCK_START_COUNT = "0883417536:217"
PRODUCT_CREATION_TIME = 2011-07-24T21:56:15
SOFTWARE_NAME = "CTX_Finalizer (1.7 2011/06/20 22:58:41)"
NOTE = "Special map product for HiROC"
OBJECT = IMAGE_MAP_PROJECTION
  MAP_PROJECTION_TYPE = "EQUIRECTANGULAR"
  PROJECTION_LATITUDE_TYPE = PLANETOCENTRIC
  A_AXIS_RADIUS = 3396.19
  B_AXIS_RADIUS = 3396.19
  C_AXIS_RADIUS = 3376.2
  FIRST_STANDARD_PARALLEL = "N/A"
  SECOND_STANDARD_PARALLEL = "N/A"
  COORDINATE_SYSTEM_NAME = PLANETOCENTRIC
  POSITIVE_LONGITUDE_DIRECTION = EAST
  KEYWORD_LATITUDE_TYPE = PLANETOCENTRIC
  CENTER_LATITUDE = 15
  CENTER_LONGITUDE = 0.0
  LINE_FIRST_PIXEL = 1
  LINE_LAST_PIXEL = 62314
  SAMPLE_FIRST_PIXEL = 1
  SAMPLE_LAST_PIXEL = 13328
  MAP_PROJECTION_ROTATION = 0.0
  MAP_RESOLUTION = 11850.226464032
  MAP_SCALE = 0.005
  MAXIMUM_LATITUDE = 22.371227044759
  MINIMUM_LATITUDE = 17.112868489612
  EASTERNMOST_LONGITUDE = 314.51022060544
  WESTERNMOST_LONGITUDE = 313.34584598454
  LINE_PROJECTION_OFFSET = 265105.5
  SAMPLE_PROJECTION_OFFSET = -3586693.5
END_OBJECT = IMAGE_MAP_PROJECTION
/* The JPEG2000 image data file associated with this label. */
OBJECT = COMPRESSED_FILE
  FILE_NAME = "P14_006677_1999_XI_19N046W.JP2"
  RECORD_TYPE = UNDEFINED
  ENCODING_TYPE = "JP2"
  ENCODING_TYPE_VERSION_NAME = "ISO/IEC15444-1:2004"
  INTERCHANGE_FORMAT = BINARY
  /* The name of the original source file. */
  UNCOMPRESSED_FILE_NAME = "P14_006677_1999_XI_19N046W.26286.img"
  /* The amount of original image data. */
  REQUIRED_STORAGE_BYTES = 830520992
  ^DESCRIPTION = "JP2INFO.TXT"
END_OBJECT = COMPRESSED_FILE
/* The source image data definition. */
OBJECT = UNCOMPRESSED_FILE
  FILE_NAME = "P14_006677_1999_XI_19N046W.26286.img"
  RECORD_TYPE = FIXED_LENGTH
  RECORD_BYTES = 13328
  FILE_RECORDS = 62314
  ^IMAGE = "P14_006677_1999_XI_19N046W.26286.img"
  OBJECT = IMAGE
    LINES = 62314
    LINE_SAMPLES = 13328
    BANDS = 1
    CENTER_FILTER_WAVELENGTH = 0.65
    BANDWIDTH = 0.15
    BAND_STORAGE_TYPE = BAND_SEQUENTIAL
    OFFSET = 0.10489551697826
    SCALING_FACTOR = 2.50146731864015e-04
    SAMPLE_BITS = 8
    SAMPLE_BIT_MASK = 2#11111111#
    SAMPLE_TYPE = MSB_UNSIGNED_INTEGER
    CORE_NULL = 0
    CORE_LOW_REPR_SATURATION = 1
    CORE_LOW_INSTR_SATURATION = 1
    CORE_HIGH_REPR_SATURATION = 255
    CORE_HIGH_INSTR_SATURATION = 255
  END_OBJECT = IMAGE
END_OBJECT = UNCOMPRESSED_FILE
END
