PDS_VERSION_ID = PDS3
/* Identification Information */
DATA_SET_ID = "MRO-M-CTX-HiROC-V1.0"
PRODUCT_ID = "P12_005836_0937_XN_86S066W"
PRODUCER_INSTITUTION_NAME = "UNIVERSITY OF ARIZONA"
PRDOUCER_ID = "UA"
PRODUCER_FULL_NAME = "ALFRED MCEWEN"
SOURCE_PRODUCT_ID = NULL
MISSION_NAME = "MARS RECONNAISSANCE ORBITER"
SPACECRAFT_NAME = "MARS RECONNAISSANCE ORBITER"
INSTRUMENT_NAME = "CONTEXT CAMERA"
INSTRUMENT_ID = "MRO-CTX"
TARGET_NAME = "Mars"
START_TIME = "2007-10-25T04:17:34.033"
ORBIT_NUMBER = 5836
SPACECRAFT_CLOCK_START_COUNT = "0877753073:177"
PRODUCT_CREATION_TIME = 2011-06-21T10:30:10
SOFTWARE_NAME = "CTX_Finalizer (1.6 2011/03/23 20:46:37)"
NOTE = "Special map product for HiROC"
OBJECT = IMAGE_MAP_PROJECTION
  MAP_PROJECTION_TYPE = "POLAR STEREOGRAPHIC"
  PROJECTION_LATITUDE_TYPE = PLANETOCENTRIC
  A_AXIS_RADIUS = 3396.19
  B_AXIS_RADIUS = 3396.19
  C_AXIS_RADIUS = 3376.2
  FIRST_STANDARD_PARALLEL = "N/A"
  SECOND_STANDARD_PARALLEL = "N/A"
  COORDINATE_SYSTEM_NAME = PLANETOCENTRIC
  POSITIVE_LONGITUDE_DIRECTION = EAST
  KEYWORD_LATITUDE_TYPE = PLANETOCENTRIC
  CENTER_LATITUDE = -90.0
  CENTER_LONGITUDE = 0.0
  LINE_FIRST_PIXEL = 1
  LINE_LAST_PIXEL = 31453
  SAMPLE_FIRST_PIXEL = 1
  SAMPLE_LAST_PIXEL = 59244
  MAP_PROJECTION_ROTATION = 0.0
  MAP_RESOLUTION = 11785.161241167
  MAP_SCALE = 0.005
  MAXIMUM_LATITUDE = -84.116527951229
  MINIMUM_LATITUDE = -87.462371422129
  EASTERNMOST_LONGITUDE = 340.72759990802
  WESTERNMOST_LONGITUDE = 271.10692033966
  LINE_PROJECTION_OFFSET = 32748.5
  SAMPLE_PROJECTION_OFFSET = 69165.5
END_OBJECT = IMAGE_MAP_PROJECTION
/* The JPEG2000 image data file associated with this label. */
OBJECT = COMPRESSED_FILE
  FILE_NAME = "P12_005836_0937_XN_86S066W.JP2"
  RECORD_TYPE = UNDEFINED
  ENCODING_TYPE = "JP2"
  ENCODING_TYPE_VERSION_NAME = "ISO/IEC15444-1:2004"
  INTERCHANGE_FORMAT = BINARY
  /* The name of the original source file. */
  UNCOMPRESSED_FILE_NAME = "P12_005836_0937_XN_86S066W.29299.img"
  /* The amount of original image data. */
  REQUIRED_STORAGE_BYTES = 1863401532
  ^DESCRIPTION = "JP2INFO.TXT"
END_OBJECT = COMPRESSED_FILE
/* The source image data definition. */
OBJECT = UNCOMPRESSED_FILE
  FILE_NAME = "P12_005836_0937_XN_86S066W.29299.img"
  RECORD_TYPE = FIXED_LENGTH
  RECORD_BYTES = 59244
  FILE_RECORDS = 31453
  ^IMAGE = "P12_005836_0937_XN_86S066W.29299.img"
  OBJECT = IMAGE
    LINES = 31453
    LINE_SAMPLES = 59244
    BANDS = 1
    CENTER_FILTER_WAVELENGTH = 0.65
    BANDWIDTH = 0.15
    BAND_STORAGE_TYPE = BAND_SEQUENTIAL
    OFFSET = 0.03281618033274
    SCALING_FACTOR = 2.65891612025231e-04
    SAMPLE_BITS = 8
    SAMPLE_BIT_MASK = 2#11111111#
    SAMPLE_TYPE = MSB_UNSIGNED_INTEGER
    CORE_NULL = 0
    CORE_LOW_REPR_SATURATION = 1
    CORE_LOW_INSTR_SATURATION = 1
    CORE_HIGH_REPR_SATURATION = 255
    CORE_HIGH_INSTR_SATURATION = 255
  END_OBJECT = IMAGE
END_OBJECT = UNCOMPRESSED_FILE
END
