PDS_VERSION_ID = PDS3
/* Identification Information */
DATA_SET_ID = "MRO-M-CTX-HiROC-V1.0"
PRODUCT_ID = "P08_004137_1904_XI_10N178W"
PRODUCER_INSTITUTION_NAME = "UNIVERSITY OF ARIZONA"
PRDOUCER_ID = "UA"
PRODUCER_FULL_NAME = "ALFRED MCEWEN"
SOURCE_PRODUCT_ID = NULL
MISSION_NAME = "MARS RECONNAISSANCE ORBITER"
SPACECRAFT_NAME = "MARS RECONNAISSANCE ORBITER"
INSTRUMENT_NAME = "CONTEXT CAMERA"
INSTRUMENT_ID = "MRO-CTX"
TARGET_NAME = "MARS"
START_TIME = "2007-06-14T19:26:59.459"
ORBIT_NUMBER = 4137
SPACECRAFT_CLOCK_START_COUNT = "0866316438:223"
PRODUCT_CREATION_TIME = 2011-03-15T05:56:30
SOFTWARE_NAME = "CTX_Finalizer (1.4 2010/08/25 21:53:25)"
NOTE = "Special map product for HiROC"
OBJECT = IMAGE_MAP_PROJECTION
  MAP_PROJECTION_TYPE = "EQUIRECTANGULAR"
  PROJECTION_LATITUDE_TYPE = PLANETOCENTRIC
  A_AXIS_RADIUS = 3396.19
  B_AXIS_RADIUS = 3396.19
  C_AXIS_RADIUS = 3376.2
  FIRST_STANDARD_PARALLEL = "N/A"
  SECOND_STANDARD_PARALLEL = "N/A"
  COORDINATE_SYSTEM_NAME = PLANETOCENTRIC
  POSITIVE_LONGITUDE_DIRECTION = EAST
  KEYWORD_LATITUDE_TYPE = PLANETOCENTRIC
  CENTER_LATITUDE = 10
  CENTER_LONGITUDE = 0.0
  LINE_FIRST_PIXEL = 1
  LINE_LAST_PIXEL = 62482
  SAMPLE_FIRST_PIXEL = 1
  SAMPLE_LAST_PIXEL = 13071
  MAP_PROJECTION_ROTATION = 0.0
  MAP_RESOLUTION = 11852.817278819
  MAP_SCALE = 5.0
  MAXIMUM_LATITUDE = 12.935642152352
  MINIMUM_LATITUDE = 7.6641836058142
  EASTERNMOST_LONGITUDE = 182.29720864133
  WESTERNMOST_LONGITUDE = 181.17747753006
  LINE_PROJECTION_OFFSET = 153324.5
  SAMPLE_PROJECTION_OFFSET = -2114837.5
END_OBJECT = IMAGE_MAP_PROJECTION
/* The JPEG2000 image data file associated with this label. */
OBJECT = COMPRESSED_FILE
  FILE_NAME = "P08_004137_1904_XI_10N178W.JP2"
  RECORD_TYPE = UNDEFINED
  ENCODING_TYPE = "JP2"
  ENCODING_TYPE_VERSION_NAME = "ISO/IEC15444-1:2004"
  INTERCHANGE_FORMAT = BINARY
  /* The name of the original source file. */
  UNCOMPRESSED_FILE_NAME = "P08_004137_1904_XI_10N178W.14046.img"
  /* The amount of original image data. */
  REQUIRED_STORAGE_BYTES = 816702222
  ^DESCRIPTION = "JP2INFO.TXT"
END_OBJECT = COMPRESSED_FILE
/* The source image data definition. */
OBJECT = UNCOMPRESSED_FILE
  FILE_NAME = "P08_004137_1904_XI_10N178W.14046.img"
  RECORD_TYPE = FIXED_LENGTH
  RECORD_BYTES = 13071
  FILE_RECORDS = 62482
  ^IMAGE = "P08_004137_1904_XI_10N178W.14046.img"
  OBJECT = IMAGE
    LINES = 62482
    LINE_SAMPLES = 13071
    BANDS = 1
    CENTER_FILTER_WAVELENGTH = 0.65
    BANDWIDTH = 0.15
    BAND_STORAGE_TYPE = BAND_SEQUENTIAL
    OFFSET = 0.10364398687516
    SCALING_FACTOR = 1.41885277516802e-04
    SAMPLE_BITS = 8
    SAMPLE_BIT_MASK = 2#11111111#
    SAMPLE_TYPE = MSB_UNSIGNED_INTEGER
    CORE_NULL = 0
    CORE_LOW_REPR_SATURATION = 1
    CORE_LOW_INSTR_SATURATION = 1
    CORE_HIGH_REPR_SATURATION = 255
    CORE_HIGH_INSTR_SATURATION = 255
  END_OBJECT = IMAGE
END_OBJECT = UNCOMPRESSED_FILE
END
