PDS_VERSION_ID = PDS3
/* Identification Information */
DATA_SET_ID = "MRO-M-CTX-HiROC-V1.0"
PRODUCT_ID = "P03_002332_2053_XN_25N221W"
PRODUCER_INSTITUTION_NAME = "UNIVERSITY OF ARIZONA"
PRDOUCER_ID = "UA"
PRODUCER_FULL_NAME = "ALFRED MCEWEN"
SOURCE_PRODUCT_ID = NULL
MISSION_NAME = "MARS RECONNAISSANCE ORBITER"
SPACECRAFT_NAME = "MARS RECONNAISSANCE ORBITER"
INSTRUMENT_NAME = "CONTEXT CAMERA"
INSTRUMENT_ID = "MRO-CTX"
TARGET_NAME = "MARS"
START_TIME = "2007-01-25T03:59:45.617"
ORBIT_NUMBER = 2332
SPACECRAFT_CLOCK_START_COUNT = "0854164804:130"
PRODUCT_CREATION_TIME = 2011-02-02T13:17:13
SOFTWARE_NAME = "CTX_Finalizer (1.4 2010/08/25 21:53:25)"
NOTE = "Special map product for HiROC"
OBJECT = IMAGE_MAP_PROJECTION
  MAP_PROJECTION_TYPE = "EQUIRECTANGULAR"
  PROJECTION_LATITUDE_TYPE = PLANETOCENTRIC
  A_AXIS_RADIUS = 3396.19
  B_AXIS_RADIUS = 3396.19
  C_AXIS_RADIUS = 3376.2
  FIRST_STANDARD_PARALLEL = "N/A"
  SECOND_STANDARD_PARALLEL = "N/A"
  COORDINATE_SYSTEM_NAME = PLANETOCENTRIC
  POSITIVE_LONGITUDE_DIRECTION = EAST
  KEYWORD_LATITUDE_TYPE = PLANETOCENTRIC
  CENTER_LATITUDE = 25
  CENTER_LONGITUDE = 0.0
  LINE_FIRST_PIXEL = 1
  LINE_LAST_PIXEL = 27195
  SAMPLE_FIRST_PIXEL = 1
  SAMPLE_LAST_PIXEL = 8822
  MAP_PROJECTION_ROTATION = 0.0
  MAP_RESOLUTION = 11842.385738967
  MAP_SCALE = 5.0
  MAXIMUM_LATITUDE = 26.274873794166
  MINIMUM_LATITUDE = 23.978521841638
  EASTERNMOST_LONGITUDE = 138.6649674399
  WESTERNMOST_LONGITUDE = 137.84310500382
  LINE_PROJECTION_OFFSET = 311158.5
  SAMPLE_PROJECTION_OFFSET = -1479447.5
END_OBJECT = IMAGE_MAP_PROJECTION
/* The JPEG2000 image data file associated with this label. */
OBJECT = COMPRESSED_FILE
  FILE_NAME = "P03_002332_2053_XN_25N221W.JP2"
  RECORD_TYPE = UNDEFINED
  ENCODING_TYPE = "JP2"
  ENCODING_TYPE_VERSION_NAME = "ISO/IEC15444-1:2004"
  INTERCHANGE_FORMAT = BINARY
  /* The name of the original source file. */
  UNCOMPRESSED_FILE_NAME = "P03_002332_2053_XN_25N221W.15553.img"
  /* The amount of original image data. */
  REQUIRED_STORAGE_BYTES = 239914290
  ^DESCRIPTION = "JP2INFO.TXT"
END_OBJECT = COMPRESSED_FILE
/* The source image data definition. */
OBJECT = UNCOMPRESSED_FILE
  FILE_NAME = "P03_002332_2053_XN_25N221W.15553.img"
  RECORD_TYPE = FIXED_LENGTH
  RECORD_BYTES = 8822
  FILE_RECORDS = 27195
  ^IMAGE = "P03_002332_2053_XN_25N221W.15553.img"
  OBJECT = IMAGE
    LINES = 27195
    LINE_SAMPLES = 8822
    BANDS = 1
    CENTER_FILTER_WAVELENGTH = 0.65
    BANDWIDTH = 0.15
    BAND_STORAGE_TYPE = BAND_SEQUENTIAL
    OFFSET = 0.056015355887971
    SCALING_FACTOR = 4.70205768473532e-04
    SAMPLE_BITS = 8
    SAMPLE_BIT_MASK = 2#11111111#
    SAMPLE_TYPE = MSB_UNSIGNED_INTEGER
    CORE_NULL = 0
    CORE_LOW_REPR_SATURATION = 1
    CORE_LOW_INSTR_SATURATION = 1
    CORE_HIGH_REPR_SATURATION = 255
    CORE_HIGH_INSTR_SATURATION = 255
  END_OBJECT = IMAGE
END_OBJECT = UNCOMPRESSED_FILE
END
