PDS_VERSION_ID = PDS3
/* Identification Information */
DATA_SET_ID = "MRO-M-CTX-HiROC-V1.0"
PRODUCT_ID = "P03_002286_1402_XI_39S038W"
PRODUCER_INSTITUTION_NAME = "UNIVERSITY OF ARIZONA"
PRDOUCER_ID = "UA"
PRODUCER_FULL_NAME = "ALFRED MCEWEN"
SOURCE_PRODUCT_ID = NULL
MISSION_NAME = "MARS RECONNAISSANCE ORBITER"
SPACECRAFT_NAME = "MARS RECONNAISSANCE ORBITER"
INSTRUMENT_NAME = "CONTEXT CAMERA"
INSTRUMENT_ID = "MRO-CTX"
TARGET_NAME = "MARS"
START_TIME = "2007-01-21T13:38:20.042"
ORBIT_NUMBER = 2286
SPACECRAFT_CLOCK_START_COUNT = "0853853918:238"
PRODUCT_CREATION_TIME = 2011-02-02T00:29:41
SOFTWARE_NAME = "CTX_Finalizer (1.4 2010/08/25 21:53:25)"
NOTE = "Special map product for HiROC"
OBJECT = IMAGE_MAP_PROJECTION
  MAP_PROJECTION_TYPE = "EQUIRECTANGULAR"
  PROJECTION_LATITUDE_TYPE = PLANETOCENTRIC
  A_AXIS_RADIUS = 3396.19
  B_AXIS_RADIUS = 3396.19
  C_AXIS_RADIUS = 3376.2
  FIRST_STANDARD_PARALLEL = "N/A"
  SECOND_STANDARD_PARALLEL = "N/A"
  COORDINATE_SYSTEM_NAME = PLANETOCENTRIC
  POSITIVE_LONGITUDE_DIRECTION = EAST
  KEYWORD_LATITUDE_TYPE = PLANETOCENTRIC
  CENTER_LATITUDE = -35
  CENTER_LONGITUDE = 0.0
  LINE_FIRST_PIXEL = 1
  LINE_LAST_PIXEL = 20192
  SAMPLE_FIRST_PIXEL = 1
  SAMPLE_LAST_PIXEL = 7730
  MAP_PROJECTION_ROTATION = 0.0
  MAP_RESOLUTION = 11831.846526548
  MAP_SCALE = 5.0
  MAXIMUM_LATITUDE = -38.755675710766
  MINIMUM_LATITUDE = -40.462204954055
  EASTERNMOST_LONGITUDE = 322.00065517841
  WESTERNMOST_LONGITUDE = 321.20317228275
  LINE_PROJECTION_OFFSET = -458550.5
  SAMPLE_PROJECTION_OFFSET = -3113126.5
END_OBJECT = IMAGE_MAP_PROJECTION
/* The JPEG2000 image data file associated with this label. */
OBJECT = COMPRESSED_FILE
  FILE_NAME = "P03_002286_1402_XI_39S038W.JP2"
  RECORD_TYPE = UNDEFINED
  ENCODING_TYPE = "JP2"
  ENCODING_TYPE_VERSION_NAME = "ISO/IEC15444-1:2004"
  INTERCHANGE_FORMAT = BINARY
  /* The name of the original source file. */
  UNCOMPRESSED_FILE_NAME = "P03_002286_1402_XI_39S038W.3904.img"
  /* The amount of original image data. */
  REQUIRED_STORAGE_BYTES = 156084160
  ^DESCRIPTION = "JP2INFO.TXT"
END_OBJECT = COMPRESSED_FILE
/* The source image data definition. */
OBJECT = UNCOMPRESSED_FILE
  FILE_NAME = "P03_002286_1402_XI_39S038W.3904.img"
  RECORD_TYPE = FIXED_LENGTH
  RECORD_BYTES = 7730
  FILE_RECORDS = 20192
  ^IMAGE = "P03_002286_1402_XI_39S038W.3904.img"
  OBJECT = IMAGE
    LINES = 20192
    LINE_SAMPLES = 7730
    BANDS = 1
    CENTER_FILTER_WAVELENGTH = 0.65
    BANDWIDTH = 0.15
    BAND_STORAGE_TYPE = BAND_SEQUENTIAL
    OFFSET = 0.052087571652535
    SCALING_FACTOR = 1.04688514336437e-04
    SAMPLE_BITS = 8
    SAMPLE_BIT_MASK = 2#11111111#
    SAMPLE_TYPE = MSB_UNSIGNED_INTEGER
    CORE_NULL = 0
    CORE_LOW_REPR_SATURATION = 1
    CORE_LOW_INSTR_SATURATION = 1
    CORE_HIGH_REPR_SATURATION = 255
    CORE_HIGH_INSTR_SATURATION = 255
  END_OBJECT = IMAGE
END_OBJECT = UNCOMPRESSED_FILE
END
