PDS_VERSION_ID = PDS3
/* Identification Information */
DATA_SET_ID = "MRO-M-CTX-HiROC-V1.0"
PRODUCT_ID = "W01_089479_2109_XN_30N121W"
PRODUCER_INSTITUTION_NAME = "UNIVERSITY OF ARIZONA"
PRDOUCER_ID = "UA"
PRODUCER_FULL_NAME = "ALFRED MCEWEN"
SOURCE_PRODUCT_ID = NULL
MISSION_NAME = "MARS RECONNAISSANCE ORBITER"
SPACECRAFT_NAME = "MARS RECONNAISSANCE ORBITER"
INSTRUMENT_NAME = "CONTEXT CAMERA"
INSTRUMENT_ID = "MRO-CTX"
TARGET_NAME = "MARS"
START_TIME = "2025-08-28T13:45:56.458"
ORBIT_NUMBER = 89479
SPACECRAFT_CLOCK_START_COUNT = "1440856018:058"
PRODUCT_CREATION_TIME = 2025-12-08T00:04:44
SOFTWARE_NAME = "CTX_Finalizer (1.10 2020/04/29 05:19:10)"
NOTE = "Special map product for HiROC"
OBJECT = IMAGE_MAP_PROJECTION
  MAP_PROJECTION_TYPE = "EQUIRECTANGULAR"
  PROJECTION_LATITUDE_TYPE = PLANETOCENTRIC
  A_AXIS_RADIUS = 3396.19
  B_AXIS_RADIUS = 3396.19
  C_AXIS_RADIUS = 3376.2
  FIRST_STANDARD_PARALLEL = "N/A"
  SECOND_STANDARD_PARALLEL = "N/A"
  COORDINATE_SYSTEM_NAME = PLANETOCENTRIC
  POSITIVE_LONGITUDE_DIRECTION = EAST
  KEYWORD_LATITUDE_TYPE = PLANETOCENTRIC
  CENTER_LATITUDE = 30
  CENTER_LONGITUDE = 238.45407767806
  LINE_FIRST_PIXEL = 1
  LINE_LAST_PIXEL = 62105
  SAMPLE_FIRST_PIXEL = 1
  SAMPLE_LAST_PIXEL = 13122
  MAP_PROJECTION_ROTATION = 0.0
  MAP_RESOLUTION = 11837.378799006
  MAP_SCALE = 0.005
  MAXIMUM_LATITUDE = 33.342634636726
  MINIMUM_LATITUDE = 28.096211446858
  EASTERNMOST_LONGITUDE = 239.09404337753
  WESTERNMOST_LONGITUDE = 237.81411197859
  LINE_PROJECTION_OFFSET = 394689.5
  SAMPLE_PROJECTION_OFFSET = 6560.5
END_OBJECT = IMAGE_MAP_PROJECTION
/* The JPEG2000 image data file associated with this label. */
OBJECT = COMPRESSED_FILE
  FILE_NAME = "W01_089479_2109_XN_30N121W.JP2"
  RECORD_TYPE = UNDEFINED
  ENCODING_TYPE = "JP2"
  ENCODING_TYPE_VERSION_NAME = "ISO/IEC15444-1:2004"
  INTERCHANGE_FORMAT = BINARY
  /* The name of the original source file. */
  UNCOMPRESSED_FILE_NAME = "W01_089479_2109_XN_30N121W.3282669.img"
  /* The amount of original image data. */
  REQUIRED_STORAGE_BYTES = 814941810
  ^DESCRIPTION = "JP2INFO.TXT"
END_OBJECT = COMPRESSED_FILE
/* The source image data definition. */
OBJECT = UNCOMPRESSED_FILE
  FILE_NAME = "W01_089479_2109_XN_30N121W.3282669.img"
  RECORD_TYPE = FIXED_LENGTH
  RECORD_BYTES = 13122
  FILE_RECORDS = 62105
  ^IMAGE = "W01_089479_2109_XN_30N121W.3282669.img"
  OBJECT = IMAGE
    LINES = 62105
    LINE_SAMPLES = 13122
    BANDS = 1
    CENTER_FILTER_WAVELENGTH = 0.65
    BANDWIDTH = 0.15
    BAND_STORAGE_TYPE = BAND_SEQUENTIAL
    OFFSET = 0.081606752900072
    SCALING_FACTOR = 4.5748166118458e-04
    SAMPLE_BITS = 8
    SAMPLE_BIT_MASK = 2#11111111#
    SAMPLE_TYPE = MSB_UNSIGNED_INTEGER
    CORE_NULL = 0
    CORE_LOW_REPR_SATURATION = 1
    CORE_LOW_INSTR_SATURATION = 1
    CORE_HIGH_REPR_SATURATION = 255
    CORE_HIGH_INSTR_SATURATION = 255
  END_OBJECT = IMAGE
END_OBJECT = UNCOMPRESSED_FILE
END
