PDS_VERSION_ID = PDS3
/* Identification Information */
DATA_SET_ID = "MRO-M-CTX-HiROC-V1.0"
PRODUCT_ID = "V21_088174_1753_XI_04S126W"
PRODUCER_INSTITUTION_NAME = "UNIVERSITY OF ARIZONA"
PRDOUCER_ID = "UA"
PRODUCER_FULL_NAME = "ALFRED MCEWEN"
SOURCE_PRODUCT_ID = NULL
MISSION_NAME = "MARS RECONNAISSANCE ORBITER"
SPACECRAFT_NAME = "MARS RECONNAISSANCE ORBITER"
INSTRUMENT_NAME = "CONTEXT CAMERA"
INSTRUMENT_ID = "MRO-CTX"
TARGET_NAME = "MARS"
START_TIME = "2025-05-18T20:54:33.351"
ORBIT_NUMBER = 88174
SPACECRAFT_CLOCK_START_COUNT = "1432068934:202"
PRODUCT_CREATION_TIME = 2025-09-18T16:06:10
SOFTWARE_NAME = "CTX_Finalizer (1.10 2020/04/29 05:19:10)"
NOTE = "Special map product for HiROC"
OBJECT = IMAGE_MAP_PROJECTION
  MAP_PROJECTION_TYPE = "EQUIRECTANGULAR"
  PROJECTION_LATITUDE_TYPE = PLANETOCENTRIC
  A_AXIS_RADIUS = 3396.19
  B_AXIS_RADIUS = 3396.19
  C_AXIS_RADIUS = 3376.2
  FIRST_STANDARD_PARALLEL = "N/A"
  SECOND_STANDARD_PARALLEL = "N/A"
  COORDINATE_SYSTEM_NAME = PLANETOCENTRIC
  POSITIVE_LONGITUDE_DIRECTION = EAST
  KEYWORD_LATITUDE_TYPE = PLANETOCENTRIC
  CENTER_LATITUDE = 0
  CENTER_LONGITUDE = 233.66565863054
  LINE_FIRST_PIXEL = 1
  LINE_LAST_PIXEL = 8891
  SAMPLE_FIRST_PIXEL = 1
  SAMPLE_LAST_PIXEL = 3607
  MAP_PROJECTION_ROTATION = 0.0
  MAP_RESOLUTION = 5927.4697523306
  MAP_SCALE = 0.01
  MAXIMUM_LATITUDE = -4.0096644122943
  MINIMUM_LATITUDE = -5.5096808457383
  EASTERNMOST_LONGITUDE = 233.96988653087
  WESTERNMOST_LONGITUDE = 233.36143073021
  LINE_PROJECTION_OFFSET = -23767.5
  SAMPLE_PROJECTION_OFFSET = 1803.5
END_OBJECT = IMAGE_MAP_PROJECTION
/* The JPEG2000 image data file associated with this label. */
OBJECT = COMPRESSED_FILE
  FILE_NAME = "V21_088174_1753_XI_04S126W.JP2"
  RECORD_TYPE = UNDEFINED
  ENCODING_TYPE = "JP2"
  ENCODING_TYPE_VERSION_NAME = "ISO/IEC15444-1:2004"
  INTERCHANGE_FORMAT = BINARY
  /* The name of the original source file. */
  UNCOMPRESSED_FILE_NAME = "V21_088174_1753_XI_04S126W.2772247.img"
  /* The amount of original image data. */
  REQUIRED_STORAGE_BYTES = 32069837
  ^DESCRIPTION = "JP2INFO.TXT"
END_OBJECT = COMPRESSED_FILE
/* The source image data definition. */
OBJECT = UNCOMPRESSED_FILE
  FILE_NAME = "V21_088174_1753_XI_04S126W.2772247.img"
  RECORD_TYPE = FIXED_LENGTH
  RECORD_BYTES = 3607
  FILE_RECORDS = 8891
  ^IMAGE = "V21_088174_1753_XI_04S126W.2772247.img"
  OBJECT = IMAGE
    LINES = 8891
    LINE_SAMPLES = 3607
    BANDS = 1
    CENTER_FILTER_WAVELENGTH = 0.65
    BANDWIDTH = 0.15
    BAND_STORAGE_TYPE = BAND_SEQUENTIAL
    OFFSET = 0.14864023406875
    SCALING_FACTOR = 5.60014243872397e-04
    SAMPLE_BITS = 8
    SAMPLE_BIT_MASK = 2#11111111#
    SAMPLE_TYPE = MSB_UNSIGNED_INTEGER
    CORE_NULL = 0
    CORE_LOW_REPR_SATURATION = 1
    CORE_LOW_INSTR_SATURATION = 1
    CORE_HIGH_REPR_SATURATION = 255
    CORE_HIGH_INSTR_SATURATION = 255
  END_OBJECT = IMAGE
END_OBJECT = UNCOMPRESSED_FILE
END
