PDS_VERSION_ID = PDS3
/* Identification Information */
DATA_SET_ID = "MRO-M-CTX-HiROC-V1.0"
PRODUCT_ID = "U19_078328_1836_XI_03N234W"
PRODUCER_INSTITUTION_NAME = "UNIVERSITY OF ARIZONA"
PRDOUCER_ID = "UA"
PRODUCER_FULL_NAME = "ALFRED MCEWEN"
SOURCE_PRODUCT_ID = NULL
MISSION_NAME = "MARS RECONNAISSANCE ORBITER"
SPACECRAFT_NAME = "MARS RECONNAISSANCE ORBITER"
INSTRUMENT_NAME = "CONTEXT CAMERA"
INSTRUMENT_ID = "MRO-CTX"
TARGET_NAME = "MARS"
START_TIME = "2023-04-12T15:28:02.710"
ORBIT_NUMBER = 78328
SPACECRAFT_CLOCK_START_COUNT = "1365780541:228"
PRODUCT_CREATION_TIME = 2023-12-08T16:25:39
SOFTWARE_NAME = "CTX_Finalizer (1.10 2020/04/29 05:19:10)"
NOTE = "Special map product for HiROC"
OBJECT = IMAGE_MAP_PROJECTION
  MAP_PROJECTION_TYPE = "EQUIRECTANGULAR"
  PROJECTION_LATITUDE_TYPE = PLANETOCENTRIC
  A_AXIS_RADIUS = 3396.19
  B_AXIS_RADIUS = 3396.19
  C_AXIS_RADIUS = 3376.2
  FIRST_STANDARD_PARALLEL = "N/A"
  SECOND_STANDARD_PARALLEL = "N/A"
  COORDINATE_SYSTEM_NAME = PLANETOCENTRIC
  POSITIVE_LONGITUDE_DIRECTION = EAST
  KEYWORD_LATITUDE_TYPE = PLANETOCENTRIC
  CENTER_LATITUDE = 0
  CENTER_LONGITUDE = 125.68090398329
  LINE_FIRST_PIXEL = 1
  LINE_LAST_PIXEL = 62631
  SAMPLE_FIRST_PIXEL = 1
  SAMPLE_LAST_PIXEL = 12945
  MAP_PROJECTION_ROTATION = 0.0
  MAP_RESOLUTION = 11854.939504661
  MAP_SCALE = 0.005
  MAXIMUM_LATITUDE = 6.1748702604234
  MINIMUM_LATITUDE = 0.89177253480542
  EASTERNMOST_LONGITUDE = 126.22687248335
  WESTERNMOST_LONGITUDE = 125.13493548323
  LINE_PROJECTION_OFFSET = 73202.5
  SAMPLE_PROJECTION_OFFSET = 6472.5
END_OBJECT = IMAGE_MAP_PROJECTION
/* The JPEG2000 image data file associated with this label. */
OBJECT = COMPRESSED_FILE
  FILE_NAME = "U19_078328_1836_XI_03N234W.JP2"
  RECORD_TYPE = UNDEFINED
  ENCODING_TYPE = "JP2"
  ENCODING_TYPE_VERSION_NAME = "ISO/IEC15444-1:2004"
  INTERCHANGE_FORMAT = BINARY
  /* The name of the original source file. */
  UNCOMPRESSED_FILE_NAME = "U19_078328_1836_XI_03N234W.18099.img"
  /* The amount of original image data. */
  REQUIRED_STORAGE_BYTES = 810758295
  ^DESCRIPTION = "JP2INFO.TXT"
END_OBJECT = COMPRESSED_FILE
/* The source image data definition. */
OBJECT = UNCOMPRESSED_FILE
  FILE_NAME = "U19_078328_1836_XI_03N234W.18099.img"
  RECORD_TYPE = FIXED_LENGTH
  RECORD_BYTES = 12945
  FILE_RECORDS = 62631
  ^IMAGE = "U19_078328_1836_XI_03N234W.18099.img"
  OBJECT = IMAGE
    LINES = 62631
    LINE_SAMPLES = 12945
    BANDS = 1
    CENTER_FILTER_WAVELENGTH = 0.65
    BANDWIDTH = 0.15
    BAND_STORAGE_TYPE = BAND_SEQUENTIAL
    OFFSET = 0.092842231218121
    SCALING_FACTOR = 3.10638063699198e-04
    SAMPLE_BITS = 8
    SAMPLE_BIT_MASK = 2#11111111#
    SAMPLE_TYPE = MSB_UNSIGNED_INTEGER
    CORE_NULL = 0
    CORE_LOW_REPR_SATURATION = 1
    CORE_LOW_INSTR_SATURATION = 1
    CORE_HIGH_REPR_SATURATION = 255
    CORE_HIGH_INSTR_SATURATION = 255
  END_OBJECT = IMAGE
END_OBJECT = UNCOMPRESSED_FILE
END
