PDS_VERSION_ID = PDS3
/* Identification Information */
DATA_SET_ID = "MRO-M-CTX-HiROC-V1.0"
PRODUCT_ID = "U18_077854_1849_XI_04N252W"
PRODUCER_INSTITUTION_NAME = "UNIVERSITY OF ARIZONA"
PRDOUCER_ID = "UA"
PRODUCER_FULL_NAME = "ALFRED MCEWEN"
SOURCE_PRODUCT_ID = NULL
MISSION_NAME = "MARS RECONNAISSANCE ORBITER"
SPACECRAFT_NAME = "MARS RECONNAISSANCE ORBITER"
INSTRUMENT_NAME = "CONTEXT CAMERA"
INSTRUMENT_ID = "MRO-CTX"
TARGET_NAME = "MARS"
START_TIME = "2023-03-06T16:56:15.768"
ORBIT_NUMBER = 77854
SPACECRAFT_CLOCK_START_COUNT = "1362589034:217"
PRODUCT_CREATION_TIME = 2023-12-05T04:53:34
SOFTWARE_NAME = "CTX_Finalizer (1.10 2020/04/29 05:19:10)"
NOTE = "Special map product for HiROC"
OBJECT = IMAGE_MAP_PROJECTION
  MAP_PROJECTION_TYPE = "EQUIRECTANGULAR"
  PROJECTION_LATITUDE_TYPE = PLANETOCENTRIC
  A_AXIS_RADIUS = 3396.19
  B_AXIS_RADIUS = 3396.19
  C_AXIS_RADIUS = 3376.2
  FIRST_STANDARD_PARALLEL = "N/A"
  SECOND_STANDARD_PARALLEL = "N/A"
  COORDINATE_SYSTEM_NAME = PLANETOCENTRIC
  POSITIVE_LONGITUDE_DIRECTION = EAST
  KEYWORD_LATITUDE_TYPE = PLANETOCENTRIC
  CENTER_LATITUDE = 0
  CENTER_LONGITUDE = 107.50458586287
  LINE_FIRST_PIXEL = 1
  LINE_LAST_PIXEL = 62641
  SAMPLE_FIRST_PIXEL = 1
  SAMPLE_LAST_PIXEL = 13010
  MAP_PROJECTION_ROTATION = 0.0
  MAP_RESOLUTION = 11854.939504661
  MAP_SCALE = 0.005
  MAXIMUM_LATITUDE = 7.5191556444805
  MINIMUM_LATITUDE = 2.235255285449
  EASTERNMOST_LONGITUDE = 108.05326462837
  WESTERNMOST_LONGITUDE = 106.95590709737
  LINE_PROJECTION_OFFSET = 89139.5
  SAMPLE_PROJECTION_OFFSET = 6504.5
END_OBJECT = IMAGE_MAP_PROJECTION
/* The JPEG2000 image data file associated with this label. */
OBJECT = COMPRESSED_FILE
  FILE_NAME = "U18_077854_1849_XI_04N252W.JP2"
  RECORD_TYPE = UNDEFINED
  ENCODING_TYPE = "JP2"
  ENCODING_TYPE_VERSION_NAME = "ISO/IEC15444-1:2004"
  INTERCHANGE_FORMAT = BINARY
  /* The name of the original source file. */
  UNCOMPRESSED_FILE_NAME = "U18_077854_1849_XI_04N252W.49030.img"
  /* The amount of original image data. */
  REQUIRED_STORAGE_BYTES = 814959410
  ^DESCRIPTION = "JP2INFO.TXT"
END_OBJECT = COMPRESSED_FILE
/* The source image data definition. */
OBJECT = UNCOMPRESSED_FILE
  FILE_NAME = "U18_077854_1849_XI_04N252W.49030.img"
  RECORD_TYPE = FIXED_LENGTH
  RECORD_BYTES = 13010
  FILE_RECORDS = 62641
  ^IMAGE = "U18_077854_1849_XI_04N252W.49030.img"
  OBJECT = IMAGE
    LINES = 62641
    LINE_SAMPLES = 13010
    BANDS = 1
    CENTER_FILTER_WAVELENGTH = 0.65
    BANDWIDTH = 0.15
    BAND_STORAGE_TYPE = BAND_SEQUENTIAL
    OFFSET = 0.096096918425838
    SCALING_FACTOR = 3.1438069849099e-04
    SAMPLE_BITS = 8
    SAMPLE_BIT_MASK = 2#11111111#
    SAMPLE_TYPE = MSB_UNSIGNED_INTEGER
    CORE_NULL = 0
    CORE_LOW_REPR_SATURATION = 1
    CORE_LOW_INSTR_SATURATION = 1
    CORE_HIGH_REPR_SATURATION = 255
    CORE_HIGH_INSTR_SATURATION = 255
  END_OBJECT = IMAGE
END_OBJECT = UNCOMPRESSED_FILE
END
