PDS_VERSION_ID = PDS3
/* Identification Information */
DATA_SET_ID = "MRO-M-CTX-HiROC-V1.0"
PRODUCT_ID = "U11_075344_1666_XN_13S136W"
PRODUCER_INSTITUTION_NAME = "UNIVERSITY OF ARIZONA"
PRDOUCER_ID = "UA"
PRODUCER_FULL_NAME = "ALFRED MCEWEN"
SOURCE_PRODUCT_ID = NULL
MISSION_NAME = "MARS RECONNAISSANCE ORBITER"
SPACECRAFT_NAME = "MARS RECONNAISSANCE ORBITER"
INSTRUMENT_NAME = "CONTEXT CAMERA"
INSTRUMENT_ID = "MRO-CTX"
TARGET_NAME = "MARS"
START_TIME = "2022-08-23T03:38:31.719"
ORBIT_NUMBER = 75344
SPACECRAFT_CLOCK_START_COUNT = "1345693169:072"
PRODUCT_CREATION_TIME = 2023-03-16T04:55:20
SOFTWARE_NAME = "CTX_Finalizer (1.10 2020/04/29 05:19:10)"
NOTE = "Special map product for HiROC"
OBJECT = IMAGE_MAP_PROJECTION
  MAP_PROJECTION_TYPE = "EQUIRECTANGULAR"
  PROJECTION_LATITUDE_TYPE = PLANETOCENTRIC
  A_AXIS_RADIUS = 3396.19
  B_AXIS_RADIUS = 3396.19
  C_AXIS_RADIUS = 3376.2
  FIRST_STANDARD_PARALLEL = "N/A"
  SECOND_STANDARD_PARALLEL = "N/A"
  COORDINATE_SYSTEM_NAME = PLANETOCENTRIC
  POSITIVE_LONGITUDE_DIRECTION = EAST
  KEYWORD_LATITUDE_TYPE = PLANETOCENTRIC
  CENTER_LATITUDE = -10
  CENTER_LONGITUDE = 223.94343761081
  LINE_FIRST_PIXEL = 1
  LINE_LAST_PIXEL = 62954
  SAMPLE_FIRST_PIXEL = 1
  SAMPLE_LAST_PIXEL = 12801
  MAP_PROJECTION_ROTATION = 0.0
  MAP_RESOLUTION = 11852.817278819
  MAP_SCALE = 0.005
  MAXIMUM_LATITUDE = -10.640736922047
  MINIMUM_LATITUDE = -15.951991188477
  EASTERNMOST_LONGITUDE = 224.49176334918
  WESTERNMOST_LONGITUDE = 223.39511187243
  LINE_PROJECTION_OFFSET = -126122.5
  SAMPLE_PROJECTION_OFFSET = 6400.5
END_OBJECT = IMAGE_MAP_PROJECTION
/* The JPEG2000 image data file associated with this label. */
OBJECT = COMPRESSED_FILE
  FILE_NAME = "U11_075344_1666_XN_13S136W.JP2"
  RECORD_TYPE = UNDEFINED
  ENCODING_TYPE = "JP2"
  ENCODING_TYPE_VERSION_NAME = "ISO/IEC15444-1:2004"
  INTERCHANGE_FORMAT = BINARY
  /* The name of the original source file. */
  UNCOMPRESSED_FILE_NAME = "U11_075344_1666_XN_13S136W.21402.img"
  /* The amount of original image data. */
  REQUIRED_STORAGE_BYTES = 805874154
  ^DESCRIPTION = "JP2INFO.TXT"
END_OBJECT = COMPRESSED_FILE
/* The source image data definition. */
OBJECT = UNCOMPRESSED_FILE
  FILE_NAME = "U11_075344_1666_XN_13S136W.21402.img"
  RECORD_TYPE = FIXED_LENGTH
  RECORD_BYTES = 12801
  FILE_RECORDS = 62954
  ^IMAGE = "U11_075344_1666_XN_13S136W.21402.img"
  OBJECT = IMAGE
    LINES = 62954
    LINE_SAMPLES = 12801
    BANDS = 1
    CENTER_FILTER_WAVELENGTH = 0.65
    BANDWIDTH = 0.15
    BAND_STORAGE_TYPE = BAND_SEQUENTIAL
    OFFSET = 0.13312674907776
    SCALING_FACTOR = 2.75045796759029e-04
    SAMPLE_BITS = 8
    SAMPLE_BIT_MASK = 2#11111111#
    SAMPLE_TYPE = MSB_UNSIGNED_INTEGER
    CORE_NULL = 0
    CORE_LOW_REPR_SATURATION = 1
    CORE_LOW_INSTR_SATURATION = 1
    CORE_HIGH_REPR_SATURATION = 255
    CORE_HIGH_INSTR_SATURATION = 255
  END_OBJECT = IMAGE
END_OBJECT = UNCOMPRESSED_FILE
END
