PDS_VERSION_ID = PDS3
/* Identification Information */
DATA_SET_ID = "MRO-M-CTX-HiROC-V1.0"
PRODUCT_ID = "U10_074668_1636_XN_16S039W"
PRODUCER_INSTITUTION_NAME = "UNIVERSITY OF ARIZONA"
PRDOUCER_ID = "UA"
PRODUCER_FULL_NAME = "ALFRED MCEWEN"
SOURCE_PRODUCT_ID = NULL
MISSION_NAME = "MARS RECONNAISSANCE ORBITER"
SPACECRAFT_NAME = "MARS RECONNAISSANCE ORBITER"
INSTRUMENT_NAME = "CONTEXT CAMERA"
INSTRUMENT_ID = "MRO-CTX"
TARGET_NAME = "MARS"
START_TIME = "2022-07-01T11:22:26.889"
ORBIT_NUMBER = 74668
SPACECRAFT_CLOCK_START_COUNT = "1341141803:232"
PRODUCT_CREATION_TIME = 2023-03-11T09:00:32
SOFTWARE_NAME = "CTX_Finalizer (1.10 2020/04/29 05:19:10)"
NOTE = "Special map product for HiROC"
OBJECT = IMAGE_MAP_PROJECTION
  MAP_PROJECTION_TYPE = "EQUIRECTANGULAR"
  PROJECTION_LATITUDE_TYPE = PLANETOCENTRIC
  A_AXIS_RADIUS = 3396.19
  B_AXIS_RADIUS = 3396.19
  C_AXIS_RADIUS = 3376.2
  FIRST_STANDARD_PARALLEL = "N/A"
  SECOND_STANDARD_PARALLEL = "N/A"
  COORDINATE_SYSTEM_NAME = PLANETOCENTRIC
  POSITIVE_LONGITUDE_DIRECTION = EAST
  KEYWORD_LATITUDE_TYPE = PLANETOCENTRIC
  CENTER_LATITUDE = -15
  CENTER_LONGITUDE = 320.64813346496
  LINE_FIRST_PIXEL = 1
  LINE_LAST_PIXEL = 62928
  SAMPLE_FIRST_PIXEL = 1
  SAMPLE_LAST_PIXEL = 12712
  MAP_PROJECTION_ROTATION = 0.0
  MAP_RESOLUTION = 11850.226464032
  MAP_SCALE = 0.005
  MAXIMUM_LATITUDE = -13.846495772511
  MINIMUM_LATITUDE = -19.15674304549
  EASTERNMOST_LONGITUDE = 321.20338087799
  WESTERNMOST_LONGITUDE = 320.09288605194
  LINE_PROJECTION_OFFSET = -164084.5
  SAMPLE_PROJECTION_OFFSET = 6355.5
END_OBJECT = IMAGE_MAP_PROJECTION
/* The JPEG2000 image data file associated with this label. */
OBJECT = COMPRESSED_FILE
  FILE_NAME = "U10_074668_1636_XN_16S039W.JP2"
  RECORD_TYPE = UNDEFINED
  ENCODING_TYPE = "JP2"
  ENCODING_TYPE_VERSION_NAME = "ISO/IEC15444-1:2004"
  INTERCHANGE_FORMAT = BINARY
  /* The name of the original source file. */
  UNCOMPRESSED_FILE_NAME = "U10_074668_1636_XN_16S039W.12627.img"
  /* The amount of original image data. */
  REQUIRED_STORAGE_BYTES = 799940736
  ^DESCRIPTION = "JP2INFO.TXT"
END_OBJECT = COMPRESSED_FILE
/* The source image data definition. */
OBJECT = UNCOMPRESSED_FILE
  FILE_NAME = "U10_074668_1636_XN_16S039W.12627.img"
  RECORD_TYPE = FIXED_LENGTH
  RECORD_BYTES = 12712
  FILE_RECORDS = 62928
  ^IMAGE = "U10_074668_1636_XN_16S039W.12627.img"
  OBJECT = IMAGE
    LINES = 62928
    LINE_SAMPLES = 12712
    BANDS = 1
    CENTER_FILTER_WAVELENGTH = 0.65
    BANDWIDTH = 0.15
    BAND_STORAGE_TYPE = BAND_SEQUENTIAL
    OFFSET = 0.070698050058879
    SCALING_FACTOR = 1.58548463792395e-04
    SAMPLE_BITS = 8
    SAMPLE_BIT_MASK = 2#11111111#
    SAMPLE_TYPE = MSB_UNSIGNED_INTEGER
    CORE_NULL = 0
    CORE_LOW_REPR_SATURATION = 1
    CORE_LOW_INSTR_SATURATION = 1
    CORE_HIGH_REPR_SATURATION = 255
    CORE_HIGH_INSTR_SATURATION = 255
  END_OBJECT = IMAGE
END_OBJECT = UNCOMPRESSED_FILE
END
