PDS_VERSION_ID = PDS3
/* Identification Information */
DATA_SET_ID = "MRO-M-CTX-HiROC-V1.0"
PRODUCT_ID = "N18_069247_2199_XN_39N003W"
PRODUCER_INSTITUTION_NAME = "UNIVERSITY OF ARIZONA"
PRDOUCER_ID = "UA"
PRODUCER_FULL_NAME = "ALFRED MCEWEN"
SOURCE_PRODUCT_ID = NULL
MISSION_NAME = "MARS RECONNAISSANCE ORBITER"
SPACECRAFT_NAME = "MARS RECONNAISSANCE ORBITER"
INSTRUMENT_NAME = "CONTEXT CAMERA"
INSTRUMENT_ID = "MRO-CTX"
TARGET_NAME = "MARS"
START_TIME = "2021-05-05T01:59:18.126"
ORBIT_NUMBER = 69247
SPACECRAFT_CLOCK_START_COUNT = "1304647213:062"
PRODUCT_CREATION_TIME = 2021-12-24T16:19:30
SOFTWARE_NAME = "CTX_Finalizer (1.10 2020/04/29 05:19:10)"
NOTE = "Special map product for HiROC"
OBJECT = IMAGE_MAP_PROJECTION
  MAP_PROJECTION_TYPE = "EQUIRECTANGULAR"
  PROJECTION_LATITUDE_TYPE = PLANETOCENTRIC
  A_AXIS_RADIUS = 3396.19
  B_AXIS_RADIUS = 3396.19
  C_AXIS_RADIUS = 3376.2
  FIRST_STANDARD_PARALLEL = "N/A"
  SECOND_STANDARD_PARALLEL = "N/A"
  COORDINATE_SYSTEM_NAME = PLANETOCENTRIC
  POSITIVE_LONGITUDE_DIRECTION = EAST
  KEYWORD_LATITUDE_TYPE = PLANETOCENTRIC
  CENTER_LATITUDE = 35
  CENTER_LONGITUDE = 356.77408101466
  LINE_FIRST_PIXEL = 1
  LINE_LAST_PIXEL = 17493
  SAMPLE_FIRST_PIXEL = 1
  SAMPLE_LAST_PIXEL = 8345
  MAP_PROJECTION_ROTATION = 0.0
  MAP_RESOLUTION = 11831.846526548
  MAP_SCALE = 0.005
  MAXIMUM_LATITUDE = 40.320954377222
  MINIMUM_LATITUDE = 38.842542712037
  EASTERNMOST_LONGITUDE = 357.20456344561
  WESTERNMOST_LONGITUDE = 356.34359858371
  LINE_PROJECTION_OFFSET = 477071.5
  SAMPLE_PROJECTION_OFFSET = 4172.5
END_OBJECT = IMAGE_MAP_PROJECTION
/* The JPEG2000 image data file associated with this label. */
OBJECT = COMPRESSED_FILE
  FILE_NAME = "N18_069247_2199_XN_39N003W.JP2"
  RECORD_TYPE = UNDEFINED
  ENCODING_TYPE = "JP2"
  ENCODING_TYPE_VERSION_NAME = "ISO/IEC15444-1:2004"
  INTERCHANGE_FORMAT = BINARY
  /* The name of the original source file. */
  UNCOMPRESSED_FILE_NAME = "N18_069247_2199_XN_39N003W.14137.img"
  /* The amount of original image data. */
  REQUIRED_STORAGE_BYTES = 145979085
  ^DESCRIPTION = "JP2INFO.TXT"
END_OBJECT = COMPRESSED_FILE
/* The source image data definition. */
OBJECT = UNCOMPRESSED_FILE
  FILE_NAME = "N18_069247_2199_XN_39N003W.14137.img"
  RECORD_TYPE = FIXED_LENGTH
  RECORD_BYTES = 8345
  FILE_RECORDS = 17493
  ^IMAGE = "N18_069247_2199_XN_39N003W.14137.img"
  OBJECT = IMAGE
    LINES = 17493
    LINE_SAMPLES = 8345
    BANDS = 1
    CENTER_FILTER_WAVELENGTH = 0.65
    BANDWIDTH = 0.15
    BAND_STORAGE_TYPE = BAND_SEQUENTIAL
    OFFSET = 0.061588023735467
    SCALING_FACTOR = 3.09562365061687e-04
    SAMPLE_BITS = 8
    SAMPLE_BIT_MASK = 2#11111111#
    SAMPLE_TYPE = MSB_UNSIGNED_INTEGER
    CORE_NULL = 0
    CORE_LOW_REPR_SATURATION = 1
    CORE_LOW_INSTR_SATURATION = 1
    CORE_HIGH_REPR_SATURATION = 255
    CORE_HIGH_INSTR_SATURATION = 255
  END_OBJECT = IMAGE
END_OBJECT = UNCOMPRESSED_FILE
END
