PDS_VERSION_ID = PDS3
/* Identification Information */
DATA_SET_ID = "MRO-M-CTX-HiROC-V1.0"
PRODUCT_ID = "N10_066381_1228_XN_57S279W"
PRODUCER_INSTITUTION_NAME = "UNIVERSITY OF ARIZONA"
PRDOUCER_ID = "UA"
PRODUCER_FULL_NAME = "ALFRED MCEWEN"
SOURCE_PRODUCT_ID = NULL
MISSION_NAME = "MARS RECONNAISSANCE ORBITER"
SPACECRAFT_NAME = "MARS RECONNAISSANCE ORBITER"
INSTRUMENT_NAME = "CONTEXT CAMERA"
INSTRUMENT_ID = "MRO-CTX"
TARGET_NAME = "MARS"
START_TIME = "2020-09-23T21:11:14.080"
ORBIT_NUMBER = 66381
SPACECRAFT_CLOCK_START_COUNT = "1285362727:196"
PRODUCT_CREATION_TIME = 2021-06-12T09:46:45
SOFTWARE_NAME = "CTX_Finalizer (1.10 2020/04/29 05:19:10)"
NOTE = "Special map product for HiROC"
OBJECT = IMAGE_MAP_PROJECTION
  MAP_PROJECTION_TYPE = "EQUIRECTANGULAR"
  PROJECTION_LATITUDE_TYPE = PLANETOCENTRIC
  A_AXIS_RADIUS = 3396.19
  B_AXIS_RADIUS = 3396.19
  C_AXIS_RADIUS = 3376.2
  FIRST_STANDARD_PARALLEL = "N/A"
  SECOND_STANDARD_PARALLEL = "N/A"
  COORDINATE_SYSTEM_NAME = PLANETOCENTRIC
  POSITIVE_LONGITUDE_DIRECTION = EAST
  KEYWORD_LATITUDE_TYPE = PLANETOCENTRIC
  CENTER_LATITUDE = -55
  CENTER_LONGITUDE = 81.032120549908
  LINE_FIRST_PIXEL = 1
  LINE_LAST_PIXEL = 59576
  SAMPLE_FIRST_PIXEL = 1
  SAMPLE_LAST_PIXEL = 13394
  MAP_PROJECTION_ROTATION = 0.0
  MAP_RESOLUTION = 11807.981413876
  MAP_SCALE = 0.005
  MAXIMUM_LATITUDE = -54.457603064144
  MINIMUM_LATITUDE = -59.502955781716
  EASTERNMOST_LONGITUDE = 82.020869465853
  WESTERNMOST_LONGITUDE = 80.043371633964
  LINE_PROJECTION_OFFSET = -643034.5
  SAMPLE_PROJECTION_OFFSET = 6696.5
END_OBJECT = IMAGE_MAP_PROJECTION
/* The JPEG2000 image data file associated with this label. */
OBJECT = COMPRESSED_FILE
  FILE_NAME = "N10_066381_1228_XN_57S279W.JP2"
  RECORD_TYPE = UNDEFINED
  ENCODING_TYPE = "JP2"
  ENCODING_TYPE_VERSION_NAME = "ISO/IEC15444-1:2004"
  INTERCHANGE_FORMAT = BINARY
  /* The name of the original source file. */
  UNCOMPRESSED_FILE_NAME = "N10_066381_1228_XN_57S279W.5267.img"
  /* The amount of original image data. */
  REQUIRED_STORAGE_BYTES = 797960944
  ^DESCRIPTION = "JP2INFO.TXT"
END_OBJECT = COMPRESSED_FILE
/* The source image data definition. */
OBJECT = UNCOMPRESSED_FILE
  FILE_NAME = "N10_066381_1228_XN_57S279W.5267.img"
  RECORD_TYPE = FIXED_LENGTH
  RECORD_BYTES = 13394
  FILE_RECORDS = 59576
  ^IMAGE = "N10_066381_1228_XN_57S279W.5267.img"
  OBJECT = IMAGE
    LINES = 59576
    LINE_SAMPLES = 13394
    BANDS = 1
    CENTER_FILTER_WAVELENGTH = 0.65
    BANDWIDTH = 0.15
    BAND_STORAGE_TYPE = BAND_SEQUENTIAL
    OFFSET = 0.083040440702387
    SCALING_FACTOR = 2.06384858693563e-04
    SAMPLE_BITS = 8
    SAMPLE_BIT_MASK = 2#11111111#
    SAMPLE_TYPE = MSB_UNSIGNED_INTEGER
    CORE_NULL = 0
    CORE_LOW_REPR_SATURATION = 1
    CORE_LOW_INSTR_SATURATION = 1
    CORE_HIGH_REPR_SATURATION = 255
    CORE_HIGH_INSTR_SATURATION = 255
  END_OBJECT = IMAGE
END_OBJECT = UNCOMPRESSED_FILE
END
