PDS_VERSION_ID = PDS3
/* Identification Information */
DATA_SET_ID = "MRO-M-CTX-HiROC-V1.0"
PRODUCT_ID = "N01_062799_1318_XN_48S056W"
PRODUCER_INSTITUTION_NAME = "UNIVERSITY OF ARIZONA"
PRDOUCER_ID = "UA"
PRODUCER_FULL_NAME = "ALFRED MCEWEN"
SOURCE_PRODUCT_ID = NULL
MISSION_NAME = "MARS RECONNAISSANCE ORBITER"
SPACECRAFT_NAME = "MARS RECONNAISSANCE ORBITER"
INSTRUMENT_NAME = "CONTEXT CAMERA"
INSTRUMENT_ID = "MRO-CTX"
TARGET_NAME = "MARS"
START_TIME = "2019-12-19T18:48:29.821"
ORBIT_NUMBER = 62799
SPACECRAFT_CLOCK_START_COUNT = "1261248561:046"
PRODUCT_CREATION_TIME = 2020-09-14T00:12:21
SOFTWARE_NAME = "CTX_Finalizer (1.8 2012/07/11 19:12:08)"
NOTE = "Special map product for HiROC"
OBJECT = IMAGE_MAP_PROJECTION
  MAP_PROJECTION_TYPE = "EQUIRECTANGULAR"
  PROJECTION_LATITUDE_TYPE = PLANETOCENTRIC
  A_AXIS_RADIUS = 3396.19
  B_AXIS_RADIUS = 3396.19
  C_AXIS_RADIUS = 3376.2
  FIRST_STANDARD_PARALLEL = "N/A"
  SECOND_STANDARD_PARALLEL = "N/A"
  COORDINATE_SYSTEM_NAME = PLANETOCENTRIC
  POSITIVE_LONGITUDE_DIRECTION = EAST
  KEYWORD_LATITUDE_TYPE = PLANETOCENTRIC
  CENTER_LATITUDE = -45
  CENTER_LONGITUDE = 303.65109108255
  LINE_FIRST_PIXEL = 1
  LINE_LAST_PIXEL = 5262
  SAMPLE_FIRST_PIXEL = 1
  SAMPLE_LAST_PIXEL = 3426
  MAP_PROJECTION_ROTATION = 0.0
  MAP_RESOLUTION = 11819.895900815
  MAP_SCALE = 0.005
  MAXIMUM_LATITUDE = -47.724250327568
  MINIMUM_LATITUDE = -48.169368358284
  EASTERNMOST_LONGITUDE = 303.8560417061
  WESTERNMOST_LONGITUDE = 303.44614045899
  LINE_PROJECTION_OFFSET = -564094.5
  SAMPLE_PROJECTION_OFFSET = 1713.5
END_OBJECT = IMAGE_MAP_PROJECTION
/* The JPEG2000 image data file associated with this label. */
OBJECT = COMPRESSED_FILE
  FILE_NAME = "N01_062799_1318_XN_48S056W.JP2"
  RECORD_TYPE = UNDEFINED
  ENCODING_TYPE = "JP2"
  ENCODING_TYPE_VERSION_NAME = "ISO/IEC15444-1:2004"
  INTERCHANGE_FORMAT = BINARY
  /* The name of the original source file. */
  UNCOMPRESSED_FILE_NAME = "N01_062799_1318_XN_48S056W.9397.img"
  /* The amount of original image data. */
  REQUIRED_STORAGE_BYTES = 18027612
  ^DESCRIPTION = "JP2INFO.TXT"
END_OBJECT = COMPRESSED_FILE
/* The source image data definition. */
OBJECT = UNCOMPRESSED_FILE
  FILE_NAME = "N01_062799_1318_XN_48S056W.9397.img"
  RECORD_TYPE = FIXED_LENGTH
  RECORD_BYTES = 3426
  FILE_RECORDS = 5262
  ^IMAGE = "N01_062799_1318_XN_48S056W.9397.img"
  OBJECT = IMAGE
    LINES = 5262
    LINE_SAMPLES = 3426
    BANDS = 1
    CENTER_FILTER_WAVELENGTH = 0.65
    BANDWIDTH = 0.15
    BAND_STORAGE_TYPE = BAND_SEQUENTIAL
    OFFSET = 0.0042195200556794
    SCALING_FACTOR = 5.82254779099328e-05
    SAMPLE_BITS = 8
    SAMPLE_BIT_MASK = 2#11111111#
    SAMPLE_TYPE = MSB_UNSIGNED_INTEGER
    CORE_NULL = 0
    CORE_LOW_REPR_SATURATION = 1
    CORE_LOW_INSTR_SATURATION = 1
    CORE_HIGH_REPR_SATURATION = 255
    CORE_HIGH_INSTR_SATURATION = 255
  END_OBJECT = IMAGE
END_OBJECT = UNCOMPRESSED_FILE
END
