PDS_VERSION_ID = PDS3
/* Identification Information */
DATA_SET_ID = "MRO-M-CTX-HiROC-V1.0"
PRODUCT_ID = "K17_059997_2095_XI_29N254W"
PRODUCER_INSTITUTION_NAME = "UNIVERSITY OF ARIZONA"
PRDOUCER_ID = "UA"
PRODUCER_FULL_NAME = "ALFRED MCEWEN"
SOURCE_PRODUCT_ID = NULL
MISSION_NAME = "MARS RECONNAISSANCE ORBITER"
SPACECRAFT_NAME = "MARS RECONNAISSANCE ORBITER"
INSTRUMENT_NAME = "CONTEXT CAMERA"
INSTRUMENT_ID = "MRO-CTX"
TARGET_NAME = "MARS"
START_TIME = "2019-05-15T11:15:02.766"
ORBIT_NUMBER = 59997
SPACECRAFT_CLOCK_START_COUNT = "1242386153:211"
PRODUCT_CREATION_TIME = 2020-01-21T09:20:03
SOFTWARE_NAME = "CTX_Finalizer (1.8 2012/07/11 19:12:08)"
NOTE = "Special map product for HiROC"
OBJECT = IMAGE_MAP_PROJECTION
  MAP_PROJECTION_TYPE = "EQUIRECTANGULAR"
  PROJECTION_LATITUDE_TYPE = PLANETOCENTRIC
  A_AXIS_RADIUS = 3396.19
  B_AXIS_RADIUS = 3396.19
  C_AXIS_RADIUS = 3376.2
  FIRST_STANDARD_PARALLEL = "N/A"
  SECOND_STANDARD_PARALLEL = "N/A"
  COORDINATE_SYSTEM_NAME = PLANETOCENTRIC
  POSITIVE_LONGITUDE_DIRECTION = EAST
  KEYWORD_LATITUDE_TYPE = PLANETOCENTRIC
  CENTER_LATITUDE = 25
  CENTER_LONGITUDE = 105.96223146716
  LINE_FIRST_PIXEL = 1
  LINE_LAST_PIXEL = 10392
  SAMPLE_FIRST_PIXEL = 1
  SAMPLE_LAST_PIXEL = 7324
  MAP_PROJECTION_ROTATION = 0.0
  MAP_RESOLUTION = 11842.385738967
  MAP_SCALE = 0.005
  MAXIMUM_LATITUDE = 29.644295140323
  MINIMUM_LATITUDE = 28.7668564759
  EASTERNMOST_LONGITUDE = 106.30342278968
  WESTERNMOST_LONGITUDE = 105.62104014465
  LINE_PROJECTION_OFFSET = 351060.5
  SAMPLE_PROJECTION_OFFSET = 3662.5
END_OBJECT = IMAGE_MAP_PROJECTION
/* The JPEG2000 image data file associated with this label. */
OBJECT = COMPRESSED_FILE
  FILE_NAME = "K17_059997_2095_XI_29N254W.JP2"
  RECORD_TYPE = UNDEFINED
  ENCODING_TYPE = "JP2"
  ENCODING_TYPE_VERSION_NAME = "ISO/IEC15444-1:2004"
  INTERCHANGE_FORMAT = BINARY
  /* The name of the original source file. */
  UNCOMPRESSED_FILE_NAME = "K17_059997_2095_XI_29N254W.23218.img"
  /* The amount of original image data. */
  REQUIRED_STORAGE_BYTES = 76111008
  ^DESCRIPTION = "JP2INFO.TXT"
END_OBJECT = COMPRESSED_FILE
/* The source image data definition. */
OBJECT = UNCOMPRESSED_FILE
  FILE_NAME = "K17_059997_2095_XI_29N254W.23218.img"
  RECORD_TYPE = FIXED_LENGTH
  RECORD_BYTES = 7324
  FILE_RECORDS = 10392
  ^IMAGE = "K17_059997_2095_XI_29N254W.23218.img"
  OBJECT = IMAGE
    LINES = 10392
    LINE_SAMPLES = 7324
    BANDS = 1
    CENTER_FILTER_WAVELENGTH = 0.65
    BANDWIDTH = 0.15
    BAND_STORAGE_TYPE = BAND_SEQUENTIAL
    OFFSET = 0.11837858934948
    SCALING_FACTOR = 2.23721786934818e-04
    SAMPLE_BITS = 8
    SAMPLE_BIT_MASK = 2#11111111#
    SAMPLE_TYPE = MSB_UNSIGNED_INTEGER
    CORE_NULL = 0
    CORE_LOW_REPR_SATURATION = 1
    CORE_LOW_INSTR_SATURATION = 1
    CORE_HIGH_REPR_SATURATION = 255
    CORE_HIGH_INSTR_SATURATION = 255
  END_OBJECT = IMAGE
END_OBJECT = UNCOMPRESSED_FILE
END
