PDS_VERSION_ID = PDS3
/* Identification Information */
DATA_SET_ID = "MRO-M-CTX-HiROC-V1.0"
PRODUCT_ID = "K15_059280_1731_XN_06S114W"
PRODUCER_INSTITUTION_NAME = "UNIVERSITY OF ARIZONA"
PRDOUCER_ID = "UA"
PRODUCER_FULL_NAME = "ALFRED MCEWEN"
SOURCE_PRODUCT_ID = NULL
MISSION_NAME = "MARS RECONNAISSANCE ORBITER"
SPACECRAFT_NAME = "MARS RECONNAISSANCE ORBITER"
INSTRUMENT_NAME = "CONTEXT CAMERA"
INSTRUMENT_ID = "MRO-CTX"
TARGET_NAME = "MARS"
START_TIME = "2019-03-20T14:11:51.947"
ORBIT_NUMBER = 59280
SPACECRAFT_CLOCK_START_COUNT = "1237558362:243"
PRODUCT_CREATION_TIME = 2020-01-16T09:26:53
SOFTWARE_NAME = "CTX_Finalizer (1.8 2012/07/11 19:12:08)"
NOTE = "Special map product for HiROC"
OBJECT = IMAGE_MAP_PROJECTION
  MAP_PROJECTION_TYPE = "EQUIRECTANGULAR"
  PROJECTION_LATITUDE_TYPE = PLANETOCENTRIC
  A_AXIS_RADIUS = 3396.19
  B_AXIS_RADIUS = 3396.19
  C_AXIS_RADIUS = 3376.2
  FIRST_STANDARD_PARALLEL = "N/A"
  SECOND_STANDARD_PARALLEL = "N/A"
  COORDINATE_SYSTEM_NAME = PLANETOCENTRIC
  POSITIVE_LONGITUDE_DIRECTION = EAST
  KEYWORD_LATITUDE_TYPE = PLANETOCENTRIC
  CENTER_LATITUDE = -5
  CENTER_LONGITUDE = 245.75673912871
  LINE_FIRST_PIXEL = 1
  LINE_LAST_PIXEL = 13727
  SAMPLE_FIRST_PIXEL = 1
  SAMPLE_LAST_PIXEL = 4124
  MAP_PROJECTION_ROTATION = 0.0
  MAP_RESOLUTION = 11854.404779769
  MAP_SCALE = 0.005
  MAXIMUM_LATITUDE = -6.2496464376075
  MINIMUM_LATITUDE = -7.4075835959262
  EASTERNMOST_LONGITUDE = 245.93131735743
  WESTERNMOST_LONGITUDE = 245.58216089999
  LINE_PROJECTION_OFFSET = -74084.5
  SAMPLE_PROJECTION_OFFSET = 2062.5
END_OBJECT = IMAGE_MAP_PROJECTION
/* The JPEG2000 image data file associated with this label. */
OBJECT = COMPRESSED_FILE
  FILE_NAME = "K15_059280_1731_XN_06S114W.JP2"
  RECORD_TYPE = UNDEFINED
  ENCODING_TYPE = "JP2"
  ENCODING_TYPE_VERSION_NAME = "ISO/IEC15444-1:2004"
  INTERCHANGE_FORMAT = BINARY
  /* The name of the original source file. */
  UNCOMPRESSED_FILE_NAME = "K15_059280_1731_XN_06S114W.25399.img"
  /* The amount of original image data. */
  REQUIRED_STORAGE_BYTES = 56610148
  ^DESCRIPTION = "JP2INFO.TXT"
END_OBJECT = COMPRESSED_FILE
/* The source image data definition. */
OBJECT = UNCOMPRESSED_FILE
  FILE_NAME = "K15_059280_1731_XN_06S114W.25399.img"
  RECORD_TYPE = FIXED_LENGTH
  RECORD_BYTES = 4124
  FILE_RECORDS = 13727
  ^IMAGE = "K15_059280_1731_XN_06S114W.25399.img"
  OBJECT = IMAGE
    LINES = 13727
    LINE_SAMPLES = 4124
    BANDS = 1
    CENTER_FILTER_WAVELENGTH = 0.65
    BANDWIDTH = 0.15
    BAND_STORAGE_TYPE = BAND_SEQUENTIAL
    OFFSET = 0.13998692965846
    SCALING_FACTOR = 2.06407888542034e-04
    SAMPLE_BITS = 8
    SAMPLE_BIT_MASK = 2#11111111#
    SAMPLE_TYPE = MSB_UNSIGNED_INTEGER
    CORE_NULL = 0
    CORE_LOW_REPR_SATURATION = 1
    CORE_LOW_INSTR_SATURATION = 1
    CORE_HIGH_REPR_SATURATION = 255
    CORE_HIGH_INSTR_SATURATION = 255
  END_OBJECT = IMAGE
END_OBJECT = UNCOMPRESSED_FILE
END
