PDS_VERSION_ID = PDS3
/* Identification Information */
DATA_SET_ID = "MRO-M-CTX-HiROC-V1.0"
PRODUCT_ID = "K15_059075_1072_XI_72S264W"
PRODUCER_INSTITUTION_NAME = "UNIVERSITY OF ARIZONA"
PRDOUCER_ID = "UA"
PRODUCER_FULL_NAME = "ALFRED MCEWEN"
SOURCE_PRODUCT_ID = NULL
MISSION_NAME = "MARS RECONNAISSANCE ORBITER"
SPACECRAFT_NAME = "MARS RECONNAISSANCE ORBITER"
INSTRUMENT_NAME = "CONTEXT CAMERA"
INSTRUMENT_ID = "MRO-CTX"
TARGET_NAME = "MARS"
START_TIME = "2019-03-04T14:28:16.819"
ORBIT_NUMBER = 59075
SPACECRAFT_CLOCK_START_COUNT = "1236176947:207"
PRODUCT_CREATION_TIME = 2019-12-04T00:40:24
SOFTWARE_NAME = "CTX_Finalizer (1.8 2012/07/11 19:12:08)"
NOTE = "Special map product for HiROC"
OBJECT = IMAGE_MAP_PROJECTION
  MAP_PROJECTION_TYPE = "POLAR STEREOGRAPHIC"
  PROJECTION_LATITUDE_TYPE = PLANETOCENTRIC
  A_AXIS_RADIUS = 3396.19
  B_AXIS_RADIUS = 3396.19
  C_AXIS_RADIUS = 3376.2
  FIRST_STANDARD_PARALLEL = "N/A"
  SECOND_STANDARD_PARALLEL = "N/A"
  COORDINATE_SYSTEM_NAME = PLANETOCENTRIC
  POSITIVE_LONGITUDE_DIRECTION = EAST
  KEYWORD_LATITUDE_TYPE = PLANETOCENTRIC
  CENTER_LATITUDE = -90.0
  CENTER_LONGITUDE = 0.0
  LINE_FIRST_PIXEL = 1
  LINE_LAST_PIXEL = 6667
  SAMPLE_FIRST_PIXEL = 1
  SAMPLE_LAST_PIXEL = 21825
  MAP_PROJECTION_ROTATION = 0.0
  MAP_RESOLUTION = 11785.161241167
  MAP_SCALE = 0.005
  MAXIMUM_LATITUDE = -71.737807947241
  MINIMUM_LATITUDE = -73.566203740148
  EASTERNMOST_LONGITUDE = 96.871439025884
  WESTERNMOST_LONGITUDE = 94.449296803348
  LINE_PROJECTION_OFFSET = -16772.5
  SAMPLE_PROJECTION_OFFSET = -194140.5
END_OBJECT = IMAGE_MAP_PROJECTION
/* The JPEG2000 image data file associated with this label. */
OBJECT = COMPRESSED_FILE
  FILE_NAME = "K15_059075_1072_XI_72S264W.JP2"
  RECORD_TYPE = UNDEFINED
  ENCODING_TYPE = "JP2"
  ENCODING_TYPE_VERSION_NAME = "ISO/IEC15444-1:2004"
  INTERCHANGE_FORMAT = BINARY
  /* The name of the original source file. */
  UNCOMPRESSED_FILE_NAME = "K15_059075_1072_XI_72S264W.17494.img"
  /* The amount of original image data. */
  REQUIRED_STORAGE_BYTES = 145507275
  ^DESCRIPTION = "JP2INFO.TXT"
END_OBJECT = COMPRESSED_FILE
/* The source image data definition. */
OBJECT = UNCOMPRESSED_FILE
  FILE_NAME = "K15_059075_1072_XI_72S264W.17494.img"
  RECORD_TYPE = FIXED_LENGTH
  RECORD_BYTES = 21825
  FILE_RECORDS = 6667
  ^IMAGE = "K15_059075_1072_XI_72S264W.17494.img"
  OBJECT = IMAGE
    LINES = 6667
    LINE_SAMPLES = 21825
    BANDS = 1
    CENTER_FILTER_WAVELENGTH = 0.65
    BANDWIDTH = 0.15
    BAND_STORAGE_TYPE = BAND_SEQUENTIAL
    OFFSET = 0.029757881869745
    SCALING_FACTOR = 1.10348192785688e-04
    SAMPLE_BITS = 8
    SAMPLE_BIT_MASK = 2#11111111#
    SAMPLE_TYPE = MSB_UNSIGNED_INTEGER
    CORE_NULL = 0
    CORE_LOW_REPR_SATURATION = 1
    CORE_LOW_INSTR_SATURATION = 1
    CORE_HIGH_REPR_SATURATION = 255
    CORE_HIGH_INSTR_SATURATION = 255
  END_OBJECT = IMAGE
END_OBJECT = UNCOMPRESSED_FILE
END
