PDS_VERSION_ID = PDS3
/* Identification Information */
DATA_SET_ID = "MRO-M-CTX-HiROC-V1.0"
PRODUCT_ID = "K12_057987_1371_XI_42S086W"
PRODUCER_INSTITUTION_NAME = "UNIVERSITY OF ARIZONA"
PRDOUCER_ID = "UA"
PRODUCER_FULL_NAME = "ALFRED MCEWEN"
SOURCE_PRODUCT_ID = NULL
MISSION_NAME = "MARS RECONNAISSANCE ORBITER"
SPACECRAFT_NAME = "MARS RECONNAISSANCE ORBITER"
INSTRUMENT_NAME = "CONTEXT CAMERA"
INSTRUMENT_ID = "MRO-CTX"
TARGET_NAME = "MARS"
START_TIME = "2018-12-09T19:42:42.926"
ORBIT_NUMBER = 57987
SPACECRAFT_CLOCK_START_COUNT = "1228851813:218"
PRODUCT_CREATION_TIME = 2019-09-04T16:51:47
SOFTWARE_NAME = "CTX_Finalizer (1.8 2012/07/11 19:12:08)"
NOTE = "Special map product for HiROC"
OBJECT = IMAGE_MAP_PROJECTION
  MAP_PROJECTION_TYPE = "EQUIRECTANGULAR"
  PROJECTION_LATITUDE_TYPE = PLANETOCENTRIC
  A_AXIS_RADIUS = 3396.19
  B_AXIS_RADIUS = 3396.19
  C_AXIS_RADIUS = 3376.2
  FIRST_STANDARD_PARALLEL = "N/A"
  SECOND_STANDARD_PARALLEL = "N/A"
  COORDINATE_SYSTEM_NAME = PLANETOCENTRIC
  POSITIVE_LONGITUDE_DIRECTION = EAST
  KEYWORD_LATITUDE_TYPE = PLANETOCENTRIC
  CENTER_LATITUDE = -40
  CENTER_LONGITUDE = 273.40014206882
  LINE_FIRST_PIXEL = 1
  LINE_LAST_PIXEL = 32505
  SAMPLE_FIRST_PIXEL = 1
  SAMPLE_LAST_PIXEL = 8806
  MAP_PROJECTION_ROTATION = 0.0
  MAP_RESOLUTION = 11825.958864773
  MAP_SCALE = 0.005
  MAXIMUM_LATITUDE = -41.291797512194
  MINIMUM_LATITUDE = -44.040402755888
  EASTERNMOST_LONGITUDE = 273.88612607468
  WESTERNMOST_LONGITUDE = 272.91415806295
  LINE_PROJECTION_OFFSET = -488314.5
  SAMPLE_PROJECTION_OFFSET = 4403.5
END_OBJECT = IMAGE_MAP_PROJECTION
/* The JPEG2000 image data file associated with this label. */
OBJECT = COMPRESSED_FILE
  FILE_NAME = "K12_057987_1371_XI_42S086W.JP2"
  RECORD_TYPE = UNDEFINED
  ENCODING_TYPE = "JP2"
  ENCODING_TYPE_VERSION_NAME = "ISO/IEC15444-1:2004"
  INTERCHANGE_FORMAT = BINARY
  /* The name of the original source file. */
  UNCOMPRESSED_FILE_NAME = "K12_057987_1371_XI_42S086W.5887.img"
  /* The amount of original image data. */
  REQUIRED_STORAGE_BYTES = 286239030
  ^DESCRIPTION = "JP2INFO.TXT"
END_OBJECT = COMPRESSED_FILE
/* The source image data definition. */
OBJECT = UNCOMPRESSED_FILE
  FILE_NAME = "K12_057987_1371_XI_42S086W.5887.img"
  RECORD_TYPE = FIXED_LENGTH
  RECORD_BYTES = 8806
  FILE_RECORDS = 32505
  ^IMAGE = "K12_057987_1371_XI_42S086W.5887.img"
  OBJECT = IMAGE
    LINES = 32505
    LINE_SAMPLES = 8806
    BANDS = 1
    CENTER_FILTER_WAVELENGTH = 0.65
    BANDWIDTH = 0.15
    BAND_STORAGE_TYPE = BAND_SEQUENTIAL
    OFFSET = 0.085836765639201
    SCALING_FACTOR = 2.52362984538871e-04
    SAMPLE_BITS = 8
    SAMPLE_BIT_MASK = 2#11111111#
    SAMPLE_TYPE = MSB_UNSIGNED_INTEGER
    CORE_NULL = 0
    CORE_LOW_REPR_SATURATION = 1
    CORE_LOW_INSTR_SATURATION = 1
    CORE_HIGH_REPR_SATURATION = 255
    CORE_HIGH_INSTR_SATURATION = 255
  END_OBJECT = IMAGE
END_OBJECT = UNCOMPRESSED_FILE
END
