PDS_VERSION_ID = PDS3
/* Identification Information */
DATA_SET_ID = "MRO-M-CTX-HiROC-V1.0"
PRODUCT_ID = "J08_047886_1083_XN_71S082W"
PRODUCER_INSTITUTION_NAME = "UNIVERSITY OF ARIZONA"
PRDOUCER_ID = "UA"
PRODUCER_FULL_NAME = "ALFRED MCEWEN"
SOURCE_PRODUCT_ID = NULL
MISSION_NAME = "MARS RECONNAISSANCE ORBITER"
SPACECRAFT_NAME = "MARS RECONNAISSANCE ORBITER"
INSTRUMENT_NAME = "CONTEXT CAMERA"
INSTRUMENT_ID = "MRO-CTX"
TARGET_NAME = "MARS"
START_TIME = "2016-10-13T18:27:21.164"
ORBIT_NUMBER = 47886
SPACECRAFT_CLOCK_START_COUNT = "1160850485:056"
PRODUCT_CREATION_TIME = 2017-06-07T09:45:43
SOFTWARE_NAME = "CTX_Finalizer (1.8 2012/07/11 19:12:08)"
NOTE = "Special map product for HiROC"
OBJECT = IMAGE_MAP_PROJECTION
  MAP_PROJECTION_TYPE = "POLAR STEREOGRAPHIC"
  PROJECTION_LATITUDE_TYPE = PLANETOCENTRIC
  A_AXIS_RADIUS = 3396.19
  B_AXIS_RADIUS = 3396.19
  C_AXIS_RADIUS = 3376.2
  FIRST_STANDARD_PARALLEL = "N/A"
  SECOND_STANDARD_PARALLEL = "N/A"
  COORDINATE_SYSTEM_NAME = PLANETOCENTRIC
  POSITIVE_LONGITUDE_DIRECTION = EAST
  KEYWORD_LATITUDE_TYPE = PLANETOCENTRIC
  CENTER_LATITUDE = -90.0
  CENTER_LONGITUDE = 0.0
  LINE_FIRST_PIXEL = 1
  LINE_LAST_PIXEL = 6763
  SAMPLE_FIRST_PIXEL = 1
  SAMPLE_LAST_PIXEL = 35747
  MAP_PROJECTION_ROTATION = 0.0
  MAP_RESOLUTION = 11785.161241167
  MAP_SCALE = 0.005
  MAXIMUM_LATITUDE = -70.111410062082
  MINIMUM_LATITUDE = -73.077551448555
  EASTERNMOST_LONGITUDE = 278.81472318055
  WESTERNMOST_LONGITUDE = 275.87868811801
  LINE_PROJECTION_OFFSET = 30928.5
  SAMPLE_PROJECTION_OFFSET = 234966.5
END_OBJECT = IMAGE_MAP_PROJECTION
/* The JPEG2000 image data file associated with this label. */
OBJECT = COMPRESSED_FILE
  FILE_NAME = "J08_047886_1083_XN_71S082W.JP2"
  RECORD_TYPE = UNDEFINED
  ENCODING_TYPE = "JP2"
  ENCODING_TYPE_VERSION_NAME = "ISO/IEC15444-1:2004"
  INTERCHANGE_FORMAT = BINARY
  /* The name of the original source file. */
  UNCOMPRESSED_FILE_NAME = "J08_047886_1083_XN_71S082W.25138.img"
  /* The amount of original image data. */
  REQUIRED_STORAGE_BYTES = 241756961
  ^DESCRIPTION = "JP2INFO.TXT"
END_OBJECT = COMPRESSED_FILE
/* The source image data definition. */
OBJECT = UNCOMPRESSED_FILE
  FILE_NAME = "J08_047886_1083_XN_71S082W.25138.img"
  RECORD_TYPE = FIXED_LENGTH
  RECORD_BYTES = 35747
  FILE_RECORDS = 6763
  ^IMAGE = "J08_047886_1083_XN_71S082W.25138.img"
  OBJECT = IMAGE
    LINES = 6763
    LINE_SAMPLES = 35747
    BANDS = 1
    CENTER_FILTER_WAVELENGTH = 0.65
    BANDWIDTH = 0.15
    BAND_STORAGE_TYPE = BAND_SEQUENTIAL
    OFFSET = 0.082131034700216
    SCALING_FACTOR = 4.75091936941683e-04
    SAMPLE_BITS = 8
    SAMPLE_BIT_MASK = 2#11111111#
    SAMPLE_TYPE = MSB_UNSIGNED_INTEGER
    CORE_NULL = 0
    CORE_LOW_REPR_SATURATION = 1
    CORE_LOW_INSTR_SATURATION = 1
    CORE_HIGH_REPR_SATURATION = 255
    CORE_HIGH_INSTR_SATURATION = 255
  END_OBJECT = IMAGE
END_OBJECT = UNCOMPRESSED_FILE
END
