PDS_VERSION_ID = PDS3
/* Identification Information */
DATA_SET_ID = "MRO-M-CTX-HiROC-V1.0"
PRODUCT_ID = "J03_045823_2391_XN_59N301W"
PRODUCER_INSTITUTION_NAME = "UNIVERSITY OF ARIZONA"
PRDOUCER_ID = "UA"
PRODUCER_FULL_NAME = "ALFRED MCEWEN"
SOURCE_PRODUCT_ID = NULL
MISSION_NAME = "MARS RECONNAISSANCE ORBITER"
SPACECRAFT_NAME = "MARS RECONNAISSANCE ORBITER"
INSTRUMENT_NAME = "CONTEXT CAMERA"
INSTRUMENT_ID = "MRO-CTX"
TARGET_NAME = "MARS"
START_TIME = "2016-05-06T00:49:28.140"
ORBIT_NUMBER = 45823
SPACECRAFT_CLOCK_START_COUNT = "1146963011:107"
PRODUCT_CREATION_TIME = 2016-12-12T18:27:53
SOFTWARE_NAME = "CTX_Finalizer (1.8 2012/07/11 19:12:08)"
NOTE = "Special map product for HiROC"
OBJECT = IMAGE_MAP_PROJECTION
  MAP_PROJECTION_TYPE = "EQUIRECTANGULAR"
  PROJECTION_LATITUDE_TYPE = PLANETOCENTRIC
  A_AXIS_RADIUS = 3396.19
  B_AXIS_RADIUS = 3396.19
  C_AXIS_RADIUS = 3376.2
  FIRST_STANDARD_PARALLEL = "N/A"
  SECOND_STANDARD_PARALLEL = "N/A"
  COORDINATE_SYSTEM_NAME = PLANETOCENTRIC
  POSITIVE_LONGITUDE_DIRECTION = EAST
  KEYWORD_LATITUDE_TYPE = PLANETOCENTRIC
  CENTER_LATITUDE = 55
  CENTER_LONGITUDE = 58.610057713044
  LINE_FIRST_PIXEL = 1
  LINE_LAST_PIXEL = 9252
  SAMPLE_FIRST_PIXEL = 1
  SAMPLE_LAST_PIXEL = 8214
  MAP_PROJECTION_ROTATION = 0.0
  MAP_RESOLUTION = 11807.981413876
  MAP_SCALE = 0.005
  MAXIMUM_LATITUDE = 59.243080052566
  MINIMUM_LATITUDE = 58.459630964414
  EASTERNMOST_LONGITUDE = 59.216427074882
  WESTERNMOST_LONGITUDE = 58.003688351205
  LINE_PROJECTION_OFFSET = 699542.5
  SAMPLE_PROJECTION_OFFSET = 4107.5
END_OBJECT = IMAGE_MAP_PROJECTION
/* The JPEG2000 image data file associated with this label. */
OBJECT = COMPRESSED_FILE
  FILE_NAME = "J03_045823_2391_XN_59N301W.JP2"
  RECORD_TYPE = UNDEFINED
  ENCODING_TYPE = "JP2"
  ENCODING_TYPE_VERSION_NAME = "ISO/IEC15444-1:2004"
  INTERCHANGE_FORMAT = BINARY
  /* The name of the original source file. */
  UNCOMPRESSED_FILE_NAME = "J03_045823_2391_XN_59N301W.20642.img"
  /* The amount of original image data. */
  REQUIRED_STORAGE_BYTES = 75995928
  ^DESCRIPTION = "JP2INFO.TXT"
END_OBJECT = COMPRESSED_FILE
/* The source image data definition. */
OBJECT = UNCOMPRESSED_FILE
  FILE_NAME = "J03_045823_2391_XN_59N301W.20642.img"
  RECORD_TYPE = FIXED_LENGTH
  RECORD_BYTES = 8214
  FILE_RECORDS = 9252
  ^IMAGE = "J03_045823_2391_XN_59N301W.20642.img"
  OBJECT = IMAGE
    LINES = 9252
    LINE_SAMPLES = 8214
    BANDS = 1
    CENTER_FILTER_WAVELENGTH = 0.65
    BANDWIDTH = 0.15
    BAND_STORAGE_TYPE = BAND_SEQUENTIAL
    OFFSET = 0.071050177061021
    SCALING_FACTOR = 1.14102944608705e-04
    SAMPLE_BITS = 8
    SAMPLE_BIT_MASK = 2#11111111#
    SAMPLE_TYPE = MSB_UNSIGNED_INTEGER
    CORE_NULL = 0
    CORE_LOW_REPR_SATURATION = 1
    CORE_LOW_INSTR_SATURATION = 1
    CORE_HIGH_REPR_SATURATION = 255
    CORE_HIGH_INSTR_SATURATION = 255
  END_OBJECT = IMAGE
END_OBJECT = UNCOMPRESSED_FILE
END
