PDS_VERSION_ID = PDS3
/* Identification Information */
DATA_SET_ID = "MRO-M-CTX-HiROC-V1.0"
PRODUCT_ID = "F17_042507_1736_XN_06S124W"
PRODUCER_INSTITUTION_NAME = "UNIVERSITY OF ARIZONA"
PRDOUCER_ID = "UA"
PRODUCER_FULL_NAME = "ALFRED MCEWEN"
SOURCE_PRODUCT_ID = NULL
MISSION_NAME = "MARS RECONNAISSANCE ORBITER"
SPACECRAFT_NAME = "MARS RECONNAISSANCE ORBITER"
INSTRUMENT_NAME = "CONTEXT CAMERA"
INSTRUMENT_ID = "MRO-CTX"
TARGET_NAME = "MARS"
START_TIME = "2015-08-21T15:49:38.880"
ORBIT_NUMBER = 42507
SPACECRAFT_CLOCK_START_COUNT = "1124639420:019"
PRODUCT_CREATION_TIME = 2016-05-20T16:31:15
SOFTWARE_NAME = "CTX_Finalizer (1.8 2012/07/11 19:12:08)"
NOTE = "Special map product for HiROC"
OBJECT = IMAGE_MAP_PROJECTION
  MAP_PROJECTION_TYPE = "EQUIRECTANGULAR"
  PROJECTION_LATITUDE_TYPE = PLANETOCENTRIC
  A_AXIS_RADIUS = 3396.19
  B_AXIS_RADIUS = 3396.19
  C_AXIS_RADIUS = 3376.2
  FIRST_STANDARD_PARALLEL = "N/A"
  SECOND_STANDARD_PARALLEL = "N/A"
  COORDINATE_SYSTEM_NAME = PLANETOCENTRIC
  POSITIVE_LONGITUDE_DIRECTION = EAST
  KEYWORD_LATITUDE_TYPE = PLANETOCENTRIC
  CENTER_LATITUDE = -5
  CENTER_LONGITUDE = 235.44174633585
  LINE_FIRST_PIXEL = 1
  LINE_LAST_PIXEL = 8876
  SAMPLE_FIRST_PIXEL = 1
  SAMPLE_LAST_PIXEL = 3574
  MAP_PROJECTION_ROTATION = 0.0
  MAP_RESOLUTION = 5927.2023898846
  MAP_SCALE = 0.01
  MAXIMUM_LATITUDE = -5.6488652781477
  MINIMUM_LATITUDE = -7.1461300170147
  EASTERNMOST_LONGITUDE = 235.74434188587
  WESTERNMOST_LONGITUDE = 235.13915078583
  LINE_PROJECTION_OFFSET = -33480.5
  SAMPLE_PROJECTION_OFFSET = 1787.5
END_OBJECT = IMAGE_MAP_PROJECTION
/* The JPEG2000 image data file associated with this label. */
OBJECT = COMPRESSED_FILE
  FILE_NAME = "F17_042507_1736_XN_06S124W.JP2"
  RECORD_TYPE = UNDEFINED
  ENCODING_TYPE = "JP2"
  ENCODING_TYPE_VERSION_NAME = "ISO/IEC15444-1:2004"
  INTERCHANGE_FORMAT = BINARY
  /* The name of the original source file. */
  UNCOMPRESSED_FILE_NAME = "F17_042507_1736_XN_06S124W.11259.img"
  /* The amount of original image data. */
  REQUIRED_STORAGE_BYTES = 31722824
  ^DESCRIPTION = "JP2INFO.TXT"
END_OBJECT = COMPRESSED_FILE
/* The source image data definition. */
OBJECT = UNCOMPRESSED_FILE
  FILE_NAME = "F17_042507_1736_XN_06S124W.11259.img"
  RECORD_TYPE = FIXED_LENGTH
  RECORD_BYTES = 3574
  FILE_RECORDS = 8876
  ^IMAGE = "F17_042507_1736_XN_06S124W.11259.img"
  OBJECT = IMAGE
    LINES = 8876
    LINE_SAMPLES = 3574
    BANDS = 1
    CENTER_FILTER_WAVELENGTH = 0.65
    BANDWIDTH = 0.15
    BAND_STORAGE_TYPE = BAND_SEQUENTIAL
    OFFSET = 0.16343951007839
    SCALING_FACTOR = 7.47299043367808e-04
    SAMPLE_BITS = 8
    SAMPLE_BIT_MASK = 2#11111111#
    SAMPLE_TYPE = MSB_UNSIGNED_INTEGER
    CORE_NULL = 0
    CORE_LOW_REPR_SATURATION = 1
    CORE_LOW_INSTR_SATURATION = 1
    CORE_HIGH_REPR_SATURATION = 255
    CORE_HIGH_INSTR_SATURATION = 255
  END_OBJECT = IMAGE
END_OBJECT = UNCOMPRESSED_FILE
END
