PDS_VERSION_ID = PDS3
/* Identification Information */
DATA_SET_ID = "MRO-M-CTX-HiROC-V1.0"
PRODUCT_ID = "F17_042373_2297_XI_49N074W"
PRODUCER_INSTITUTION_NAME = "UNIVERSITY OF ARIZONA"
PRDOUCER_ID = "UA"
PRODUCER_FULL_NAME = "ALFRED MCEWEN"
SOURCE_PRODUCT_ID = NULL
MISSION_NAME = "MARS RECONNAISSANCE ORBITER"
SPACECRAFT_NAME = "MARS RECONNAISSANCE ORBITER"
INSTRUMENT_NAME = "CONTEXT CAMERA"
INSTRUMENT_ID = "MRO-CTX"
TARGET_NAME = "MARS"
START_TIME = "2015-08-11T05:31:08.677"
ORBIT_NUMBER = 42373
SPACECRAFT_CLOCK_START_COUNT = "1123738309:211"
PRODUCT_CREATION_TIME = 2016-05-20T03:30:39
SOFTWARE_NAME = "CTX_Finalizer (1.8 2012/07/11 19:12:08)"
NOTE = "Special map product for HiROC"
OBJECT = IMAGE_MAP_PROJECTION
  MAP_PROJECTION_TYPE = "EQUIRECTANGULAR"
  PROJECTION_LATITUDE_TYPE = PLANETOCENTRIC
  A_AXIS_RADIUS = 3396.19
  B_AXIS_RADIUS = 3396.19
  C_AXIS_RADIUS = 3376.2
  FIRST_STANDARD_PARALLEL = "N/A"
  SECOND_STANDARD_PARALLEL = "N/A"
  COORDINATE_SYSTEM_NAME = PLANETOCENTRIC
  POSITIVE_LONGITUDE_DIRECTION = EAST
  KEYWORD_LATITUDE_TYPE = PLANETOCENTRIC
  CENTER_LATITUDE = 45
  CENTER_LONGITUDE = 285.4787499904
  LINE_FIRST_PIXEL = 1
  LINE_LAST_PIXEL = 12386
  SAMPLE_FIRST_PIXEL = 1
  SAMPLE_LAST_PIXEL = 5038
  MAP_PROJECTION_ROTATION = 0.0
  MAP_RESOLUTION = 5909.9479504074
  MAP_SCALE = 0.01
  MAXIMUM_LATITUDE = 50.453568987199
  MINIMUM_LATITUDE = 48.357780902464
  EASTERNMOST_LONGITUDE = 286.08151782056
  WESTERNMOST_LONGITUDE = 284.87598216025
  LINE_PROJECTION_OFFSET = 298178.5
  SAMPLE_PROJECTION_OFFSET = 2519.5
END_OBJECT = IMAGE_MAP_PROJECTION
/* The JPEG2000 image data file associated with this label. */
OBJECT = COMPRESSED_FILE
  FILE_NAME = "F17_042373_2297_XI_49N074W.JP2"
  RECORD_TYPE = UNDEFINED
  ENCODING_TYPE = "JP2"
  ENCODING_TYPE_VERSION_NAME = "ISO/IEC15444-1:2004"
  INTERCHANGE_FORMAT = BINARY
  /* The name of the original source file. */
  UNCOMPRESSED_FILE_NAME = "F17_042373_2297_XI_49N074W.25036.img"
  /* The amount of original image data. */
  REQUIRED_STORAGE_BYTES = 62400668
  ^DESCRIPTION = "JP2INFO.TXT"
END_OBJECT = COMPRESSED_FILE
/* The source image data definition. */
OBJECT = UNCOMPRESSED_FILE
  FILE_NAME = "F17_042373_2297_XI_49N074W.25036.img"
  RECORD_TYPE = FIXED_LENGTH
  RECORD_BYTES = 5038
  FILE_RECORDS = 12386
  ^IMAGE = "F17_042373_2297_XI_49N074W.25036.img"
  OBJECT = IMAGE
    LINES = 12386
    LINE_SAMPLES = 5038
    BANDS = 1
    CENTER_FILTER_WAVELENGTH = 0.65
    BANDWIDTH = 0.15
    BAND_STORAGE_TYPE = BAND_SEQUENTIAL
    OFFSET = 0.089721536878979
    SCALING_FACTOR = 6.80558334897336e-04
    SAMPLE_BITS = 8
    SAMPLE_BIT_MASK = 2#11111111#
    SAMPLE_TYPE = MSB_UNSIGNED_INTEGER
    CORE_NULL = 0
    CORE_LOW_REPR_SATURATION = 1
    CORE_LOW_INSTR_SATURATION = 1
    CORE_HIGH_REPR_SATURATION = 255
    CORE_HIGH_INSTR_SATURATION = 255
  END_OBJECT = IMAGE
END_OBJECT = UNCOMPRESSED_FILE
END
