PDS_VERSION_ID = PDS3
/* Identification Information */
DATA_SET_ID = "MRO-M-CTX-HiROC-V1.0"
PRODUCT_ID = "F03_037130_2280_XI_48N225W"
PRODUCER_INSTITUTION_NAME = "UNIVERSITY OF ARIZONA"
PRDOUCER_ID = "UA"
PRODUCER_FULL_NAME = "ALFRED MCEWEN"
SOURCE_PRODUCT_ID = NULL
MISSION_NAME = "MARS RECONNAISSANCE ORBITER"
SPACECRAFT_NAME = "MARS RECONNAISSANCE ORBITER"
INSTRUMENT_NAME = "CONTEXT CAMERA"
INSTRUMENT_ID = "MRO-CTX"
TARGET_NAME = "MARS"
START_TIME = "2014-06-28T17:23:54.859"
ORBIT_NUMBER = 37130
SPACECRAFT_CLOCK_START_COUNT = "1088443472:205"
PRODUCT_CREATION_TIME = 2015-03-06T15:44:18
SOFTWARE_NAME = "CTX_Finalizer (1.8 2012/07/11 19:12:08)"
NOTE = "Special map product for HiROC"
OBJECT = IMAGE_MAP_PROJECTION
  MAP_PROJECTION_TYPE = "EQUIRECTANGULAR"
  PROJECTION_LATITUDE_TYPE = PLANETOCENTRIC
  A_AXIS_RADIUS = 3396.19
  B_AXIS_RADIUS = 3396.19
  C_AXIS_RADIUS = 3376.2
  FIRST_STANDARD_PARALLEL = "N/A"
  SECOND_STANDARD_PARALLEL = "N/A"
  COORDINATE_SYSTEM_NAME = PLANETOCENTRIC
  POSITIVE_LONGITUDE_DIRECTION = EAST
  KEYWORD_LATITUDE_TYPE = PLANETOCENTRIC
  CENTER_LATITUDE = 45
  CENTER_LONGITUDE = 134.24252739252
  LINE_FIRST_PIXEL = 1
  LINE_LAST_PIXEL = 15965
  SAMPLE_FIRST_PIXEL = 1
  SAMPLE_LAST_PIXEL = 5138
  MAP_PROJECTION_ROTATION = 0.0
  MAP_RESOLUTION = 5909.9479504074
  MAP_SCALE = 0.01
  MAXIMUM_LATITUDE = 49.130735983682
  MINIMUM_LATITUDE = 46.429521173685
  EASTERNMOST_LONGITUDE = 134.85720715364
  WESTERNMOST_LONGITUDE = 133.6278476314
  LINE_PROJECTION_OFFSET = 290361.5
  SAMPLE_PROJECTION_OFFSET = 2569.5
END_OBJECT = IMAGE_MAP_PROJECTION
/* The JPEG2000 image data file associated with this label. */
OBJECT = COMPRESSED_FILE
  FILE_NAME = "F03_037130_2280_XI_48N225W.JP2"
  RECORD_TYPE = UNDEFINED
  ENCODING_TYPE = "JP2"
  ENCODING_TYPE_VERSION_NAME = "ISO/IEC15444-1:2004"
  INTERCHANGE_FORMAT = BINARY
  /* The name of the original source file. */
  UNCOMPRESSED_FILE_NAME = "F03_037130_2280_XI_48N225W.23418.img"
  /* The amount of original image data. */
  REQUIRED_STORAGE_BYTES = 82028170
  ^DESCRIPTION = "JP2INFO.TXT"
END_OBJECT = COMPRESSED_FILE
/* The source image data definition. */
OBJECT = UNCOMPRESSED_FILE
  FILE_NAME = "F03_037130_2280_XI_48N225W.23418.img"
  RECORD_TYPE = FIXED_LENGTH
  RECORD_BYTES = 5138
  FILE_RECORDS = 15965
  ^IMAGE = "F03_037130_2280_XI_48N225W.23418.img"
  OBJECT = IMAGE
    LINES = 15965
    LINE_SAMPLES = 5138
    BANDS = 1
    CENTER_FILTER_WAVELENGTH = 0.65
    BANDWIDTH = 0.15
    BAND_STORAGE_TYPE = BAND_SEQUENTIAL
    OFFSET = 0.10360762203372
    SCALING_FACTOR = 3.96850126389151e-04
    SAMPLE_BITS = 8
    SAMPLE_BIT_MASK = 2#11111111#
    SAMPLE_TYPE = MSB_UNSIGNED_INTEGER
    CORE_NULL = 0
    CORE_LOW_REPR_SATURATION = 1
    CORE_LOW_INSTR_SATURATION = 1
    CORE_HIGH_REPR_SATURATION = 255
    CORE_HIGH_INSTR_SATURATION = 255
  END_OBJECT = IMAGE
END_OBJECT = UNCOMPRESSED_FILE
END
