PDS_VERSION_ID = PDS3
/* Identification Information */
DATA_SET_ID = "MRO-M-CTX-HiROC-V1.0"
PRODUCT_ID = "F02_036647_2342_XN_54N359W"
PRODUCER_INSTITUTION_NAME = "UNIVERSITY OF ARIZONA"
PRDOUCER_ID = "UA"
PRODUCER_FULL_NAME = "ALFRED MCEWEN"
SOURCE_PRODUCT_ID = NULL
MISSION_NAME = "MARS RECONNAISSANCE ORBITER"
SPACECRAFT_NAME = "MARS RECONNAISSANCE ORBITER"
INSTRUMENT_NAME = "CONTEXT CAMERA"
INSTRUMENT_ID = "MRO-CTX"
TARGET_NAME = "MARS"
START_TIME = "2014-05-22T02:04:50.439"
ORBIT_NUMBER = 36647
SPACECRAFT_CLOCK_START_COUNT = "1085191528:056"
PRODUCT_CREATION_TIME = 2014-12-19T10:44:55
SOFTWARE_NAME = "CTX_Finalizer (1.8 2012/07/11 19:12:08)"
NOTE = "Special map product for HiROC"
OBJECT = IMAGE_MAP_PROJECTION
  MAP_PROJECTION_TYPE = "EQUIRECTANGULAR"
  PROJECTION_LATITUDE_TYPE = PLANETOCENTRIC
  A_AXIS_RADIUS = 3396.19
  B_AXIS_RADIUS = 3396.19
  C_AXIS_RADIUS = 3376.2
  FIRST_STANDARD_PARALLEL = "N/A"
  SECOND_STANDARD_PARALLEL = "N/A"
  COORDINATE_SYSTEM_NAME = PLANETOCENTRIC
  POSITIVE_LONGITUDE_DIRECTION = EAST
  KEYWORD_LATITUDE_TYPE = PLANETOCENTRIC
  CENTER_LATITUDE = 50
  CENTER_LONGITUDE = 0.51595192340457
  LINE_FIRST_PIXEL = 1
  LINE_LAST_PIXEL = 61590
  SAMPLE_FIRST_PIXEL = 1
  SAMPLE_LAST_PIXEL = 14901
  MAP_PROJECTION_ROTATION = 0.0
  MAP_RESOLUTION = 11813.842252435
  MAP_SCALE = 0.005
  MAXIMUM_LATITUDE = 56.588925726256
  MINIMUM_LATITUDE = 51.375616010655
  EASTERNMOST_LONGITUDE = 1.4970647132228
  WESTERNMOST_LONGITUDE = -0.46516086641367
  LINE_PROJECTION_OFFSET = 668533.5
  SAMPLE_PROJECTION_OFFSET = 7451.5
END_OBJECT = IMAGE_MAP_PROJECTION
/* The JPEG2000 image data file associated with this label. */
OBJECT = COMPRESSED_FILE
  FILE_NAME = "F02_036647_2342_XN_54N359W.JP2"
  RECORD_TYPE = UNDEFINED
  ENCODING_TYPE = "JP2"
  ENCODING_TYPE_VERSION_NAME = "ISO/IEC15444-1:2004"
  INTERCHANGE_FORMAT = BINARY
  /* The name of the original source file. */
  UNCOMPRESSED_FILE_NAME = "F02_036647_2342_XN_54N359W.5854.img"
  /* The amount of original image data. */
  REQUIRED_STORAGE_BYTES = 917752590
  ^DESCRIPTION = "JP2INFO.TXT"
END_OBJECT = COMPRESSED_FILE
/* The source image data definition. */
OBJECT = UNCOMPRESSED_FILE
  FILE_NAME = "F02_036647_2342_XN_54N359W.5854.img"
  RECORD_TYPE = FIXED_LENGTH
  RECORD_BYTES = 14901
  FILE_RECORDS = 61590
  ^IMAGE = "F02_036647_2342_XN_54N359W.5854.img"
  OBJECT = IMAGE
    LINES = 61590
    LINE_SAMPLES = 14901
    BANDS = 1
    CENTER_FILTER_WAVELENGTH = 0.65
    BANDWIDTH = 0.15
    BAND_STORAGE_TYPE = BAND_SEQUENTIAL
    OFFSET = 0.080923318206905
    SCALING_FACTOR = 1.60472739994792e-04
    SAMPLE_BITS = 8
    SAMPLE_BIT_MASK = 2#11111111#
    SAMPLE_TYPE = MSB_UNSIGNED_INTEGER
    CORE_NULL = 0
    CORE_LOW_REPR_SATURATION = 1
    CORE_LOW_INSTR_SATURATION = 1
    CORE_HIGH_REPR_SATURATION = 255
    CORE_HIGH_INSTR_SATURATION = 255
  END_OBJECT = IMAGE
END_OBJECT = UNCOMPRESSED_FILE
END
