PDS_VERSION_ID = PDS3
/* Identification Information */
DATA_SET_ID = "MRO-M-CTX-HiROC-V1.0"
PRODUCT_ID = "D19_034828_2326_XN_52N019W"
PRODUCER_INSTITUTION_NAME = "UNIVERSITY OF ARIZONA"
PRDOUCER_ID = "UA"
PRODUCER_FULL_NAME = "ALFRED MCEWEN"
SOURCE_PRODUCT_ID = NULL
MISSION_NAME = "MARS RECONNAISSANCE ORBITER"
SPACECRAFT_NAME = "MARS RECONNAISSANCE ORBITER"
INSTRUMENT_NAME = "CONTEXT CAMERA"
INSTRUMENT_ID = "MRO-CTX"
TARGET_NAME = "MARS"
START_TIME = "2013-12-31T08:23:04.606"
ORBIT_NUMBER = 34828
SPACECRAFT_CLOCK_START_COUNT = "1072945421:151"
PRODUCT_CREATION_TIME = 2014-09-07T20:56:30
SOFTWARE_NAME = "CTX_Finalizer (1.8 2012/07/11 19:12:08)"
NOTE = "Special map product for HiROC"
OBJECT = IMAGE_MAP_PROJECTION
  MAP_PROJECTION_TYPE = "EQUIRECTANGULAR"
  PROJECTION_LATITUDE_TYPE = PLANETOCENTRIC
  A_AXIS_RADIUS = 3396.19
  B_AXIS_RADIUS = 3396.19
  C_AXIS_RADIUS = 3376.2
  FIRST_STANDARD_PARALLEL = "N/A"
  SECOND_STANDARD_PARALLEL = "N/A"
  COORDINATE_SYSTEM_NAME = PLANETOCENTRIC
  POSITIVE_LONGITUDE_DIRECTION = EAST
  KEYWORD_LATITUDE_TYPE = PLANETOCENTRIC
  CENTER_LATITUDE = 50
  CENTER_LONGITUDE = 340.68598402555
  LINE_FIRST_PIXEL = 1
  LINE_LAST_PIXEL = 6517
  SAMPLE_FIRST_PIXEL = 1
  SAMPLE_LAST_PIXEL = 5485
  MAP_PROJECTION_ROTATION = 0.0
  MAP_RESOLUTION = 11813.842252435
  MAP_SCALE = 0.005
  MAXIMUM_LATITUDE = 52.554910569486
  MINIMUM_LATITUDE = 52.003306361836
  EASTERNMOST_LONGITUDE = 341.04713237215
  WESTERNMOST_LONGITUDE = 340.32483567895
  LINE_PROJECTION_OFFSET = 620876.5
  SAMPLE_PROJECTION_OFFSET = 2743.5
END_OBJECT = IMAGE_MAP_PROJECTION
/* The JPEG2000 image data file associated with this label. */
OBJECT = COMPRESSED_FILE
  FILE_NAME = "D19_034828_2326_XN_52N019W.JP2"
  RECORD_TYPE = UNDEFINED
  ENCODING_TYPE = "JP2"
  ENCODING_TYPE_VERSION_NAME = "ISO/IEC15444-1:2004"
  INTERCHANGE_FORMAT = BINARY
  /* The name of the original source file. */
  UNCOMPRESSED_FILE_NAME = "D19_034828_2326_XN_52N019W.29522.img"
  /* The amount of original image data. */
  REQUIRED_STORAGE_BYTES = 35745745
  ^DESCRIPTION = "JP2INFO.TXT"
END_OBJECT = COMPRESSED_FILE
/* The source image data definition. */
OBJECT = UNCOMPRESSED_FILE
  FILE_NAME = "D19_034828_2326_XN_52N019W.29522.img"
  RECORD_TYPE = FIXED_LENGTH
  RECORD_BYTES = 5485
  FILE_RECORDS = 6517
  ^IMAGE = "D19_034828_2326_XN_52N019W.29522.img"
  OBJECT = IMAGE
    LINES = 6517
    LINE_SAMPLES = 5485
    BANDS = 1
    CENTER_FILTER_WAVELENGTH = 0.65
    BANDWIDTH = 0.15
    BAND_STORAGE_TYPE = BAND_SEQUENTIAL
    OFFSET = 0.07066636758058
    SCALING_FACTOR = 1.59432569563891e-04
    SAMPLE_BITS = 8
    SAMPLE_BIT_MASK = 2#11111111#
    SAMPLE_TYPE = MSB_UNSIGNED_INTEGER
    CORE_NULL = 0
    CORE_LOW_REPR_SATURATION = 1
    CORE_LOW_INSTR_SATURATION = 1
    CORE_HIGH_REPR_SATURATION = 255
    CORE_HIGH_INSTR_SATURATION = 255
  END_OBJECT = IMAGE
END_OBJECT = UNCOMPRESSED_FILE
END
