PDS_VERSION_ID = PDS3
/* Identification Information */
DATA_SET_ID = "MRO-M-CTX-HiROC-V1.0"
PRODUCT_ID = "D16_033645_1850_XI_05N114W"
PRODUCER_INSTITUTION_NAME = "UNIVERSITY OF ARIZONA"
PRDOUCER_ID = "UA"
PRODUCER_FULL_NAME = "ALFRED MCEWEN"
SOURCE_PRODUCT_ID = NULL
MISSION_NAME = "MARS RECONNAISSANCE ORBITER"
SPACECRAFT_NAME = "MARS RECONNAISSANCE ORBITER"
INSTRUMENT_NAME = "CONTEXT CAMERA"
INSTRUMENT_ID = "MRO-CTX"
TARGET_NAME = "MARS"
START_TIME = "2013-09-30T03:43:13.263"
ORBIT_NUMBER = 33645
SPACECRAFT_CLOCK_START_COUNT = "1064979829:218"
PRODUCT_CREATION_TIME = 2014-11-08T15:14:20
SOFTWARE_NAME = "CTX_Finalizer (1.8 2012/07/11 19:12:08)"
NOTE = "Special map product for HiROC"
OBJECT = IMAGE_MAP_PROJECTION
  MAP_PROJECTION_TYPE = "EQUIRECTANGULAR"
  PROJECTION_LATITUDE_TYPE = PLANETOCENTRIC
  A_AXIS_RADIUS = 3396.19
  B_AXIS_RADIUS = 3396.19
  C_AXIS_RADIUS = 3376.2
  FIRST_STANDARD_PARALLEL = "N/A"
  SECOND_STANDARD_PARALLEL = "N/A"
  COORDINATE_SYSTEM_NAME = PLANETOCENTRIC
  POSITIVE_LONGITUDE_DIRECTION = EAST
  KEYWORD_LATITUDE_TYPE = PLANETOCENTRIC
  CENTER_LATITUDE = 0
  CENTER_LONGITUDE = 245.59178353354
  LINE_FIRST_PIXEL = 1
  LINE_LAST_PIXEL = 12525
  SAMPLE_FIRST_PIXEL = 1
  SAMPLE_LAST_PIXEL = 4129
  MAP_PROJECTION_ROTATION = 0.0
  MAP_RESOLUTION = 5927.4697523306
  MAP_SCALE = 0.01
  MAXIMUM_LATITUDE = 6.0564032370528
  MINIMUM_LATITUDE = 3.9434771241141
  EASTERNMOST_LONGITUDE = 245.94002036862
  WESTERNMOST_LONGITUDE = 245.24354669846
  LINE_PROJECTION_OFFSET = 35900.5
  SAMPLE_PROJECTION_OFFSET = 2065.5
END_OBJECT = IMAGE_MAP_PROJECTION
/* The JPEG2000 image data file associated with this label. */
OBJECT = COMPRESSED_FILE
  FILE_NAME = "D16_033645_1850_XI_05N114W.JP2"
  RECORD_TYPE = UNDEFINED
  ENCODING_TYPE = "JP2"
  ENCODING_TYPE_VERSION_NAME = "ISO/IEC15444-1:2004"
  INTERCHANGE_FORMAT = BINARY
  /* The name of the original source file. */
  UNCOMPRESSED_FILE_NAME = "D16_033645_1850_XI_05N114W.18518.img"
  /* The amount of original image data. */
  REQUIRED_STORAGE_BYTES = 51715725
  ^DESCRIPTION = "JP2INFO.TXT"
END_OBJECT = COMPRESSED_FILE
/* The source image data definition. */
OBJECT = UNCOMPRESSED_FILE
  FILE_NAME = "D16_033645_1850_XI_05N114W.18518.img"
  RECORD_TYPE = FIXED_LENGTH
  RECORD_BYTES = 4129
  FILE_RECORDS = 12525
  ^IMAGE = "D16_033645_1850_XI_05N114W.18518.img"
  OBJECT = IMAGE
    LINES = 12525
    LINE_SAMPLES = 4129
    BANDS = 1
    CENTER_FILTER_WAVELENGTH = 0.65
    BANDWIDTH = 0.15
    BAND_STORAGE_TYPE = BAND_SEQUENTIAL
    OFFSET = 0.22050872523069
    SCALING_FACTOR = 7.03527221988482e-04
    SAMPLE_BITS = 8
    SAMPLE_BIT_MASK = 2#11111111#
    SAMPLE_TYPE = MSB_UNSIGNED_INTEGER
    CORE_NULL = 0
    CORE_LOW_REPR_SATURATION = 1
    CORE_LOW_INSTR_SATURATION = 1
    CORE_HIGH_REPR_SATURATION = 255
    CORE_HIGH_INSTR_SATURATION = 255
  END_OBJECT = IMAGE
END_OBJECT = UNCOMPRESSED_FILE
END
