PDS_VERSION_ID = PDS3
/* Identification Information */
DATA_SET_ID = "MRO-M-CTX-HiROC-V1.0"
PRODUCT_ID = "D16_033369_1289_XN_51S132W"
PRODUCER_INSTITUTION_NAME = "UNIVERSITY OF ARIZONA"
PRDOUCER_ID = "UA"
PRODUCER_FULL_NAME = "ALFRED MCEWEN"
SOURCE_PRODUCT_ID = NULL
MISSION_NAME = "MARS RECONNAISSANCE ORBITER"
SPACECRAFT_NAME = "MARS RECONNAISSANCE ORBITER"
INSTRUMENT_NAME = "CONTEXT CAMERA"
INSTRUMENT_ID = "MRO-CTX"
TARGET_NAME = "MARS"
START_TIME = "2013-09-08T15:15:21.673"
ORBIT_NUMBER = 33369
SPACECRAFT_CLOCK_START_COUNT = "1063120558:043"
PRODUCT_CREATION_TIME = 2014-11-07T10:31:29
SOFTWARE_NAME = "CTX_Finalizer (1.8 2012/07/11 19:12:08)"
NOTE = "Special map product for HiROC"
OBJECT = IMAGE_MAP_PROJECTION
  MAP_PROJECTION_TYPE = "EQUIRECTANGULAR"
  PROJECTION_LATITUDE_TYPE = PLANETOCENTRIC
  A_AXIS_RADIUS = 3396.19
  B_AXIS_RADIUS = 3396.19
  C_AXIS_RADIUS = 3376.2
  FIRST_STANDARD_PARALLEL = "N/A"
  SECOND_STANDARD_PARALLEL = "N/A"
  COORDINATE_SYSTEM_NAME = PLANETOCENTRIC
  POSITIVE_LONGITUDE_DIRECTION = EAST
  KEYWORD_LATITUDE_TYPE = PLANETOCENTRIC
  CENTER_LATITUDE = -50
  CENTER_LONGITUDE = 227.37525381578
  LINE_FIRST_PIXEL = 1
  LINE_LAST_PIXEL = 63149
  SAMPLE_FIRST_PIXEL = 1
  SAMPLE_LAST_PIXEL = 12153
  MAP_PROJECTION_ROTATION = 0.0
  MAP_RESOLUTION = 11813.842252435
  MAP_SCALE = 0.005
  MAXIMUM_LATITUDE = -48.194980773495
  MINIMUM_LATITUDE = -53.540222913423
  EASTERNMOST_LONGITUDE = 228.17541683994
  WESTERNMOST_LONGITUDE = 226.57509079161
  LINE_PROJECTION_OFFSET = -569366.5
  SAMPLE_PROJECTION_OFFSET = 6077.5
END_OBJECT = IMAGE_MAP_PROJECTION
/* The JPEG2000 image data file associated with this label. */
OBJECT = COMPRESSED_FILE
  FILE_NAME = "D16_033369_1289_XN_51S132W.JP2"
  RECORD_TYPE = UNDEFINED
  ENCODING_TYPE = "JP2"
  ENCODING_TYPE_VERSION_NAME = "ISO/IEC15444-1:2004"
  INTERCHANGE_FORMAT = BINARY
  /* The name of the original source file. */
  UNCOMPRESSED_FILE_NAME = "D16_033369_1289_XN_51S132W.23754.img"
  /* The amount of original image data. */
  REQUIRED_STORAGE_BYTES = 767449797
  ^DESCRIPTION = "JP2INFO.TXT"
END_OBJECT = COMPRESSED_FILE
/* The source image data definition. */
OBJECT = UNCOMPRESSED_FILE
  FILE_NAME = "D16_033369_1289_XN_51S132W.23754.img"
  RECORD_TYPE = FIXED_LENGTH
  RECORD_BYTES = 12153
  FILE_RECORDS = 63149
  ^IMAGE = "D16_033369_1289_XN_51S132W.23754.img"
  OBJECT = IMAGE
    LINES = 63149
    LINE_SAMPLES = 12153
    BANDS = 1
    CENTER_FILTER_WAVELENGTH = 0.65
    BANDWIDTH = 0.15
    BAND_STORAGE_TYPE = BAND_SEQUENTIAL
    OFFSET = 0.031559379049772
    SCALING_FACTOR = 2.09954283755692e-04
    SAMPLE_BITS = 8
    SAMPLE_BIT_MASK = 2#11111111#
    SAMPLE_TYPE = MSB_UNSIGNED_INTEGER
    CORE_NULL = 0
    CORE_LOW_REPR_SATURATION = 1
    CORE_LOW_INSTR_SATURATION = 1
    CORE_HIGH_REPR_SATURATION = 255
    CORE_HIGH_INSTR_SATURATION = 255
  END_OBJECT = IMAGE
END_OBJECT = UNCOMPRESSED_FILE
END
