PDS_VERSION_ID = PDS3
/* Identification Information */
DATA_SET_ID = "MRO-M-CTX-HiROC-V1.0"
PRODUCT_ID = "D04_028884_0984_XN_81S064W"
PRODUCER_INSTITUTION_NAME = "UNIVERSITY OF ARIZONA"
PRDOUCER_ID = "UA"
PRODUCER_FULL_NAME = "ALFRED MCEWEN"
SOURCE_PRODUCT_ID = NULL
MISSION_NAME = "MARS RECONNAISSANCE ORBITER"
SPACECRAFT_NAME = "MARS RECONNAISSANCE ORBITER"
INSTRUMENT_NAME = "CONTEXT CAMERA"
INSTRUMENT_ID = "MRO-CTX"
TARGET_NAME = "MARS"
START_TIME = "2012-09-24T03:17:15.599"
ORBIT_NUMBER = 28884
SPACECRAFT_CLOCK_START_COUNT = "1032923870:144"
PRODUCT_CREATION_TIME = 2014-03-17T13:35:59
SOFTWARE_NAME = "CTX_Finalizer (1.8 2012/07/11 19:12:08)"
NOTE = "Special map product for HiROC"
OBJECT = IMAGE_MAP_PROJECTION
  MAP_PROJECTION_TYPE = "POLAR STEREOGRAPHIC"
  PROJECTION_LATITUDE_TYPE = PLANETOCENTRIC
  A_AXIS_RADIUS = 3396.19
  B_AXIS_RADIUS = 3396.19
  C_AXIS_RADIUS = 3376.2
  FIRST_STANDARD_PARALLEL = "N/A"
  SECOND_STANDARD_PARALLEL = "N/A"
  COORDINATE_SYSTEM_NAME = PLANETOCENTRIC
  POSITIVE_LONGITUDE_DIRECTION = EAST
  KEYWORD_LATITUDE_TYPE = PLANETOCENTRIC
  CENTER_LATITUDE = -90.0
  CENTER_LONGITUDE = 0.0
  LINE_FIRST_PIXEL = 1
  LINE_LAST_PIXEL = 6927
  SAMPLE_FIRST_PIXEL = 1
  SAMPLE_LAST_PIXEL = 17875
  MAP_PROJECTION_ROTATION = 0.0
  MAP_RESOLUTION = 11785.161241167
  MAP_SCALE = 0.005
  MAXIMUM_LATITUDE = -80.726067205743
  MINIMUM_LATITUDE = -82.25133003704
  EASTERNMOST_LONGITUDE = 299.08426699134
  WESTERNMOST_LONGITUDE = 293.12552024667
  LINE_PROJECTION_OFFSET = 47339.5
  SAMPLE_PROJECTION_OFFSET = 99339.5
END_OBJECT = IMAGE_MAP_PROJECTION
/* The JPEG2000 image data file associated with this label. */
OBJECT = COMPRESSED_FILE
  FILE_NAME = "D04_028884_0984_XN_81S064W.JP2"
  RECORD_TYPE = UNDEFINED
  ENCODING_TYPE = "JP2"
  ENCODING_TYPE_VERSION_NAME = "ISO/IEC15444-1:2004"
  INTERCHANGE_FORMAT = BINARY
  /* The name of the original source file. */
  UNCOMPRESSED_FILE_NAME = "D04_028884_0984_XN_81S064W.539.img"
  /* The amount of original image data. */
  REQUIRED_STORAGE_BYTES = 123820125
  ^DESCRIPTION = "JP2INFO.TXT"
END_OBJECT = COMPRESSED_FILE
/* The source image data definition. */
OBJECT = UNCOMPRESSED_FILE
  FILE_NAME = "D04_028884_0984_XN_81S064W.539.img"
  RECORD_TYPE = FIXED_LENGTH
  RECORD_BYTES = 17875
  FILE_RECORDS = 6927
  ^IMAGE = "D04_028884_0984_XN_81S064W.539.img"
  OBJECT = IMAGE
    LINES = 6927
    LINE_SAMPLES = 17875
    BANDS = 1
    CENTER_FILTER_WAVELENGTH = 0.65
    BANDWIDTH = 0.15
    BAND_STORAGE_TYPE = BAND_SEQUENTIAL
    OFFSET = 0.0061064498682568
    SCALING_FACTOR = 3.96568192146407e-05
    SAMPLE_BITS = 8
    SAMPLE_BIT_MASK = 2#11111111#
    SAMPLE_TYPE = MSB_UNSIGNED_INTEGER
    CORE_NULL = 0
    CORE_LOW_REPR_SATURATION = 1
    CORE_LOW_INSTR_SATURATION = 1
    CORE_HIGH_REPR_SATURATION = 255
    CORE_HIGH_INSTR_SATURATION = 255
  END_OBJECT = IMAGE
END_OBJECT = UNCOMPRESSED_FILE
END
