PDS_VERSION_ID = PDS3
/* Identification Information */
DATA_SET_ID = "MRO-M-CTX-HiROC-V1.0"
PRODUCT_ID = "G17_024885_2093_XN_29N000W"
PRODUCER_INSTITUTION_NAME = "UNIVERSITY OF ARIZONA"
PRDOUCER_ID = "UA"
PRODUCER_FULL_NAME = "ALFRED MCEWEN"
SOURCE_PRODUCT_ID = NULL
MISSION_NAME = "MARS RECONNAISSANCE ORBITER"
SPACECRAFT_NAME = "MARS RECONNAISSANCE ORBITER"
INSTRUMENT_NAME = "CONTEXT CAMERA"
INSTRUMENT_ID = "MRO-CTX"
TARGET_NAME = "Mars"
START_TIME = "2011-11-17T13:39:50.174"
ORBIT_NUMBER = 24885
SPACECRAFT_CLOCK_START_COUNT = "1006004423:020"
PRODUCT_CREATION_TIME = 2012-06-20T23:37:26
SOFTWARE_NAME = "CTX_Finalizer (1.7 2011/06/20 22:58:41)"
NOTE = "Special map product for HiROC"
OBJECT = IMAGE_MAP_PROJECTION
  MAP_PROJECTION_TYPE = "EQUIRECTANGULAR"
  PROJECTION_LATITUDE_TYPE = PLANETOCENTRIC
  A_AXIS_RADIUS = 3396.19
  B_AXIS_RADIUS = 3396.19
  C_AXIS_RADIUS = 3376.2
  FIRST_STANDARD_PARALLEL = "N/A"
  SECOND_STANDARD_PARALLEL = "N/A"
  COORDINATE_SYSTEM_NAME = PLANETOCENTRIC
  POSITIVE_LONGITUDE_DIRECTION = EAST
  KEYWORD_LATITUDE_TYPE = PLANETOCENTRIC
  CENTER_LATITUDE = 25
  CENTER_LONGITUDE = 0.0
  LINE_FIRST_PIXEL = 1
  LINE_LAST_PIXEL = 41361
  SAMPLE_FIRST_PIXEL = 1
  SAMPLE_LAST_PIXEL = 8543
  MAP_PROJECTION_ROTATION = 0.0
  MAP_RESOLUTION = 11842.385738967
  MAP_SCALE = 0.005
  MAXIMUM_LATITUDE = 30.793725329277
  MINIMUM_LATITUDE = 27.301155575946
  EASTERNMOST_LONGITUDE = 359.67960403121
  WESTERNMOST_LONGITUDE = 358.8836500387
  LINE_PROJECTION_OFFSET = 364672.5
  SAMPLE_PROJECTION_OFFSET = -3851842.5
END_OBJECT = IMAGE_MAP_PROJECTION
/* The JPEG2000 image data file associated with this label. */
OBJECT = COMPRESSED_FILE
  FILE_NAME = "G17_024885_2093_XN_29N000W.JP2"
  RECORD_TYPE = UNDEFINED
  ENCODING_TYPE = "JP2"
  ENCODING_TYPE_VERSION_NAME = "ISO/IEC15444-1:2004"
  INTERCHANGE_FORMAT = BINARY
  /* The name of the original source file. */
  UNCOMPRESSED_FILE_NAME = "G17_024885_2093_XN_29N000W.24015.img"
  /* The amount of original image data. */
  REQUIRED_STORAGE_BYTES = 353347023
  ^DESCRIPTION = "JP2INFO.TXT"
END_OBJECT = COMPRESSED_FILE
/* The source image data definition. */
OBJECT = UNCOMPRESSED_FILE
  FILE_NAME = "G17_024885_2093_XN_29N000W.24015.img"
  RECORD_TYPE = FIXED_LENGTH
  RECORD_BYTES = 8543
  FILE_RECORDS = 41361
  ^IMAGE = "G17_024885_2093_XN_29N000W.24015.img"
  OBJECT = IMAGE
    LINES = 41361
    LINE_SAMPLES = 8543
    BANDS = 1
    CENTER_FILTER_WAVELENGTH = 0.65
    BANDWIDTH = 0.15
    BAND_STORAGE_TYPE = BAND_SEQUENTIAL
    OFFSET = 0.10783282818716
    SCALING_FACTOR = 2.92258364816761e-04
    SAMPLE_BITS = 8
    SAMPLE_BIT_MASK = 2#11111111#
    SAMPLE_TYPE = MSB_UNSIGNED_INTEGER
    CORE_NULL = 0
    CORE_LOW_REPR_SATURATION = 1
    CORE_LOW_INSTR_SATURATION = 1
    CORE_HIGH_REPR_SATURATION = 255
    CORE_HIGH_INSTR_SATURATION = 255
  END_OBJECT = IMAGE
END_OBJECT = UNCOMPRESSED_FILE
END
