PDS_VERSION_ID = PDS3
/* Identification Information */
DATA_SET_ID = "MRO-M-CTX-HiROC-V1.0"
PRODUCT_ID = "G10_021930_1477_XN_32S318W"
PRODUCER_INSTITUTION_NAME = "UNIVERSITY OF ARIZONA"
PRDOUCER_ID = "UA"
PRODUCER_FULL_NAME = "ALFRED MCEWEN"
SOURCE_PRODUCT_ID = NULL
MISSION_NAME = "MARS RECONNAISSANCE ORBITER"
SPACECRAFT_NAME = "MARS RECONNAISSANCE ORBITER"
INSTRUMENT_NAME = "CONTEXT CAMERA"
INSTRUMENT_ID = "MRO-CTX"
TARGET_NAME = "Mars"
START_TIME = "2011-04-01T07:09:32.650"
ORBIT_NUMBER = 21930
SPACECRAFT_CLOCK_START_COUNT = "0986109004:172"
PRODUCT_CREATION_TIME = 2012-05-19T14:58:39
SOFTWARE_NAME = "CTX_Finalizer (1.7 2011/06/20 22:58:41)"
NOTE = "Special map product for HiROC"
OBJECT = IMAGE_MAP_PROJECTION
  MAP_PROJECTION_TYPE = "EQUIRECTANGULAR"
  PROJECTION_LATITUDE_TYPE = PLANETOCENTRIC
  A_AXIS_RADIUS = 3396.19
  B_AXIS_RADIUS = 3396.19
  C_AXIS_RADIUS = 3376.2
  FIRST_STANDARD_PARALLEL = "N/A"
  SECOND_STANDARD_PARALLEL = "N/A"
  COORDINATE_SYSTEM_NAME = PLANETOCENTRIC
  POSITIVE_LONGITUDE_DIRECTION = EAST
  KEYWORD_LATITUDE_TYPE = PLANETOCENTRIC
  CENTER_LATITUDE = -30
  CENTER_LONGITUDE = 0.0
  LINE_FIRST_PIXEL = 1
  LINE_LAST_PIXEL = 61707
  SAMPLE_FIRST_PIXEL = 1
  SAMPLE_LAST_PIXEL = 10959
  MAP_PROJECTION_ROTATION = 0.0
  MAP_RESOLUTION = 11837.378799006
  MAP_SCALE = 0.005
  MAXIMUM_LATITUDE = -29.575583732346
  MINIMUM_LATITUDE = -34.788408446476
  EASTERNMOST_LONGITUDE = 42.508379472021
  WESTERNMOST_LONGITUDE = 41.439370606224
  LINE_PROJECTION_OFFSET = -350096.5
  SAMPLE_PROJECTION_OFFSET = -424813.5
END_OBJECT = IMAGE_MAP_PROJECTION
/* The JPEG2000 image data file associated with this label. */
OBJECT = COMPRESSED_FILE
  FILE_NAME = "G10_021930_1477_XN_32S318W.JP2"
  RECORD_TYPE = UNDEFINED
  ENCODING_TYPE = "JP2"
  ENCODING_TYPE_VERSION_NAME = "ISO/IEC15444-1:2004"
  INTERCHANGE_FORMAT = BINARY
  /* The name of the original source file. */
  UNCOMPRESSED_FILE_NAME = "G10_021930_1477_XN_32S318W.2129.img"
  /* The amount of original image data. */
  REQUIRED_STORAGE_BYTES = 676247013
  ^DESCRIPTION = "JP2INFO.TXT"
END_OBJECT = COMPRESSED_FILE
/* The source image data definition. */
OBJECT = UNCOMPRESSED_FILE
  FILE_NAME = "G10_021930_1477_XN_32S318W.2129.img"
  RECORD_TYPE = FIXED_LENGTH
  RECORD_BYTES = 10959
  FILE_RECORDS = 61707
  ^IMAGE = "G10_021930_1477_XN_32S318W.2129.img"
  OBJECT = IMAGE
    LINES = 61707
    LINE_SAMPLES = 10959
    BANDS = 1
    CENTER_FILTER_WAVELENGTH = 0.65
    BANDWIDTH = 0.15
    BAND_STORAGE_TYPE = BAND_SEQUENTIAL
    OFFSET = 0.08779437756734
    SCALING_FACTOR = 2.12300971641828e-04
    SAMPLE_BITS = 8
    SAMPLE_BIT_MASK = 2#11111111#
    SAMPLE_TYPE = MSB_UNSIGNED_INTEGER
    CORE_NULL = 0
    CORE_LOW_REPR_SATURATION = 1
    CORE_LOW_INSTR_SATURATION = 1
    CORE_HIGH_REPR_SATURATION = 255
    CORE_HIGH_INSTR_SATURATION = 255
  END_OBJECT = IMAGE
END_OBJECT = UNCOMPRESSED_FILE
END
