PDS_VERSION_ID = PDS3
/* Identification Information */
DATA_SET_ID = "MRO-M-CTX-HiROC-V1.0"
PRODUCT_ID = "G04_019847_2254_XI_45N338W"
PRODUCER_INSTITUTION_NAME = "UNIVERSITY OF ARIZONA"
PRDOUCER_ID = "UA"
PRODUCER_FULL_NAME = "ALFRED MCEWEN"
SOURCE_PRODUCT_ID = NULL
MISSION_NAME = "MARS RECONNAISSANCE ORBITER"
SPACECRAFT_NAME = "MARS RECONNAISSANCE ORBITER"
INSTRUMENT_NAME = "CONTEXT CAMERA"
INSTRUMENT_ID = "MRO-CTX"
TARGET_NAME = "Mars"
START_TIME = "2010-10-21T00:04:59.212"
ORBIT_NUMBER = 19847
SPACECRAFT_CLOCK_START_COUNT = "0972086730:202"
PRODUCT_CREATION_TIME = 2012-05-01T20:04:54
SOFTWARE_NAME = "CTX_Finalizer (1.7 2011/06/20 22:58:41)"
NOTE = "Special map product for HiROC"
OBJECT = IMAGE_MAP_PROJECTION
  MAP_PROJECTION_TYPE = "EQUIRECTANGULAR"
  PROJECTION_LATITUDE_TYPE = PLANETOCENTRIC
  A_AXIS_RADIUS = 3396.19
  B_AXIS_RADIUS = 3396.19
  C_AXIS_RADIUS = 3376.2
  FIRST_STANDARD_PARALLEL = "N/A"
  SECOND_STANDARD_PARALLEL = "N/A"
  COORDINATE_SYSTEM_NAME = PLANETOCENTRIC
  POSITIVE_LONGITUDE_DIRECTION = EAST
  KEYWORD_LATITUDE_TYPE = PLANETOCENTRIC
  CENTER_LATITUDE = 40
  CENTER_LONGITUDE = 0.0
  LINE_FIRST_PIXEL = 1
  LINE_LAST_PIXEL = 8139
  SAMPLE_FIRST_PIXEL = 1
  SAMPLE_LAST_PIXEL = 4175
  MAP_PROJECTION_ROTATION = 0.0
  MAP_RESOLUTION = 5912.9794323863
  MAP_SCALE = 0.01
  MAXIMUM_LATITUDE = 45.127550199621
  MINIMUM_LATITUDE = 43.75115541266
  EASTERNMOST_LONGITUDE = 22.494461917256
  WESTERNMOST_LONGITUDE = 21.572895125473
  LINE_PROJECTION_OFFSET = 266839.5
  SAMPLE_PROJECTION_OFFSET = -97715.5
END_OBJECT = IMAGE_MAP_PROJECTION
/* The JPEG2000 image data file associated with this label. */
OBJECT = COMPRESSED_FILE
  FILE_NAME = "G04_019847_2254_XI_45N338W.JP2"
  RECORD_TYPE = UNDEFINED
  ENCODING_TYPE = "JP2"
  ENCODING_TYPE_VERSION_NAME = "ISO/IEC15444-1:2004"
  INTERCHANGE_FORMAT = BINARY
  /* The name of the original source file. */
  UNCOMPRESSED_FILE_NAME = "G04_019847_2254_XI_45N338W.5849.img"
  /* The amount of original image data. */
  REQUIRED_STORAGE_BYTES = 33980325
  ^DESCRIPTION = "JP2INFO.TXT"
END_OBJECT = COMPRESSED_FILE
/* The source image data definition. */
OBJECT = UNCOMPRESSED_FILE
  FILE_NAME = "G04_019847_2254_XI_45N338W.5849.img"
  RECORD_TYPE = FIXED_LENGTH
  RECORD_BYTES = 4175
  FILE_RECORDS = 8139
  ^IMAGE = "G04_019847_2254_XI_45N338W.5849.img"
  OBJECT = IMAGE
    LINES = 8139
    LINE_SAMPLES = 4175
    BANDS = 1
    CENTER_FILTER_WAVELENGTH = 0.65
    BANDWIDTH = 0.15
    BAND_STORAGE_TYPE = BAND_SEQUENTIAL
    OFFSET = 0.071799131341881
    SCALING_FACTOR = 6.15579579750909e-04
    SAMPLE_BITS = 8
    SAMPLE_BIT_MASK = 2#11111111#
    SAMPLE_TYPE = MSB_UNSIGNED_INTEGER
    CORE_NULL = 0
    CORE_LOW_REPR_SATURATION = 1
    CORE_LOW_INSTR_SATURATION = 1
    CORE_HIGH_REPR_SATURATION = 255
    CORE_HIGH_INSTR_SATURATION = 255
  END_OBJECT = IMAGE
END_OBJECT = UNCOMPRESSED_FILE
END
