PDS_VERSION_ID = PDS3
/* Identification Information */
DATA_SET_ID = "MRO-M-CTX-HiROC-V1.0"
PRODUCT_ID = "B21_017684_2210_XN_41N325W"
PRODUCER_INSTITUTION_NAME = "UNIVERSITY OF ARIZONA"
PRDOUCER_ID = "UA"
PRODUCER_FULL_NAME = "ALFRED MCEWEN"
SOURCE_PRODUCT_ID = NULL
MISSION_NAME = "MARS RECONNAISSANCE ORBITER"
SPACECRAFT_NAME = "MARS RECONNAISSANCE ORBITER"
INSTRUMENT_NAME = "CONTEXT CAMERA"
INSTRUMENT_ID = "MRO-CTX"
TARGET_NAME = "Mars"
START_TIME = "2010-05-05T11:00:06.937"
ORBIT_NUMBER = 17684
SPACECRAFT_CLOCK_START_COUNT = "0957524437:241"
PRODUCT_CREATION_TIME = 2012-03-30T12:20:52
SOFTWARE_NAME = "CTX_Finalizer (1.7 2011/06/20 22:58:41)"
NOTE = "Special map product for HiROC"
OBJECT = IMAGE_MAP_PROJECTION
  MAP_PROJECTION_TYPE = "EQUIRECTANGULAR"
  PROJECTION_LATITUDE_TYPE = PLANETOCENTRIC
  A_AXIS_RADIUS = 3396.19
  B_AXIS_RADIUS = 3396.19
  C_AXIS_RADIUS = 3376.2
  FIRST_STANDARD_PARALLEL = "N/A"
  SECOND_STANDARD_PARALLEL = "N/A"
  COORDINATE_SYSTEM_NAME = PLANETOCENTRIC
  POSITIVE_LONGITUDE_DIRECTION = EAST
  KEYWORD_LATITUDE_TYPE = PLANETOCENTRIC
  CENTER_LATITUDE = 40
  CENTER_LONGITUDE = 0.0
  LINE_FIRST_PIXEL = 1
  LINE_LAST_PIXEL = 37865
  SAMPLE_FIRST_PIXEL = 1
  SAMPLE_LAST_PIXEL = 10427
  MAP_PROJECTION_ROTATION = 0.0
  MAP_RESOLUTION = 11825.958864773
  MAP_SCALE = 0.005
  MAXIMUM_LATITUDE = 42.326914552533
  MINIMUM_LATITUDE = 39.125076644118
  EASTERNMOST_LONGITUDE = 35.364956978747
  WESTERNMOST_LONGITUDE = 34.214078960689
  LINE_PROJECTION_OFFSET = 500557.5
  SAMPLE_PROJECTION_OFFSET = -309951.5
END_OBJECT = IMAGE_MAP_PROJECTION
/* The JPEG2000 image data file associated with this label. */
OBJECT = COMPRESSED_FILE
  FILE_NAME = "B21_017684_2210_XN_41N325W.JP2"
  RECORD_TYPE = UNDEFINED
  ENCODING_TYPE = "JP2"
  ENCODING_TYPE_VERSION_NAME = "ISO/IEC15444-1:2004"
  INTERCHANGE_FORMAT = BINARY
  /* The name of the original source file. */
  UNCOMPRESSED_FILE_NAME = "B21_017684_2210_XN_41N325W.9697.img"
  /* The amount of original image data. */
  REQUIRED_STORAGE_BYTES = 394818355
  ^DESCRIPTION = "JP2INFO.TXT"
END_OBJECT = COMPRESSED_FILE
/* The source image data definition. */
OBJECT = UNCOMPRESSED_FILE
  FILE_NAME = "B21_017684_2210_XN_41N325W.9697.img"
  RECORD_TYPE = FIXED_LENGTH
  RECORD_BYTES = 10427
  FILE_RECORDS = 37865
  ^IMAGE = "B21_017684_2210_XN_41N325W.9697.img"
  OBJECT = IMAGE
    LINES = 37865
    LINE_SAMPLES = 10427
    BANDS = 1
    CENTER_FILTER_WAVELENGTH = 0.65
    BANDWIDTH = 0.15
    BAND_STORAGE_TYPE = BAND_SEQUENTIAL
    OFFSET = 0.070032088487477
    SCALING_FACTOR = 4.20310438024304e-04
    SAMPLE_BITS = 8
    SAMPLE_BIT_MASK = 2#11111111#
    SAMPLE_TYPE = MSB_UNSIGNED_INTEGER
    CORE_NULL = 0
    CORE_LOW_REPR_SATURATION = 1
    CORE_LOW_INSTR_SATURATION = 1
    CORE_HIGH_REPR_SATURATION = 255
    CORE_HIGH_INSTR_SATURATION = 255
  END_OBJECT = IMAGE
END_OBJECT = UNCOMPRESSED_FILE
END
