PDS_VERSION_ID = PDS3
/* Identification Information */
DATA_SET_ID = "MRO-M-CTX-HiROC-V1.0"
PRODUCT_ID = "B12_014423_1306_XN_49S205W"
PRODUCER_INSTITUTION_NAME = "UNIVERSITY OF ARIZONA"
PRDOUCER_ID = "UA"
PRODUCER_FULL_NAME = "ALFRED MCEWEN"
SOURCE_PRODUCT_ID = NULL
MISSION_NAME = "MARS RECONNAISSANCE ORBITER"
SPACECRAFT_NAME = "MARS RECONNAISSANCE ORBITER"
INSTRUMENT_NAME = "CONTEXT CAMERA"
INSTRUMENT_ID = "MRO-CTX"
TARGET_NAME = "Mars"
START_TIME = "2009-08-24T08:14:48.341"
ORBIT_NUMBER = 14423
SPACECRAFT_CLOCK_START_COUNT = "0935568910:230"
PRODUCT_CREATION_TIME = 2012-01-13T16:53:52
SOFTWARE_NAME = "CTX_Finalizer (1.7 2011/06/20 22:58:41)"
NOTE = "Special map product for HiROC"
OBJECT = IMAGE_MAP_PROJECTION
  MAP_PROJECTION_TYPE = "EQUIRECTANGULAR"
  PROJECTION_LATITUDE_TYPE = PLANETOCENTRIC
  A_AXIS_RADIUS = 3396.19
  B_AXIS_RADIUS = 3396.19
  C_AXIS_RADIUS = 3376.2
  FIRST_STANDARD_PARALLEL = "N/A"
  SECOND_STANDARD_PARALLEL = "N/A"
  COORDINATE_SYSTEM_NAME = PLANETOCENTRIC
  POSITIVE_LONGITUDE_DIRECTION = EAST
  KEYWORD_LATITUDE_TYPE = PLANETOCENTRIC
  CENTER_LATITUDE = -45
  CENTER_LONGITUDE = 0.0
  LINE_FIRST_PIXEL = 1
  LINE_LAST_PIXEL = 15322
  SAMPLE_FIRST_PIXEL = 1
  SAMPLE_LAST_PIXEL = 7236
  MAP_PROJECTION_ROTATION = 0.0
  MAP_RESOLUTION = 11819.895900815
  MAP_SCALE = 0.005
  MAXIMUM_LATITUDE = -48.523004221784
  MINIMUM_LATITUDE = -49.819217327718
  EASTERNMOST_LONGITUDE = 155.20840138245
  WESTERNMOST_LONGITUDE = 154.34271661211
  LINE_PROJECTION_OFFSET = -573535.5
  SAMPLE_PROJECTION_OFFSET = -1289984.5
END_OBJECT = IMAGE_MAP_PROJECTION
/* The JPEG2000 image data file associated with this label. */
OBJECT = COMPRESSED_FILE
  FILE_NAME = "B12_014423_1306_XN_49S205W.JP2"
  RECORD_TYPE = UNDEFINED
  ENCODING_TYPE = "JP2"
  ENCODING_TYPE_VERSION_NAME = "ISO/IEC15444-1:2004"
  INTERCHANGE_FORMAT = BINARY
  /* The name of the original source file. */
  UNCOMPRESSED_FILE_NAME = "B12_014423_1306_XN_49S205W.29227.img"
  /* The amount of original image data. */
  REQUIRED_STORAGE_BYTES = 110869992
  ^DESCRIPTION = "JP2INFO.TXT"
END_OBJECT = COMPRESSED_FILE
/* The source image data definition. */
OBJECT = UNCOMPRESSED_FILE
  FILE_NAME = "B12_014423_1306_XN_49S205W.29227.img"
  RECORD_TYPE = FIXED_LENGTH
  RECORD_BYTES = 7236
  FILE_RECORDS = 15322
  ^IMAGE = "B12_014423_1306_XN_49S205W.29227.img"
  OBJECT = IMAGE
    LINES = 15322
    LINE_SAMPLES = 7236
    BANDS = 1
    CENTER_FILTER_WAVELENGTH = 0.65
    BANDWIDTH = 0.15
    BAND_STORAGE_TYPE = BAND_SEQUENTIAL
    OFFSET = 0.07418169142045
    SCALING_FACTOR = 2.08427868959221e-04
    SAMPLE_BITS = 8
    SAMPLE_BIT_MASK = 2#11111111#
    SAMPLE_TYPE = MSB_UNSIGNED_INTEGER
    CORE_NULL = 0
    CORE_LOW_REPR_SATURATION = 1
    CORE_LOW_INSTR_SATURATION = 1
    CORE_HIGH_REPR_SATURATION = 255
    CORE_HIGH_INSTR_SATURATION = 255
  END_OBJECT = IMAGE
END_OBJECT = UNCOMPRESSED_FILE
END
