PDS_VERSION_ID = PDS3
/* Identification Information */
DATA_SET_ID = "MRO-M-CTX-HiROC-V1.0"
PRODUCT_ID = "B04_011377_1400_XN_40S207W"
PRODUCER_INSTITUTION_NAME = "UNIVERSITY OF ARIZONA"
PRDOUCER_ID = "UA"
PRODUCER_FULL_NAME = "ALFRED MCEWEN"
SOURCE_PRODUCT_ID = NULL
MISSION_NAME = "MARS RECONNAISSANCE ORBITER"
SPACECRAFT_NAME = "MARS RECONNAISSANCE ORBITER"
INSTRUMENT_NAME = "CONTEXT CAMERA"
INSTRUMENT_ID = "MRO-CTX"
TARGET_NAME = "Mars"
START_TIME = "2008-12-29T23:57:41.657"
ORBIT_NUMBER = 11377
SPACECRAFT_CLOCK_START_COUNT = "0915062282:049"
PRODUCT_CREATION_TIME = 2011-11-27T04:51:51
SOFTWARE_NAME = "CTX_Finalizer (1.7 2011/06/20 22:58:41)"
NOTE = "Special map product for HiROC"
OBJECT = IMAGE_MAP_PROJECTION
  MAP_PROJECTION_TYPE = "EQUIRECTANGULAR"
  PROJECTION_LATITUDE_TYPE = PLANETOCENTRIC
  A_AXIS_RADIUS = 3396.19
  B_AXIS_RADIUS = 3396.19
  C_AXIS_RADIUS = 3376.2
  FIRST_STANDARD_PARALLEL = "N/A"
  SECOND_STANDARD_PARALLEL = "N/A"
  COORDINATE_SYSTEM_NAME = PLANETOCENTRIC
  POSITIVE_LONGITUDE_DIRECTION = EAST
  KEYWORD_LATITUDE_TYPE = PLANETOCENTRIC
  CENTER_LATITUDE = -35
  CENTER_LONGITUDE = 0.0
  LINE_FIRST_PIXEL = 1
  LINE_LAST_PIXEL = 6725
  SAMPLE_FIRST_PIXEL = 1
  SAMPLE_LAST_PIXEL = 6047
  MAP_PROJECTION_ROTATION = 0.0
  MAP_RESOLUTION = 11831.846526548
  MAP_SCALE = 0.005
  MAXIMUM_LATITUDE = -39.427882605535
  MINIMUM_LATITUDE = -39.996209055034
  EASTERNMOST_LONGITUDE = 153.31858597806
  WESTERNMOST_LONGITUDE = 152.69469808973
  LINE_PROJECTION_OFFSET = -466503.5
  SAMPLE_PROJECTION_OFFSET = -1479928.5
END_OBJECT = IMAGE_MAP_PROJECTION
/* The JPEG2000 image data file associated with this label. */
OBJECT = COMPRESSED_FILE
  FILE_NAME = "B04_011377_1400_XN_40S207W.JP2"
  RECORD_TYPE = UNDEFINED
  ENCODING_TYPE = "JP2"
  ENCODING_TYPE_VERSION_NAME = "ISO/IEC15444-1:2004"
  INTERCHANGE_FORMAT = BINARY
  /* The name of the original source file. */
  UNCOMPRESSED_FILE_NAME = "B04_011377_1400_XN_40S207W.5578.img"
  /* The amount of original image data. */
  REQUIRED_STORAGE_BYTES = 40666075
  ^DESCRIPTION = "JP2INFO.TXT"
END_OBJECT = COMPRESSED_FILE
/* The source image data definition. */
OBJECT = UNCOMPRESSED_FILE
  FILE_NAME = "B04_011377_1400_XN_40S207W.5578.img"
  RECORD_TYPE = FIXED_LENGTH
  RECORD_BYTES = 6047
  FILE_RECORDS = 6725
  ^IMAGE = "B04_011377_1400_XN_40S207W.5578.img"
  OBJECT = IMAGE
    LINES = 6725
    LINE_SAMPLES = 6047
    BANDS = 1
    CENTER_FILTER_WAVELENGTH = 0.65
    BANDWIDTH = 0.15
    BAND_STORAGE_TYPE = BAND_SEQUENTIAL
    OFFSET = 0.046582901910268
    SCALING_FACTOR = 1.26265137927644e-04
    SAMPLE_BITS = 8
    SAMPLE_BIT_MASK = 2#11111111#
    SAMPLE_TYPE = MSB_UNSIGNED_INTEGER
    CORE_NULL = 0
    CORE_LOW_REPR_SATURATION = 1
    CORE_LOW_INSTR_SATURATION = 1
    CORE_HIGH_REPR_SATURATION = 255
    CORE_HIGH_INSTR_SATURATION = 255
  END_OBJECT = IMAGE
END_OBJECT = UNCOMPRESSED_FILE
END
