PDS_VERSION_ID = PDS3
/* Identification Information */
NOT_APPLICABLE_CONSTANT = -9998
DATA_SET_ID = "MRO-M-HIRISE-3-RDR-V1.1"
DATA_SET_NAME = "MRO MARS HIGH RESOLUTION IMAGING SCIENCE EXPERIMENT RDR V1.1"
PRODUCER_INSTITUTION_NAME = "UNIVERSITY OF ARIZONA"
PRODUCER_ID = "UA"
PRODUCER_FULL_NAME = "ALFRED MCEWEN"
OBSERVATION_ID = "PSP_001472_1745"
PRODUCT_ID = "PSP_001472_1745_RED"
PRODUCT_VERSION_ID = "3.0"
INSTRUMENT_HOST_NAME = "MARS RECONNAISSANCE ORBITER"
INSTRUMENT_HOST_ID = "MRO"
INSTRUMENT_NAME = "HIGH RESOLUTION IMAGING SCIENCE EXPERIMENT"
INSTRUMENT_ID = "HIRISE"
TARGET_NAME = "MARS"
MISSION_PHASE_NAME = "PRIMARY SCIENCE PHASE"
ORBIT_NUMBER = 1472
SOURCE_PRODUCT_ID = (PSP_001472_1745_RED0_0, PSP_001472_1745_RED0_1, PSP_001472_1745_RED1_0, PSP_001472_1745_RED1_1, PSP_001472_1745_RED2_0, PSP_001472_1745_RED2_1, PSP_001472_1745_RED3_0, PSP_001472_1745_RED3_1, PSP_001472_1745_RED4_0, PSP_001472_1745_RED4_1, PSP_001472_1745_RED5_0, PSP_001472_1745_RED5_1, PSP_001472_1745_RED6_0, PSP_001472_1745_RED6_1, PSP_001472_1745_RED7_0, PSP_001472_1745_RED7_1, PSP_001472_1745_RED8_0, PSP_001472_1745_RED8_1, PSP_001472_1745_RED9_0, PSP_001472_1745_RED9_1)
RATIONALE_DESC = "Slope streaks near Mangala Valles"
SOFTWARE_NAME = "PDS_to_JP2 v4.5.5 (1.56 2016/09/26 23:05:38)"
OBJECT = IMAGE_MAP_PROJECTION
  ^DATA_SET_MAP_PROJECTION = "DSMAP.CAT"
  MAP_PROJECTION_TYPE = "EQUIRECTANGULAR"
  PROJECTION_LATITUDE_TYPE = PLANETOCENTRIC
  /* NOTE: The EQUIRECTANGULAR projection is based on the formula */
  /* for a sphere. To eliminate confusion in the */
  /* IMAGE_MAP_PROJECTION object we have set all three radii, */
  /* A_AXIS_RADIUS, B_AXIS_RADIUS, and C_AXIS_RADIUS to the same */
  /* number. The value recorded in the three radii is the local */
  /* radius at the CENTER_LATITUDE on the Mars ellipsoid. That is, */
  /* equatorial radius of 3396.190000 km and polar radius of */
  /* 3376.200000 kilometers. Using the local radius of the */
  /* ellipsoid implies that the MAP_SCALE and MAP_RESOLUTION are */
  /* true at the CENTER_LATITUDE. */
  A_AXIS_RADIUS = 3396.0368126024
  B_AXIS_RADIUS = 3396.0368126024
  C_AXIS_RADIUS = 3396.0368126024
  COORDINATE_SYSTEM_NAME = PLANETOCENTRIC
  POSITIVE_LONGITUDE_DIRECTION = EAST
  KEYWORD_LATITUDE_TYPE = PLANETOCENTRIC
  /* NOTE: CENTER_LATITUDE and CENTER_LONGITUDE describe the location */
  /* of the center of projection, which is not necessarily equal to the */
  /* location of the center point of the image. */
  CENTER_LATITUDE = -5.000
  CENTER_LONGITUDE = 180.000
  LINE_FIRST_PIXEL = 1
  LINE_LAST_PIXEL = 34093
  SAMPLE_FIRST_PIXEL = 1
  SAMPLE_LAST_PIXEL = 25212
  MAP_PROJECTION_ROTATION = 0.0
  MAP_RESOLUTION = 237088.09559538
  MAP_SCALE = 0.25
  MAXIMUM_LATITUDE = -5.2626034199302
  MINIMUM_LATITUDE = -5.4064012095844
  LINE_PROJECTION_OFFSET = -1247700.5
  SAMPLE_PROJECTION_OFFSET = -7947513.5
  EASTERNMOST_LONGITUDE = 213.75614330105
  WESTERNMOST_LONGITUDE = 213.64939597586
END_OBJECT = IMAGE_MAP_PROJECTION
/* All xxx_COUNT values are for the MRO spacecraft clock (SCLK) */
/* in seconds:subseconds form. A subsecond tick = 15.2588 microseconds. */
/* All xxx_TIME values are referenced to UTC. */
GROUP = TIME_PARAMETERS
  /* Time when the observation first started */
  MRO:OBSERVATION_START_TIME = 2006-11-19T04:01:32.822
  /* Time of the first image line */
  START_TIME = 2006-11-19T04:01:32.949
  SPACECRAFT_CLOCK_START_COUNT = "848376111:51730"
  /* Time of the last image line */
  STOP_TIME = 2006-11-19T04:01:35.490
  SPACECRAFT_CLOCK_STOP_COUNT = "848376114:21613"
  /* Time when this RDR product was created */
  PRODUCT_CREATION_TIME = 2026-05-21T00:41:52
END_GROUP = TIME_PARAMETERS
GROUP = INSTRUMENT_SETTING_PARAMETERS
  MRO:CCD_FLAG = (ON, ON, ON, ON, ON, ON, ON, ON, ON, ON, ON, ON, ON, ON)
  MRO:BINNING = (1, 1, 1, 1, 1, 1, 1, 1, 1, 1, -9998, -9998, -9998, -9998)
  MRO:TDI = (128, 128, 128, 128, 128, 128, 128, 128, 128, 128, -9998, -9998, -9998, -9998)
  MRO:SPECIAL_PROCESSING_FLAG = (NOMINAL, NOMINAL, NOMINAL, NOMINAL, NOMINAL, NOMINAL, NOMINAL, NOMINAL, NOMINAL, NOMINAL, "NULL", "NULL", "NULL", "NULL")
END_GROUP = INSTRUMENT_SETTING_PARAMETERS
GROUP = VIEWING_PARAMETERS
  INCIDENCE_ANGLE = 56.688130
  EMISSION_ANGLE = 4.366825
  PHASE_ANGLE = 60.434783
  LOCAL_TIME = 15.52164
  SOLAR_LONGITUDE = 137.559747
  SUB_SOLAR_AZIMUTH = 203.989368
  NORTH_AZIMUTH = 270.000001
END_GROUP = VIEWING_PARAMETERS
/* The JPEG2000 image data file associated with this label. */
OBJECT = COMPRESSED_FILE
  FILE_NAME = "PSP_001472_1745_RED.JP2"
  RECORD_TYPE = UNDEFINED
  ENCODING_TYPE = "JP2"
  ENCODING_TYPE_VERSION_NAME = "ISO/IEC15444-1:2004"
  INTERCHANGE_FORMAT = BINARY
  /* The name of the original source file. */
  UNCOMPRESSED_FILE_NAME = "PSP_001472_1745_RED.IMG"
  /* The amount of original image data. */
  REQUIRED_STORAGE_BYTES = 1719105432
  ^DESCRIPTION = "JP2INFO.TXT"
END_OBJECT = COMPRESSED_FILE
/* The source image data definition. */
OBJECT = UNCOMPRESSED_FILE
  FILE_NAME = "PSP_001472_1745_RED.IMG"
  RECORD_TYPE = FIXED_LENGTH
  RECORD_BYTES = 50424
  FILE_RECORDS = 34093
  ^IMAGE = "PSP_001472_1745_RED.IMG"
  OBJECT = IMAGE
    DESCRIPTION = "HiRISE projected and mosaicked product"
    LINES = 34093
    LINE_SAMPLES = 25212
    BANDS = 1
    SAMPLE_TYPE = MSB_UNSIGNED_INTEGER
    SAMPLE_BITS = 16
    SAMPLE_BIT_MASK = 2#0000001111111111#
    /* NOTE: The conversion from DN to I/F (intensity/flux) is: */
    /* I/F = (DN * SCALING_FACTOR) + OFFSET */
    /* I/F is defined as the ratio of the observed radiance and */
    /* the radiance of a 100% lambertian reflector with the sun */
    /* and camera orthogonal to the observing surface. */
    SCALING_FACTOR = 1.62912595338577e-04
    OFFSET = 0.086829444725923
    BAND_STORAGE_TYPE = BAND_SEQUENTIAL
    CORE_NULL = 0
    CORE_LOW_REPR_SATURATION = 1
    CORE_LOW_INSTR_SATURATION = 2
    CORE_HIGH_REPR_SATURATION = 1023
    CORE_HIGH_INSTR_SATURATION = 1022
    CENTER_FILTER_WAVELENGTH = 700
    MRO:MINIMUM_STRETCH = 3
    MRO:MAXIMUM_STRETCH = 1021
    FILTER_NAME = "RED"
  END_OBJECT = IMAGE
END_OBJECT = UNCOMPRESSED_FILE
END
