PDS_VERSION_ID = PDS3
/* Identification Information */
NOT_APPLICABLE_CONSTANT = -9998
DATA_SET_ID = "MRO-M-HIRISE-3-RDR-V1.1"
DATA_SET_NAME = "MRO MARS HIGH RESOLUTION IMAGING SCIENCE EXPERIMENT RDR V1.1"
PRODUCER_INSTITUTION_NAME = "UNIVERSITY OF ARIZONA"
PRODUCER_ID = "UA"
PRODUCER_FULL_NAME = "ALFRED MCEWEN"
OBSERVATION_ID = "PSP_003322_1025"
PRODUCT_ID = "PSP_003322_1025_MIRB"
PRODUCT_VERSION_ID = "3"
INSTRUMENT_HOST_NAME = "MARS RECONNAISSANCE ORBITER"
INSTRUMENT_HOST_ID = "MRO"
INSTRUMENT_NAME = "HIGH RESOLUTION IMAGING SCIENCE EXPERIMENT"
INSTRUMENT_ID = "HIRISE"
TARGET_NAME = "MARS"
MISSION_PHASE_NAME = "PRIMARY SCIENCE PHASE"
ORBIT_NUMBER = 3322
SOURCE_PRODUCT_ID = (PSP_003322_1025_RED0_0, PSP_003322_1025_RED0_1, PSP_003322_1025_RED1_0, PSP_003322_1025_RED1_1, PSP_003322_1025_RED2_0, PSP_003322_1025_RED2_1, PSP_003322_1025_RED3_0, PSP_003322_1025_RED3_1, PSP_003322_1025_RED4_0, PSP_003322_1025_RED4_1, PSP_003322_1025_RED5_0, PSP_003322_1025_RED5_1, PSP_003322_1025_RED6_0, PSP_003322_1025_RED6_1, PSP_003322_1025_RED7_0, PSP_003322_1025_RED7_1, PSP_003322_1025_RED8_0, PSP_003322_1025_RED8_1, PSP_003322_1025_RED9_0, PSP_003322_1025_BG12_0, PSP_003322_1025_BG12_1, PSP_003322_1025_IR10_0, PSP_003322_1025_IR10_1, PSP_003322_1025_BG13_0, PSP_003322_1025_BG13_1, PSP_003322_1025_IR11_0, PSP_003322_1025_IR11_1)
RATIONALE_DESC = "Cryptic terrain evolution"
SOFTWARE_NAME = "PDS_to_JP2 v4.5.5 (1.56 2016/09/26 23:05:38)"
OBJECT = IMAGE_MAP_PROJECTION
  ^DATA_SET_MAP_PROJECTION = "DSMAP.CAT"
  MAP_PROJECTION_TYPE = "POLAR STEREOGRAPHIC"
  PROJECTION_LATITUDE_TYPE = PLANETOCENTRIC
  A_AXIS_RADIUS = 3396.19
  B_AXIS_RADIUS = 3396.19
  C_AXIS_RADIUS = 3376.2
  COORDINATE_SYSTEM_NAME = PLANETOCENTRIC
  POSITIVE_LONGITUDE_DIRECTION = EAST
  KEYWORD_LATITUDE_TYPE = PLANETOCENTRIC
  /* NOTE: CENTER_LATITUDE and CENTER_LONGITUDE describe the location */
  /* of the center of projection, which is not necessarily equal to the */
  /* location of the center point of the image. */
  CENTER_LATITUDE = -90.000
  CENTER_LONGITUDE = 0.000
  LINE_FIRST_PIXEL = 1
  LINE_LAST_PIXEL = 27742
  SAMPLE_FIRST_PIXEL = 1
  SAMPLE_LAST_PIXEL = 40002
  MAP_PROJECTION_ROTATION = 0.0
  MAP_RESOLUTION = 117851.61241167
  MAP_SCALE = 0.5
  MAXIMUM_LATITUDE = -77.384194943758
  MINIMUM_LATITUDE = -77.730064199239
  LINE_PROJECTION_OFFSET = -971023.5
  SAMPLE_PROJECTION_OFFSET = -1074244.5
  EASTERNMOST_LONGITUDE = 132.36921306607
  WESTERNMOST_LONGITUDE = 131.61850304663
END_OBJECT = IMAGE_MAP_PROJECTION
/* All xxx_COUNT values are for the MRO spacecraft clock (SCLK) */
/* in seconds:subseconds form. A subsecond tick = 15.2588 microseconds. */
/* All xxx_TIME values are referenced to UTC. */
GROUP = TIME_PARAMETERS
  /* Time when the observation first started */
  MRO:OBSERVATION_START_TIME = 2007-04-12T06:52:00.263
  /* Time of the first image line */
  START_TIME = 2007-04-12T06:52:00.391
  SPACECRAFT_CLOCK_START_COUNT = "860827939:49356"
  /* Time of the last image line */
  STOP_TIME = 2007-04-12T06:52:06.581
  SPACECRAFT_CLOCK_STOP_COUNT = "860827945:61820"
  /* Time when this RDR product was created */
  PRODUCT_CREATION_TIME = 2026-08-21T19:58:04
END_GROUP = TIME_PARAMETERS
GROUP = INSTRUMENT_SETTING_PARAMETERS
  MRO:CCD_FLAG = (ON, ON, ON, ON, ON, ON, ON, ON, ON, ON, ON, ON, ON, ON)
  MRO:BINNING = (2, 2, 2, 2, 2, 2, 2, 2, 2, 2, 4, 4, 4, 4)
  MRO:TDI = (64, 64, 64, 64, 64, 64, 64, 64, 64, 64, 64, 64, 64, 64)
  MRO:SPECIAL_PROCESSING_FLAG = (NOMINAL, NOMINAL, NOMINAL, NOMINAL, NOMINAL, NOMINAL, NOMINAL, NOMINAL, NOMINAL, NOMINAL, NOMINAL, "NULL", NOMINAL, "NULL")
END_GROUP = INSTRUMENT_SETTING_PARAMETERS
GROUP = VIEWING_PARAMETERS
  INCIDENCE_ANGLE = 70.409218
  EMISSION_ANGLE = 1.657502
  PHASE_ANGLE = 69.002613
  LOCAL_TIME = 16.44233
  SOLAR_LONGITUDE = 217.593695
  SUB_SOLAR_AZIMUTH = 331.729487
  NORTH_AZIMUTH = 41.993858
END_GROUP = VIEWING_PARAMETERS
/* The JPEG2000 image data file associated with this label. */
OBJECT = COMPRESSED_FILE
  FILE_NAME = "PSP_003322_1025_MIRB.JP2"
  RECORD_TYPE = UNDEFINED
  ENCODING_TYPE = "JP2"
  ENCODING_TYPE_VERSION_NAME = "ISO/IEC15444-1:2004"
  INTERCHANGE_FORMAT = BINARY
  /* The name of the original source file. */
  UNCOMPRESSED_FILE_NAME = "PSP_003322_1025_MIRB.IMG"
  /* The amount of original image data. */
  REQUIRED_STORAGE_BYTES = 3329206452
  ^DESCRIPTION = "JP2INFO.TXT"
END_OBJECT = COMPRESSED_FILE
/* The source image data definition. */
OBJECT = UNCOMPRESSED_FILE
  FILE_NAME = "PSP_003322_1025_MIRB.IMG"
  RECORD_TYPE = FIXED_LENGTH
  RECORD_BYTES = 40002
  FILE_RECORDS = 83226
  ^IMAGE = "PSP_003322_1025_MIRB.IMG"
  OBJECT = IMAGE
    DESCRIPTION = "HiRISE projected and mosaicked product"
    LINES = 27742
    LINE_SAMPLES = 40002
    BANDS = 3
    SAMPLE_TYPE = MSB_UNSIGNED_INTEGER
    SAMPLE_BITS = 8
    SAMPLE_BIT_MASK = 2#11111111#
    MRO:STRETCH_FLAG = "FROST_STRETCH"
    /* Scaled DNs have the range 0 to 255 */
    /* and are relative values. */
    SCALING_FACTOR = 1.0079051383399
    OFFSET = -1.0079051383399
    BAND_STORAGE_TYPE = BAND_SEQUENTIAL
    CORE_NULL = 0
    CORE_LOW_REPR_SATURATION = 0
    CORE_LOW_INSTR_SATURATION = 0
    CORE_HIGH_REPR_SATURATION = 255
    CORE_HIGH_INSTR_SATURATION = 255
    CENTER_FILTER_WAVELENGTH = (-9998 , -9998 , -9998 )
    MRO:MINIMUM_STRETCH = (1, 1, 1)
    MRO:MAXIMUM_STRETCH = (254, 254, 254)
    FILTER_NAME = ("NULL", "NULL", "NULL")
  END_OBJECT = IMAGE
END_OBJECT = UNCOMPRESSED_FILE
END
