PDS_VERSION_ID = PDS3
/* Identification Information */
NOT_APPLICABLE_CONSTANT = -9998
DATA_SET_ID = "MRO-M-HIRISE-3-RDR-V1.1"
DATA_SET_NAME = "MRO MARS HIGH RESOLUTION IMAGING SCIENCE EXPERIMENT RDR V1.1"
PRODUCER_INSTITUTION_NAME = "UNIVERSITY OF ARIZONA"
PRODUCER_ID = "UA"
PRODUCER_FULL_NAME = "ALFRED MCEWEN"
OBSERVATION_ID = "PSP_001945_2515"
PRODUCT_ID = "PSP_001945_2515_MIRB"
PRODUCT_VERSION_ID = "3"
INSTRUMENT_HOST_NAME = "MARS RECONNAISSANCE ORBITER"
INSTRUMENT_HOST_ID = "MRO"
INSTRUMENT_NAME = "HIGH RESOLUTION IMAGING SCIENCE EXPERIMENT"
INSTRUMENT_ID = "HIRISE"
TARGET_NAME = "MARS"
MISSION_PHASE_NAME = "PRIMARY SCIENCE PHASE"
ORBIT_NUMBER = 1945
SOURCE_PRODUCT_ID = (PSP_001945_2515_RED0_0, PSP_001945_2515_RED0_1, PSP_001945_2515_RED1_0, PSP_001945_2515_RED1_1, PSP_001945_2515_RED2_0, PSP_001945_2515_RED2_1, PSP_001945_2515_RED3_0, PSP_001945_2515_RED3_1, PSP_001945_2515_RED4_0, PSP_001945_2515_RED4_1, PSP_001945_2515_RED5_0, PSP_001945_2515_RED5_1, PSP_001945_2515_RED6_0, PSP_001945_2515_RED6_1, PSP_001945_2515_RED7_0, PSP_001945_2515_RED7_1, PSP_001945_2515_RED8_0, PSP_001945_2515_RED8_1, PSP_001945_2515_RED9_0, PSP_001945_2515_BG12_0, PSP_001945_2515_BG12_1, PSP_001945_2515_IR10_0, PSP_001945_2515_BG13_0, PSP_001945_2515_BG13_1, PSP_001945_2515_IR11_0, PSP_001945_2515_IR11_1)
RATIONALE_DESC = "Northern plains sample"
SOFTWARE_NAME = "PDS_to_JP2 v4.5.5 (1.56 2016/09/26 23:05:38)"
OBJECT = IMAGE_MAP_PROJECTION
  ^DATA_SET_MAP_PROJECTION = "DSMAP.CAT"
  MAP_PROJECTION_TYPE = "POLAR STEREOGRAPHIC"
  PROJECTION_LATITUDE_TYPE = PLANETOCENTRIC
  A_AXIS_RADIUS = 3396.19
  B_AXIS_RADIUS = 3396.19
  C_AXIS_RADIUS = 3376.2
  COORDINATE_SYSTEM_NAME = PLANETOCENTRIC
  POSITIVE_LONGITUDE_DIRECTION = EAST
  KEYWORD_LATITUDE_TYPE = PLANETOCENTRIC
  /* NOTE: CENTER_LATITUDE and CENTER_LONGITUDE describe the location */
  /* of the center of projection, which is not necessarily equal to the */
  /* location of the center point of the image. */
  CENTER_LATITUDE = 90.000
  CENTER_LONGITUDE = 0.000
  LINE_FIRST_PIXEL = 1
  LINE_LAST_PIXEL = 14756
  SAMPLE_FIRST_PIXEL = 1
  SAMPLE_LAST_PIXEL = 17565
  MAP_PROJECTION_ROTATION = 0.0
  MAP_RESOLUTION = 117851.61241167
  MAP_SCALE = 0.5
  MAXIMUM_LATITUDE = 71.148445346699
  MINIMUM_LATITUDE = 70.997682364057
  LINE_PROJECTION_OFFSET = 670130.0
  SAMPLE_PROJECTION_OFFSET = 2160087.5
  EASTERNMOST_LONGITUDE = 253.0768906156
  WESTERNMOST_LONGITUDE = 252.67697099801
END_OBJECT = IMAGE_MAP_PROJECTION
/* All xxx_COUNT values are for the MRO spacecraft clock (SCLK) */
/* in seconds:subseconds form. A subsecond tick = 15.2588 microseconds. */
/* All xxx_TIME values are referenced to UTC. */
GROUP = TIME_PARAMETERS
  /* Time when the observation first started */
  MRO:OBSERVATION_START_TIME = 2006-12-26T00:30:29.045
  /* Time of the first image line */
  START_TIME = 2006-12-26T00:30:29.200
  SPACECRAFT_CLOCK_START_COUNT = "851560248:04405"
  /* Time of the last image line */
  STOP_TIME = 2006-12-26T00:30:31.791
  SPACECRAFT_CLOCK_STOP_COUNT = "851560250:43140"
  /* Time when this RDR product was created */
  PRODUCT_CREATION_TIME = 2026-07-11T06:01:59
END_GROUP = TIME_PARAMETERS
GROUP = INSTRUMENT_SETTING_PARAMETERS
  MRO:CCD_FLAG = (ON, ON, ON, ON, ON, ON, ON, ON, ON, ON, ON, ON, ON, ON)
  MRO:BINNING = (1, 1, 1, 1, 1, 1, 1, 1, 1, 1, 4, 4, 4, 4)
  MRO:TDI = (128, 128, 128, 128, 128, 128, 128, 128, 128, 128, 64, 64, 64, 32)
  MRO:SPECIAL_PROCESSING_FLAG = (NOMINAL, NOMINAL, NOMINAL, NOMINAL, NOMINAL, NOMINAL, NOMINAL, NOMINAL, NOMINAL, CUBENORM, NOMINAL, "NULL", NOMINAL, "NULL")
END_GROUP = INSTRUMENT_SETTING_PARAMETERS
GROUP = VIEWING_PARAMETERS
  INCIDENCE_ANGLE = 67.461922
  EMISSION_ANGLE = 2.426992
  PHASE_ANGLE = 69.598235
  LOCAL_TIME = 15.04546
  SOLAR_LONGITUDE = 156.244191
  SUB_SOLAR_AZIMUTH = 246.932599
  NORTH_AZIMUTH = 17.123069
END_GROUP = VIEWING_PARAMETERS
/* The JPEG2000 image data file associated with this label. */
OBJECT = COMPRESSED_FILE
  FILE_NAME = "PSP_001945_2515_MIRB.JP2"
  RECORD_TYPE = UNDEFINED
  ENCODING_TYPE = "JP2"
  ENCODING_TYPE_VERSION_NAME = "ISO/IEC15444-1:2004"
  INTERCHANGE_FORMAT = BINARY
  /* The name of the original source file. */
  UNCOMPRESSED_FILE_NAME = "PSP_001945_2515_MIRB.IMG"
  /* The amount of original image data. */
  REQUIRED_STORAGE_BYTES = 777567420
  ^DESCRIPTION = "JP2INFO.TXT"
END_OBJECT = COMPRESSED_FILE
/* The source image data definition. */
OBJECT = UNCOMPRESSED_FILE
  FILE_NAME = "PSP_001945_2515_MIRB.IMG"
  RECORD_TYPE = FIXED_LENGTH
  RECORD_BYTES = 17565
  FILE_RECORDS = 44268
  ^IMAGE = "PSP_001945_2515_MIRB.IMG"
  OBJECT = IMAGE
    DESCRIPTION = "HiRISE projected and mosaicked product"
    LINES = 14756
    LINE_SAMPLES = 17565
    BANDS = 3
    SAMPLE_TYPE = MSB_UNSIGNED_INTEGER
    SAMPLE_BITS = 8
    SAMPLE_BIT_MASK = 2#11111111#
    MRO:STRETCH_FLAG = "NORMAL_STRETCH"
    /* Scaled DNs have the range 0 to 255 */
    /* and are relative values. */
    SCALING_FACTOR = 1.0079051383399
    OFFSET = -1.0079051383399
    BAND_STORAGE_TYPE = BAND_SEQUENTIAL
    CORE_NULL = 0
    CORE_LOW_REPR_SATURATION = 0
    CORE_LOW_INSTR_SATURATION = 0
    CORE_HIGH_REPR_SATURATION = 255
    CORE_HIGH_INSTR_SATURATION = 255
    CENTER_FILTER_WAVELENGTH = (-9998 , -9998 , -9998 )
    MRO:MINIMUM_STRETCH = (1, 1, 1)
    MRO:MAXIMUM_STRETCH = (254, 254, 254)
    FILTER_NAME = ("NULL", "NULL", "NULL")
  END_OBJECT = IMAGE
END_OBJECT = UNCOMPRESSED_FILE
END
