PDS_VERSION_ID = PDS3
/* Identification Information */
NOT_APPLICABLE_CONSTANT = -9998
DATA_SET_ID = "MRO-M-HIRISE-3-RDR-V1.1"
DATA_SET_NAME = "MRO MARS HIGH RESOLUTION IMAGING SCIENCE EXPERIMENT RDR V1.1"
PRODUCER_INSTITUTION_NAME = "UNIVERSITY OF ARIZONA"
PRODUCER_ID = "UA"
PRODUCER_FULL_NAME = "ALFRED MCEWEN"
OBSERVATION_ID = "PSP_010367_2675"
PRODUCT_ID = "PSP_010367_2675_COLOR"
PRODUCT_VERSION_ID = "2.0"
INSTRUMENT_HOST_NAME = "MARS RECONNAISSANCE ORBITER"
INSTRUMENT_HOST_ID = "MRO"
INSTRUMENT_NAME = "HIGH RESOLUTION IMAGING SCIENCE EXPERIMENT"
INSTRUMENT_ID = "HIRISE"
TARGET_NAME = "MARS"
MISSION_PHASE_NAME = "PRIMARY SCIENCE PHASE"
ORBIT_NUMBER = 10367
SOURCE_PRODUCT_ID = (PSP_010367_2675_BG12_0, PSP_010367_2675_BG12_1, PSP_010367_2675_RED4_0, PSP_010367_2675_RED4_1, PSP_010367_2675_IR10_0, PSP_010367_2675_IR10_1, PSP_010367_2675_BG13_0, PSP_010367_2675_BG13_1, PSP_010367_2675_RED5_0, PSP_010367_2675_RED5_1, PSP_010367_2675_IR11_0, PSP_010367_2675_IR11_1)
RATIONALE_DESC = "North polar residual cap monitoring"
SOFTWARE_NAME = "PDS_to_JP2 v3.17 (1.51 2010/04/30 08:03:43)"
OBJECT = IMAGE_MAP_PROJECTION
  ^DATA_SET_MAP_PROJECTION = "DSMAP.CAT"
  MAP_PROJECTION_TYPE = "POLAR STEREOGRAPHIC"
  PROJECTION_LATITUDE_TYPE = PLANETOCENTRIC
  A_AXIS_RADIUS = 3396.19
  B_AXIS_RADIUS = 3396.19
  C_AXIS_RADIUS = 3376.2
  COORDINATE_SYSTEM_NAME = PLANETOCENTRIC
  POSITIVE_LONGITUDE_DIRECTION = EAST
  KEYWORD_LATITUDE_TYPE = PLANETOCENTRIC
  /* NOTE: CENTER_LATITUDE and CENTER_LONGITUDE describe the location */
  /* of the center of projection, which is not necessarily equal to the */
  /* location of the center point of the image. */
  CENTER_LATITUDE = 90.000
  CENTER_LONGITUDE = 0.000
  LINE_FIRST_PIXEL = 1
  LINE_LAST_PIXEL = 56958
  SAMPLE_FIRST_PIXEL = 1
  SAMPLE_LAST_PIXEL = 6449
  MAP_PROJECTION_ROTATION = 0.0
  MAP_RESOLUTION = 117851.61241167
  MAP_SCALE = 0.5
  MAXIMUM_LATITUDE = 87.400818606644
  MINIMUM_LATITUDE = 87.321340044822
  LINE_PROJECTION_OFFSET = 12222.5
  SAMPLE_PROJECTION_OFFSET = 312582.5
  EASTERNMOST_LONGITUDE = 278.21123257304
  WESTERNMOST_LONGITUDE = 267.73278359504
END_OBJECT = IMAGE_MAP_PROJECTION
/* All xxx_COUNT values are for the MRO spacecraft clock (SCLK) */
/* in seconds:subseconds form. A subsecond tick = 15.2588 microseconds. */
/* All xxx_TIME values are referenced to UTC. */
GROUP = TIME_PARAMETERS
  /* Time when the observation first started */
  MRO:OBSERVATION_START_TIME = 2008-10-12T07:44:18.381
  /* Time of the first image line */
  START_TIME = 2008-10-12T07:44:18.467
  SPACECRAFT_CLOCK_START_COUNT = "908264678:55456"
  /* Time of the last image line */
  STOP_TIME = 2008-10-12T07:44:27.918
  SPACECRAFT_CLOCK_STOP_COUNT = "908264688:15463"
  /* Time when this RDR product was created */
  PRODUCT_CREATION_TIME = 2010-06-22T06:59:23
END_GROUP = TIME_PARAMETERS
GROUP = INSTRUMENT_SETTING_PARAMETERS
  MRO:CCD_FLAG = (ON, ON, ON, ON, ON, ON, ON, ON, ON, ON, ON, ON, ON, ON)
  MRO:BINNING = (-9998, -9998, -9998, -9998, 2, 2, -9998, -9998, -9998, -9998, 4, 4, 4, 4)
  MRO:TDI = (-9998, -9998, -9998, -9998, 64, 64, -9998, -9998, -9998, -9998, 32, 32, 32, 32)
  MRO:SPECIAL_PROCESSING_FLAG = ("NULL", "NULL", "NULL", "NULL", CUBENORM, "NULL", "NULL", "NULL", "NULL", "NULL", CUBENORM, "NULL", CUBENORM, "NULL")
END_GROUP = INSTRUMENT_SETTING_PARAMETERS
GROUP = VIEWING_PARAMETERS
  INCIDENCE_ANGLE = 72.015160
  EMISSION_ANGLE = 0.176293
  PHASE_ANGLE = 72.183883
  LOCAL_TIME = 10.10237
  SOLAR_LONGITUDE = 140.615857
  SUB_SOLAR_AZIMUTH = 148.180664
  NORTH_AZIMUTH = 357.027992
END_GROUP = VIEWING_PARAMETERS
/* The JPEG2000 image data file associated with this label. */
OBJECT = COMPRESSED_FILE
  FILE_NAME = "PSP_010367_2675_COLOR.JP2"
  RECORD_TYPE = UNDEFINED
  ENCODING_TYPE = "JP2"
  ENCODING_TYPE_VERSION_NAME = "ISO/IEC15444-1:2004"
  INTERCHANGE_FORMAT = BINARY
  /* The name of the original source file. */
  UNCOMPRESSED_FILE_NAME = "PSP_010367_2675_COLOR.IMG"
  /* The amount of original image data. */
  REQUIRED_STORAGE_BYTES = 2203932852
  ^DESCRIPTION = "JP2INFO.TXT"
END_OBJECT = COMPRESSED_FILE
/* The source image data definition. */
OBJECT = UNCOMPRESSED_FILE
  FILE_NAME = "PSP_010367_2675_COLOR.IMG"
  RECORD_TYPE = FIXED_LENGTH
  RECORD_BYTES = 12898
  FILE_RECORDS = 170874
  ^IMAGE = "PSP_010367_2675_COLOR.IMG"
  OBJECT = IMAGE
    DESCRIPTION = "HiRISE projected and mosaicked product"
    LINES = 56958
    LINE_SAMPLES = 6449
    BANDS = 3
    SAMPLE_TYPE = MSB_UNSIGNED_INTEGER
    SAMPLE_BITS = 16
    SAMPLE_BIT_MASK = 2#0000001111111111#
    /* NOTE: The conversion from DN to I/F (intensity/flux) is: */
    /* I/F = (DN * SCALING_FACTOR) + OFFSET */
    /* I/F is defined as the ratio of the observed radiance and */
    /* the radiance of a 100% lambertian reflector with the sun */
    /* and camera orthogonal to the observing surface. */
    SCALING_FACTOR = 6.8749834890944e-05
    OFFSET = 0.090546051354616
    BAND_STORAGE_TYPE = BAND_SEQUENTIAL
    CORE_NULL = 0
    CORE_LOW_REPR_SATURATION = 1
    CORE_LOW_INSTR_SATURATION = 2
    CORE_HIGH_REPR_SATURATION = 1023
    CORE_HIGH_INSTR_SATURATION = 1022
    CENTER_FILTER_WAVELENGTH = (900 , 700 , 500 )
    MRO:MINIMUM_STRETCH = (3, 3, 3)
    MRO:MAXIMUM_STRETCH = (1021, 1021, 1021)
    FILTER_NAME = ("NEAR-INFRARED", "RED", "BLUE-GREEN")
  END_OBJECT = IMAGE
END_OBJECT = UNCOMPRESSED_FILE
END
