PDS_VERSION_ID = PDS3
/* Identification Information */
NOT_APPLICABLE_CONSTANT = -9998
DATA_SET_ID = "MRO-M-HIRISE-3-RDR-V1.1"
DATA_SET_NAME = "MRO MARS HIGH RESOLUTION IMAGING SCIENCE EXPERIMENT RDR V1.1"
PRODUCER_INSTITUTION_NAME = "UNIVERSITY OF ARIZONA"
PRODUCER_ID = "UA"
PRODUCER_FULL_NAME = "ALFRED MCEWEN"
OBSERVATION_ID = "PSP_010115_2825"
PRODUCT_ID = "PSP_010115_2825_COLOR"
PRODUCT_VERSION_ID = "2.0"
INSTRUMENT_HOST_NAME = "MARS RECONNAISSANCE ORBITER"
INSTRUMENT_HOST_ID = "MRO"
INSTRUMENT_NAME = "HIGH RESOLUTION IMAGING SCIENCE EXPERIMENT"
INSTRUMENT_ID = "HIRISE"
TARGET_NAME = "MARS"
MISSION_PHASE_NAME = "PRIMARY SCIENCE PHASE"
ORBIT_NUMBER = 10115
SOURCE_PRODUCT_ID = (PSP_010115_2825_BG12_0, PSP_010115_2825_BG12_1, PSP_010115_2825_RED4_0, PSP_010115_2825_RED4_1, PSP_010115_2825_IR10_0, PSP_010115_2825_IR10_1, PSP_010115_2825_BG13_0, PSP_010115_2825_BG13_1, PSP_010115_2825_RED5_0, PSP_010115_2825_RED5_1, PSP_010115_2825_IR11_0, PSP_010115_2825_IR11_1)
RATIONALE_DESC = "Sample of north polar outlier"
SOFTWARE_NAME = "PDS_to_JP2 v3.17 (1.51 2010/04/30 08:03:43)"
OBJECT = IMAGE_MAP_PROJECTION
  ^DATA_SET_MAP_PROJECTION = "DSMAP.CAT"
  MAP_PROJECTION_TYPE = "POLAR STEREOGRAPHIC"
  PROJECTION_LATITUDE_TYPE = PLANETOCENTRIC
  A_AXIS_RADIUS = 3396.19
  B_AXIS_RADIUS = 3396.19
  C_AXIS_RADIUS = 3376.2
  COORDINATE_SYSTEM_NAME = PLANETOCENTRIC
  POSITIVE_LONGITUDE_DIRECTION = EAST
  KEYWORD_LATITUDE_TYPE = PLANETOCENTRIC
  /* NOTE: CENTER_LATITUDE and CENTER_LONGITUDE describe the location */
  /* of the center of projection, which is not necessarily equal to the */
  /* location of the center point of the image. */
  CENTER_LATITUDE = 90.000
  CENTER_LONGITUDE = 0.000
  LINE_FIRST_PIXEL = 1
  LINE_LAST_PIXEL = 6887
  SAMPLE_FIRST_PIXEL = 1
  SAMPLE_LAST_PIXEL = 5819
  MAP_PROJECTION_ROTATION = 0.0
  MAP_RESOLUTION = 117851.61241167
  MAP_SCALE = 0.5
  MAXIMUM_LATITUDE = 77.599490136192
  MINIMUM_LATITUDE = 77.540889637443
  LINE_PROJECTION_OFFSET = 944763.5
  SAMPLE_PROJECTION_OFFSET = 1132830.5
  EASTERNMOST_LONGITUDE = 230.28880649907
  WESTERNMOST_LONGITUDE = 230.11724799679
END_OBJECT = IMAGE_MAP_PROJECTION
/* All xxx_COUNT values are for the MRO spacecraft clock (SCLK) */
/* in seconds:subseconds form. A subsecond tick = 15.2588 microseconds. */
/* All xxx_TIME values are referenced to UTC. */
GROUP = TIME_PARAMETERS
  /* Time when the observation first started */
  MRO:OBSERVATION_START_TIME = 2008-09-22T16:32:29.384
  /* Time of the first image line */
  START_TIME = 2008-09-22T16:32:29.475
  SPACECRAFT_CLOCK_START_COUNT = "906568369:53409"
  /* Time of the last image line */
  STOP_TIME = 2008-09-22T16:32:30.816
  SPACECRAFT_CLOCK_STOP_COUNT = "906568371:06114"
  /* Time when this RDR product was created */
  PRODUCT_CREATION_TIME = 2010-06-19T22:28:42
END_GROUP = TIME_PARAMETERS
GROUP = INSTRUMENT_SETTING_PARAMETERS
  MRO:CCD_FLAG = (OFF, OFF, OFF, OFF, ON, ON, OFF, OFF, OFF, OFF, ON, ON, ON, ON)
  MRO:BINNING = (-9998, -9998, -9998, -9998, 2, 2, -9998, -9998, -9998, -9998, 4, 4, 4, 4)
  MRO:TDI = (-9998, -9998, -9998, -9998, 64, 64, -9998, -9998, -9998, -9998, 64, 64, 64, 64)
  MRO:SPECIAL_PROCESSING_FLAG = ("NULL", "NULL", "NULL", "NULL", NOMINAL, "NULL", "NULL", "NULL", "NULL", "NULL", NOMINAL, "NULL", NOMINAL, "NULL")
END_GROUP = INSTRUMENT_SETTING_PARAMETERS
GROUP = VIEWING_PARAMETERS
  INCIDENCE_ANGLE = 76.045921
  EMISSION_ANGLE = 7.380703
  PHASE_ANGLE = 81.627848
  LOCAL_TIME = 4.61015
  SOLAR_LONGITUDE = 131.005368
  SUB_SOLAR_AZIMUTH = 105.568186
  NORTH_AZIMUTH = 39.796973
END_GROUP = VIEWING_PARAMETERS
/* The JPEG2000 image data file associated with this label. */
OBJECT = COMPRESSED_FILE
  FILE_NAME = "PSP_010115_2825_COLOR.JP2"
  RECORD_TYPE = UNDEFINED
  ENCODING_TYPE = "JP2"
  ENCODING_TYPE_VERSION_NAME = "ISO/IEC15444-1:2004"
  INTERCHANGE_FORMAT = BINARY
  /* The name of the original source file. */
  UNCOMPRESSED_FILE_NAME = "PSP_010115_2825_COLOR.IMG"
  /* The amount of original image data. */
  REQUIRED_STORAGE_BYTES = 240452718
  ^DESCRIPTION = "JP2INFO.TXT"
END_OBJECT = COMPRESSED_FILE
/* The source image data definition. */
OBJECT = UNCOMPRESSED_FILE
  FILE_NAME = "PSP_010115_2825_COLOR.IMG"
  RECORD_TYPE = FIXED_LENGTH
  RECORD_BYTES = 11638
  FILE_RECORDS = 20661
  ^IMAGE = "PSP_010115_2825_COLOR.IMG"
  OBJECT = IMAGE
    DESCRIPTION = "HiRISE projected and mosaicked product"
    LINES = 6887
    LINE_SAMPLES = 5819
    BANDS = 3
    SAMPLE_TYPE = MSB_UNSIGNED_INTEGER
    SAMPLE_BITS = 16
    SAMPLE_BIT_MASK = 2#0000001111111111#
    /* NOTE: The conversion from DN to I/F (intensity/flux) is: */
    /* I/F = (DN * SCALING_FACTOR) + OFFSET */
    /* I/F is defined as the ratio of the observed radiance and */
    /* the radiance of a 100% lambertian reflector with the sun */
    /* and camera orthogonal to the observing surface. */
    SCALING_FACTOR = 7.09762770414921e-05
    OFFSET = 0.029961524380917
    BAND_STORAGE_TYPE = BAND_SEQUENTIAL
    CORE_NULL = 0
    CORE_LOW_REPR_SATURATION = 1
    CORE_LOW_INSTR_SATURATION = 2
    CORE_HIGH_REPR_SATURATION = 1023
    CORE_HIGH_INSTR_SATURATION = 1022
    CENTER_FILTER_WAVELENGTH = (900 , 700 , 500 )
    MRO:MINIMUM_STRETCH = (3, 3, 3)
    MRO:MAXIMUM_STRETCH = (1021, 1021, 1021)
    FILTER_NAME = ("NEAR-INFRARED", "RED", "BLUE-GREEN")
  END_OBJECT = IMAGE
END_OBJECT = UNCOMPRESSED_FILE
END
