PDS_VERSION_ID = PDS3
/* Identification Information */
NOT_APPLICABLE_CONSTANT = -9998
DATA_SET_ID = "MRO-M-HIRISE-3-RDR-V1.1"
DATA_SET_NAME = "MRO MARS HIGH RESOLUTION IMAGING SCIENCE EXPERIMENT RDR V1.1"
PRODUCER_INSTITUTION_NAME = "UNIVERSITY OF ARIZONA"
PRODUCER_ID = "UA"
PRODUCER_FULL_NAME = "ALFRED MCEWEN"
OBSERVATION_ID = "PSP_009370_2675"
PRODUCT_ID = "PSP_009370_2675_RED"
PRODUCT_VERSION_ID = "2.0"
INSTRUMENT_HOST_NAME = "MARS RECONNAISSANCE ORBITER"
INSTRUMENT_HOST_ID = "MRO"
INSTRUMENT_NAME = "HIGH RESOLUTION IMAGING SCIENCE EXPERIMENT"
INSTRUMENT_ID = "HIRISE"
TARGET_NAME = "MARS"
MISSION_PHASE_NAME = "PRIMARY SCIENCE PHASE"
ORBIT_NUMBER = 9370
SOURCE_PRODUCT_ID = (PSP_009370_2675_RED0_0, PSP_009370_2675_RED0_1, PSP_009370_2675_RED1_0, PSP_009370_2675_RED1_1, PSP_009370_2675_RED2_0, PSP_009370_2675_RED2_1, PSP_009370_2675_RED3_0, PSP_009370_2675_RED3_1, PSP_009370_2675_RED4_0, PSP_009370_2675_RED4_1, PSP_009370_2675_RED5_0, PSP_009370_2675_RED5_1, PSP_009370_2675_RED6_0, PSP_009370_2675_RED6_1, PSP_009370_2675_RED7_0, PSP_009370_2675_RED7_1, PSP_009370_2675_RED8_0, PSP_009370_2675_RED8_1, PSP_009370_2675_RED9_0, PSP_009370_2675_RED9_1)
RATIONALE_DESC = "High-latitude exposure of north polar layered deposits"
SOFTWARE_NAME = "PDS_to_JP2 v3.16 (1.49 2008/07/12 04:09:51)"
OBJECT = IMAGE_MAP_PROJECTION
  ^DATA_SET_MAP_PROJECTION = "DSMAP.CAT"
  MAP_PROJECTION_TYPE = "POLAR STEREOGRAPHIC"
  PROJECTION_LATITUDE_TYPE = PLANETOCENTRIC
  A_AXIS_RADIUS = 3396.19
  B_AXIS_RADIUS = 3396.19
  C_AXIS_RADIUS = 3376.2
  COORDINATE_SYSTEM_NAME = PLANETOCENTRIC
  POSITIVE_LONGITUDE_DIRECTION = EAST
  KEYWORD_LATITUDE_TYPE = PLANETOCENTRIC
  /* NOTE: CENTER_LATITUDE and CENTER_LONGITUDE describe the location */
  /* of the center of projection, which is not necessarily equal to the */
  /* location of the center point of the image. */
  CENTER_LATITUDE = 90.000
  CENTER_LONGITUDE = 0.000
  LINE_FIRST_PIXEL = 1
  LINE_LAST_PIXEL = 34440
  SAMPLE_FIRST_PIXEL = 1
  SAMPLE_LAST_PIXEL = 30017
  MAP_PROJECTION_ROTATION = 0.0
  MAP_RESOLUTION = 117851.61241167
  MAP_SCALE = 0.5
  MAXIMUM_LATITUDE = 87.630168973713
  MINIMUM_LATITUDE = 87.335780085223
  LINE_PROJECTION_OFFSET = 313680.5
  SAMPLE_PROJECTION_OFFSET = 26036.5
  EASTERNMOST_LONGITUDE = 184.86630250314
  WESTERNMOST_LONGITUDE = 179.20558593215
END_OBJECT = IMAGE_MAP_PROJECTION
/* All xxx_COUNT values are for the MRO spacecraft clock (SCLK) */
/* in seconds:subseconds form. A subsecond tick = 15.2588 microseconds. */
/* All xxx_TIME values are referenced to UTC. */
GROUP = TIME_PARAMETERS
  /* Time when the observation first started */
  MRO:OBSERVATION_START_TIME = 2008-07-26T15:12:36.103
  /* Time of the first image line */
  START_TIME = 2008-07-26T15:12:36.279
  SPACECRAFT_CLOCK_START_COUNT = "901552376:32982"
  /* Time of the last image line */
  STOP_TIME = 2008-07-26T15:12:41.616
  SPACECRAFT_CLOCK_STOP_COUNT = "901552381:55111"
  /* Time when this RDR product was created */
  PRODUCT_CREATION_TIME = 2010-06-08T00:55:53
END_GROUP = TIME_PARAMETERS
GROUP = INSTRUMENT_SETTING_PARAMETERS
  MRO:CCD_FLAG = (ON, ON, ON, ON, ON, ON, ON, ON, ON, ON, ON, ON, ON, ON)
  MRO:BINNING = (2, 2, 2, 2, 2, 2, 2, 2, 2, 2, -9998, -9998, -9998, -9998)
  MRO:TDI = (64, 64, 64, 64, 64, 64, 64, 64, 64, 64, -9998, -9998, -9998, -9998)
  MRO:SPECIAL_PROCESSING_FLAG = (NOMINAL, NOMINAL, NOMINAL, NOMINAL, NOMINAL, NOMINAL, NOMINAL, NOMINAL, NOMINAL, NOMINAL, "NULL", "NULL", "NULL", "NULL")
END_GROUP = INSTRUMENT_SETTING_PARAMETERS
GROUP = VIEWING_PARAMETERS
  INCIDENCE_ANGLE = 63.217331
  EMISSION_ANGLE = 14.580416
  PHASE_ANGLE = 52.205537
  LOCAL_TIME = 13.21661
  SOLAR_LONGITUDE = 103.994761
  SUB_SOLAR_AZIMUTH = 286.594485
  NORTH_AZIMUTH = 87.964056
END_GROUP = VIEWING_PARAMETERS
/* The JPEG2000 image data file associated with this label. */
OBJECT = COMPRESSED_FILE
  FILE_NAME = "PSP_009370_2675_RED.JP2"
  RECORD_TYPE = UNDEFINED
  ENCODING_TYPE = "JP2"
  ENCODING_TYPE_VERSION_NAME = "ISO/IEC15444-1:2004"
  INTERCHANGE_FORMAT = BINARY
  /* The name of the original source file. */
  UNCOMPRESSED_FILE_NAME = "PSP_009370_2675_RED.IMG"
  /* The amount of original image data. */
  REQUIRED_STORAGE_BYTES = 2067570960
  ^DESCRIPTION = "JP2INFO.TXT"
END_OBJECT = COMPRESSED_FILE
/* The source image data definition. */
OBJECT = UNCOMPRESSED_FILE
  FILE_NAME = "PSP_009370_2675_RED.IMG"
  RECORD_TYPE = FIXED_LENGTH
  RECORD_BYTES = 60034
  FILE_RECORDS = 34440
  ^IMAGE = "PSP_009370_2675_RED.IMG"
  OBJECT = IMAGE
    DESCRIPTION = "HiRISE projected and mosaicked product"
    LINES = 34440
    LINE_SAMPLES = 30017
    BANDS = 1
    SAMPLE_TYPE = MSB_UNSIGNED_INTEGER
    SAMPLE_BITS = 16
    SAMPLE_BIT_MASK = 2#0000001111111111#
    /* NOTE: The conversion from DN to I/F (intensity/flux) is: */
    /* I/F = (DN * SCALING_FACTOR) + OFFSET */
    /* I/F is defined as the ratio of the observed radiance and */
    /* the radiance of a 100% lambertian reflector with the sun */
    /* and camera orthogonal to the observing surface. */
    SCALING_FACTOR = 9.76935828479764e-05
    OFFSET = 0.12067946156743
    BAND_STORAGE_TYPE = BAND_SEQUENTIAL
    CORE_NULL = 0
    CORE_LOW_REPR_SATURATION = 1
    CORE_LOW_INSTR_SATURATION = 2
    CORE_HIGH_REPR_SATURATION = 1023
    CORE_HIGH_INSTR_SATURATION = 1022
    CENTER_FILTER_WAVELENGTH = 700
    MRO:MINIMUM_STRETCH = 3
    MRO:MAXIMUM_STRETCH = 1021
    FILTER_NAME = "RED"
  END_OBJECT = IMAGE
END_OBJECT = UNCOMPRESSED_FILE
END
