PDS_VERSION_ID = PDS3
/* Identification Information */
NOT_APPLICABLE_CONSTANT = -9998
DATA_SET_ID = "MRO-M-HIRISE-3-RDR-V1.1"
DATA_SET_NAME = "MRO MARS HIGH RESOLUTION IMAGING SCIENCE EXPERIMENT RDR V1.1"
PRODUCER_INSTITUTION_NAME = "UNIVERSITY OF ARIZONA"
PRODUCER_ID = "UA"
PRODUCER_FULL_NAME = "ALFRED MCEWEN"
OBSERVATION_ID = "ESP_080531_2545"
PRODUCT_ID = "ESP_080531_2545_COLOR"
PRODUCT_VERSION_ID = "1.0"
INSTRUMENT_HOST_NAME = "MARS RECONNAISSANCE ORBITER"
INSTRUMENT_HOST_ID = "MRO"
INSTRUMENT_NAME = "HIGH RESOLUTION IMAGING SCIENCE EXPERIMENT"
INSTRUMENT_ID = "HIRISE"
TARGET_NAME = "MARS"
MISSION_PHASE_NAME = "EXTENDED SCIENCE PHASE"
ORBIT_NUMBER = 80531
SOURCE_PRODUCT_ID = (ESP_080531_2545_BG13_0, ESP_080531_2545_BG13_1, ESP_080531_2545_RED5_0, ESP_080531_2545_RED5_1, ESP_080531_2545_IR11_0, ESP_080531_2545_IR11_1)
RATIONALE_DESC = "Terrain sample"
SOFTWARE_NAME = "PDS_to_JP2 v4.5.1 (1.56 2016/09/26 23:05:38)"
OBJECT = IMAGE_MAP_PROJECTION
  ^DATA_SET_MAP_PROJECTION = "DSMAP.CAT"
  MAP_PROJECTION_TYPE = "POLAR STEREOGRAPHIC"
  PROJECTION_LATITUDE_TYPE = PLANETOCENTRIC
  A_AXIS_RADIUS = 3396.19
  B_AXIS_RADIUS = 3396.19
  C_AXIS_RADIUS = 3376.2
  COORDINATE_SYSTEM_NAME = PLANETOCENTRIC
  POSITIVE_LONGITUDE_DIRECTION = EAST
  KEYWORD_LATITUDE_TYPE = PLANETOCENTRIC
  /* NOTE: CENTER_LATITUDE and CENTER_LONGITUDE describe the location */
  /* of the center of projection, which is not necessarily equal to the */
  /* location of the center point of the image. */
  CENTER_LATITUDE = 90.000
  CENTER_LONGITUDE = 0.000
  LINE_FIRST_PIXEL = 1
  LINE_LAST_PIXEL = 4349
  SAMPLE_FIRST_PIXEL = 1
  SAMPLE_LAST_PIXEL = 16005
  MAP_PROJECTION_ROTATION = 0.0
  MAP_RESOLUTION = 117851.61241167
  MAP_SCALE = 0.5
  MAXIMUM_LATITUDE = 74.138661249312
  MINIMUM_LATITUDE = 74.005491287679
  LINE_PROJECTION_OFFSET = -795.5
  SAMPLE_PROJECTION_OFFSET = -1881315.5
  EASTERNMOST_LONGITUDE = 89.975981330024
  WESTERNMOST_LONGITUDE = 89.843364830272
END_OBJECT = IMAGE_MAP_PROJECTION
/* All xxx_COUNT values are for the MRO spacecraft clock (SCLK) */
/* in seconds:subseconds form. A subsecond tick = 15.2588 microseconds. */
/* All xxx_TIME values are referenced to UTC. */
GROUP = TIME_PARAMETERS
  /* Time when the observation first started */
  MRO:OBSERVATION_START_TIME = 2023-10-01T07:30:54.193
  /* Time of the first image line */
  START_TIME = 2023-10-01T07:30:54.249
  SPACECRAFT_CLOCK_START_COUNT = "1380612713:60202"
  /* Time of the last image line */
  STOP_TIME = 2023-10-01T07:30:57.019
  SPACECRAFT_CLOCK_STOP_COUNT = "1380612716:45156"
  /* Time when this RDR product was created */
  PRODUCT_CREATION_TIME = 2023-10-05T03:29:16
END_GROUP = TIME_PARAMETERS
GROUP = INSTRUMENT_SETTING_PARAMETERS
  MRO:CCD_FLAG = (ON, ON, ON, ON, OFF, ON, ON, ON, ON, OFF, ON, ON, ON, ON)
  MRO:BINNING = (-9998, -9998, -9998, -9998, -9998, 2, -9998, -9998, -9998, -9998, -9998, 2, -9998, 2)
  MRO:TDI = (-9998, -9998, -9998, -9998, -9998, 64, -9998, -9998, -9998, -9998, -9998, 128, -9998, 128)
  MRO:SPECIAL_PROCESSING_FLAG = ("NULL", "NULL", "NULL", "NULL", "NULL", CUBENORM, "NULL", "NULL", "NULL", "NULL", "NULL", NOMINAL, "NULL", NOMINAL)
END_GROUP = INSTRUMENT_SETTING_PARAMETERS
GROUP = VIEWING_PARAMETERS
  INCIDENCE_ANGLE = 59.533285
  EMISSION_ANGLE = 0.075367
  PHASE_ANGLE = 59.606398
  LOCAL_TIME = 15.04497
  SOLAR_LONGITUDE = 126.631276
  SUB_SOLAR_AZIMUTH = 51.437736
  NORTH_AZIMUTH = 180.090327
END_GROUP = VIEWING_PARAMETERS
/* The JPEG2000 image data file associated with this label. */
OBJECT = COMPRESSED_FILE
  FILE_NAME = "ESP_080531_2545_COLOR.JP2"
  RECORD_TYPE = UNDEFINED
  ENCODING_TYPE = "JP2"
  ENCODING_TYPE_VERSION_NAME = "ISO/IEC15444-1:2004"
  INTERCHANGE_FORMAT = BINARY
  /* The name of the original source file. */
  UNCOMPRESSED_FILE_NAME = "ESP_080531_2545_UNFILTERED_COLOR.IMG"
  /* The amount of original image data. */
  REQUIRED_STORAGE_BYTES = 417634470
  ^DESCRIPTION = "JP2INFO.TXT"
END_OBJECT = COMPRESSED_FILE
/* The source image data definition. */
OBJECT = UNCOMPRESSED_FILE
  FILE_NAME = "ESP_080531_2545_UNFILTERED_COLOR.IMG"
  RECORD_TYPE = FIXED_LENGTH
  RECORD_BYTES = 32010
  FILE_RECORDS = 13047
  ^IMAGE = "ESP_080531_2545_UNFILTERED_COLOR.IMG"
  OBJECT = IMAGE
    DESCRIPTION = "HiRISE projected and mosaicked product"
    LINES = 4349
    LINE_SAMPLES = 16005
    BANDS = 3
    SAMPLE_TYPE = MSB_UNSIGNED_INTEGER
    SAMPLE_BITS = 16
    SAMPLE_BIT_MASK = 2#0000001111111111#
    /* NOTE: The conversion from DN to I/F (intensity/flux) is: */
    /* I/F = (DN * SCALING_FACTOR) + OFFSET */
    /* I/F is defined as the ratio of the observed radiance and */
    /* the radiance of a 100% lambertian reflector with the sun */
    /* and camera orthogonal to the observing surface. */
    SCALING_FACTOR = 7.38549093169401e-05
    OFFSET = 0.037324795869734
    BAND_STORAGE_TYPE = BAND_SEQUENTIAL
    CORE_NULL = 0
    CORE_LOW_REPR_SATURATION = 1
    CORE_LOW_INSTR_SATURATION = 2
    CORE_HIGH_REPR_SATURATION = 1023
    CORE_HIGH_INSTR_SATURATION = 1022
    CENTER_FILTER_WAVELENGTH = (900 , 700 , 500 )
    MRO:MINIMUM_STRETCH = (3, 3, 3)
    MRO:MAXIMUM_STRETCH = (1021, 1021, 1021)
    FILTER_NAME = ("NEAR-INFRARED", "RED", "BLUE-GREEN")
  END_OBJECT = IMAGE
END_OBJECT = UNCOMPRESSED_FILE
END
