PDS_VERSION_ID = PDS3
/* Identification Information */
NOT_APPLICABLE_CONSTANT = -9998
DATA_SET_ID = "MRO-M-HIRISE-3-RDR-V1.1"
DATA_SET_NAME = "MRO MARS HIGH RESOLUTION IMAGING SCIENCE EXPERIMENT RDR V1.1"
PRODUCER_INSTITUTION_NAME = "UNIVERSITY OF ARIZONA"
PRODUCER_ID = "UA"
PRODUCER_FULL_NAME = "ALFRED MCEWEN"
OBSERVATION_ID = "ESP_023726_2525"
PRODUCT_ID = "ESP_023726_2525_RED"
PRODUCT_VERSION_ID = "1.0"
INSTRUMENT_HOST_NAME = "MARS RECONNAISSANCE ORBITER"
INSTRUMENT_HOST_ID = "MRO"
INSTRUMENT_NAME = "HIGH RESOLUTION IMAGING SCIENCE EXPERIMENT"
INSTRUMENT_ID = "HIRISE"
TARGET_NAME = "MARS"
MISSION_PHASE_NAME = "EXTENDED SCIENCE PHASE"
ORBIT_NUMBER = 23726
SOURCE_PRODUCT_ID = (ESP_023726_2525_RED0_0, ESP_023726_2525_RED0_1, ESP_023726_2525_RED1_0, ESP_023726_2525_RED1_1, ESP_023726_2525_RED2_0, ESP_023726_2525_RED2_1, ESP_023726_2525_RED3_0, ESP_023726_2525_RED3_1, ESP_023726_2525_RED4_0, ESP_023726_2525_RED4_1, ESP_023726_2525_RED5_0, ESP_023726_2525_RED5_1, ESP_023726_2525_RED6_0, ESP_023726_2525_RED6_1, ESP_023726_2525_RED7_0, ESP_023726_2525_RED7_1, ESP_023726_2525_RED8_0, ESP_023726_2525_RED8_1, ESP_023726_2525_RED9_0, ESP_023726_2525_RED9_1)
RATIONALE_DESC = "North polar dunes with abundant sand"
SOFTWARE_NAME = "PDS_to_JP2 v3.18.1 (1.52 2010/11/24 03:32:30)"
OBJECT = IMAGE_MAP_PROJECTION
  ^DATA_SET_MAP_PROJECTION = "DSMAP.CAT"
  MAP_PROJECTION_TYPE = "POLAR STEREOGRAPHIC"
  PROJECTION_LATITUDE_TYPE = PLANETOCENTRIC
  A_AXIS_RADIUS = 3396.19
  B_AXIS_RADIUS = 3396.19
  C_AXIS_RADIUS = 3376.2
  COORDINATE_SYSTEM_NAME = PLANETOCENTRIC
  POSITIVE_LONGITUDE_DIRECTION = EAST
  KEYWORD_LATITUDE_TYPE = PLANETOCENTRIC
  /* NOTE: CENTER_LATITUDE and CENTER_LONGITUDE describe the location */
  /* of the center of projection, which is not necessarily equal to the */
  /* location of the center point of the image. */
  CENTER_LATITUDE = 90.000
  CENTER_LONGITUDE = 0.000
  LINE_FIRST_PIXEL = 1
  LINE_LAST_PIXEL = 46582
  SAMPLE_FIRST_PIXEL = 1
  SAMPLE_LAST_PIXEL = 44749
  MAP_PROJECTION_ROTATION = 0.0
  MAP_RESOLUTION = 235703.22482333
  MAP_SCALE = 0.25
  MAXIMUM_LATITUDE = 72.361774576664
  MINIMUM_LATITUDE = 72.185580776293
  LINE_PROJECTION_OFFSET = -2782053.5
  SAMPLE_PROJECTION_OFFSET = 3163921.5
  EASTERNMOST_LONGITUDE = 311.98026737371
  WESTERNMOST_LONGITUDE = 311.54665241485
END_OBJECT = IMAGE_MAP_PROJECTION
/* All xxx_COUNT values are for the MRO spacecraft clock (SCLK) */
/* in seconds:subseconds form. A subsecond tick = 15.2588 microseconds. */
/* All xxx_TIME values are referenced to UTC. */
GROUP = TIME_PARAMETERS
  /* Time when the observation first started */
  MRO:OBSERVATION_START_TIME = 2011-08-19T06:27:12.195
  /* Time of the first image line */
  START_TIME = 2011-08-19T06:27:12.351
  SPACECRAFT_CLOCK_START_COUNT = "998202464:49791"
  /* Time of the last image line */
  STOP_TIME = 2011-08-19T06:27:15.468
  SPACECRAFT_CLOCK_STOP_COUNT = "998202467:57467"
  /* Time when this RDR product was created */
  PRODUCT_CREATION_TIME = 2011-08-25T11:42:50
END_GROUP = TIME_PARAMETERS
GROUP = INSTRUMENT_SETTING_PARAMETERS
  MRO:CCD_FLAG = (ON, ON, ON, ON, ON, ON, ON, ON, ON, ON, ON, ON, ON, ON)
  MRO:BINNING = (1, 1, 1, 1, 1, 1, 1, 1, 1, 1, -9998, -9998, -9998, -9998)
  MRO:TDI = (128, 128, 128, 128, 128, 128, 128, 128, 128, 128, -9998, -9998, -9998, -9998)
  MRO:SPECIAL_PROCESSING_FLAG = (CUBENORM, CUBENORM, CUBENORM, CUBENORM, CUBENORM, CUBENORM, CUBENORM, CUBENORM, CUBENORM, CUBENORM, "NULL", "NULL", "NULL", "NULL")
END_GROUP = INSTRUMENT_SETTING_PARAMETERS
GROUP = VIEWING_PARAMETERS
  INCIDENCE_ANGLE = 79.419309
  EMISSION_ANGLE = 2.966286
  PHASE_ANGLE = 77.949490
  LOCAL_TIME = 13.68000
  SOLAR_LONGITUDE = 347.086944
  SUB_SOLAR_AZIMUTH = 163.778960
  NORTH_AZIMUTH = 318.236540
END_GROUP = VIEWING_PARAMETERS
/* The JPEG2000 image data file associated with this label. */
OBJECT = COMPRESSED_FILE
  FILE_NAME = "ESP_023726_2525_RED.JP2"
  RECORD_TYPE = UNDEFINED
  ENCODING_TYPE = "JP2"
  ENCODING_TYPE_VERSION_NAME = "ISO/IEC15444-1:2004"
  INTERCHANGE_FORMAT = BINARY
  /* The name of the original source file. */
  UNCOMPRESSED_FILE_NAME = "ESP_023726_2525_RED.IMG"
  /* The amount of original image data. */
  REQUIRED_STORAGE_BYTES = 4168995836
  ^DESCRIPTION = "JP2INFO.TXT"
END_OBJECT = COMPRESSED_FILE
/* The source image data definition. */
OBJECT = UNCOMPRESSED_FILE
  FILE_NAME = "ESP_023726_2525_RED.IMG"
  RECORD_TYPE = FIXED_LENGTH
  RECORD_BYTES = 89498
  FILE_RECORDS = 46582
  ^IMAGE = "ESP_023726_2525_RED.IMG"
  OBJECT = IMAGE
    DESCRIPTION = "HiRISE projected and mosaicked product"
    LINES = 46582
    LINE_SAMPLES = 44749
    BANDS = 1
    SAMPLE_TYPE = MSB_UNSIGNED_INTEGER
    SAMPLE_BITS = 16
    SAMPLE_BIT_MASK = 2#0000001111111111#
    /* NOTE: The conversion from DN to I/F (intensity/flux) is: */
    /* I/F = (DN * SCALING_FACTOR) + OFFSET */
    /* I/F is defined as the ratio of the observed radiance and */
    /* the radiance of a 100% lambertian reflector with the sun */
    /* and camera orthogonal to the observing surface. */
    SCALING_FACTOR = 2.12074656188605e-05
    OFFSET = 0.033064177603143
    BAND_STORAGE_TYPE = BAND_SEQUENTIAL
    CORE_NULL = 0
    CORE_LOW_REPR_SATURATION = 1
    CORE_LOW_INSTR_SATURATION = 2
    CORE_HIGH_REPR_SATURATION = 1023
    CORE_HIGH_INSTR_SATURATION = 1022
    CENTER_FILTER_WAVELENGTH = 700
    MRO:MINIMUM_STRETCH = 3
    MRO:MAXIMUM_STRETCH = 1021
    FILTER_NAME = "RED"
  END_OBJECT = IMAGE
END_OBJECT = UNCOMPRESSED_FILE
END
