PDS_VERSION_ID = PDS3
/* Identification Information */
NOT_APPLICABLE_CONSTANT = -9998
DATA_SET_ID = "MRO-M-HIRISE-3-RDR-V1.1"
DATA_SET_NAME = "MRO MARS HIGH RESOLUTION IMAGING SCIENCE EXPERIMENT RDR V1.1"
PRODUCER_INSTITUTION_NAME = "UNIVERSITY OF ARIZONA"
PRODUCER_ID = "UA"
PRODUCER_FULL_NAME = "ALFRED MCEWEN"
OBSERVATION_ID = "ESP_020783_0950"
PRODUCT_ID = "ESP_020783_0950_RED"
PRODUCT_VERSION_ID = "1.0"
INSTRUMENT_HOST_NAME = "MARS RECONNAISSANCE ORBITER"
INSTRUMENT_HOST_ID = "MRO"
INSTRUMENT_NAME = "HIGH RESOLUTION IMAGING SCIENCE EXPERIMENT"
INSTRUMENT_ID = "HIRISE"
TARGET_NAME = "MARS"
MISSION_PHASE_NAME = "EXTENDED SCIENCE PHASE"
ORBIT_NUMBER = 20783
SOURCE_PRODUCT_ID = (ESP_020783_0950_RED0_0, ESP_020783_0950_RED0_1, ESP_020783_0950_RED1_0, ESP_020783_0950_RED1_1, ESP_020783_0950_RED2_0, ESP_020783_0950_RED2_1, ESP_020783_0950_RED3_0, ESP_020783_0950_RED3_1, ESP_020783_0950_RED4_0, ESP_020783_0950_RED4_1, ESP_020783_0950_RED5_0, ESP_020783_0950_RED5_1, ESP_020783_0950_RED6_0, ESP_020783_0950_RED6_1, ESP_020783_0950_RED7_0, ESP_020783_0950_RED7_1, ESP_020783_0950_RED8_0, ESP_020783_0950_RED8_1, ESP_020783_0950_RED9_0, ESP_020783_0950_RED9_1)
RATIONALE_DESC = "Early spring evolution in Giza region"
SOFTWARE_NAME = "PDS_to_JP2 v3.18 (1.52 2010/11/24 03:32:30)"
OBJECT = IMAGE_MAP_PROJECTION
  ^DATA_SET_MAP_PROJECTION = "DSMAP.CAT"
  MAP_PROJECTION_TYPE = "POLAR STEREOGRAPHIC"
  PROJECTION_LATITUDE_TYPE = PLANETOCENTRIC
  A_AXIS_RADIUS = 3396.19
  B_AXIS_RADIUS = 3396.19
  C_AXIS_RADIUS = 3376.2
  COORDINATE_SYSTEM_NAME = PLANETOCENTRIC
  POSITIVE_LONGITUDE_DIRECTION = EAST
  KEYWORD_LATITUDE_TYPE = PLANETOCENTRIC
  /* NOTE: CENTER_LATITUDE and CENTER_LONGITUDE describe the location */
  /* of the center of projection, which is not necessarily equal to the */
  /* location of the center point of the image. */
  CENTER_LATITUDE = -90.000
  CENTER_LONGITUDE = 0.000
  LINE_FIRST_PIXEL = 1
  LINE_LAST_PIXEL = 35504
  SAMPLE_FIRST_PIXEL = 1
  SAMPLE_LAST_PIXEL = 34059
  MAP_PROJECTION_ROTATION = 0.0
  MAP_RESOLUTION = 235703.22482333
  MAP_SCALE = 0.25
  MAXIMUM_LATITUDE = -84.755671854667
  MINIMUM_LATITUDE = -84.90535451365
  LINE_PROJECTION_OFFSET = 519103.5
  SAMPLE_PROJECTION_OFFSET = -1094418.5
  EASTERNMOST_LONGITUDE = 66.454930744463
  WESTERNMOST_LONGITUDE = 64.997022008457
END_OBJECT = IMAGE_MAP_PROJECTION
/* All xxx_COUNT values are for the MRO spacecraft clock (SCLK) */
/* in seconds:subseconds form. A subsecond tick = 15.2588 microseconds. */
/* All xxx_TIME values are referenced to UTC. */
GROUP = TIME_PARAMETERS
  /* Time when the observation first started */
  MRO:OBSERVATION_START_TIME = 2011-01-01T21:50:19.615
  /* Time of the first image line */
  START_TIME = 2011-01-01T21:50:19.732
  SPACECRAFT_CLOCK_START_COUNT = "978385851:32553"
  /* Time of the last image line */
  STOP_TIME = 2011-01-01T21:50:22.077
  SPACECRAFT_CLOCK_STOP_COUNT = "978385853:55165"
  /* Time when this RDR product was created */
  PRODUCT_CREATION_TIME = 2011-01-06T01:08:51
END_GROUP = TIME_PARAMETERS
GROUP = INSTRUMENT_SETTING_PARAMETERS
  MRO:CCD_FLAG = (ON, ON, ON, ON, ON, ON, ON, ON, ON, ON, ON, ON, ON, ON)
  MRO:BINNING = (1, 1, 1, 1, 1, 1, 1, 1, 1, 1, -9998, -9998, -9998, -9998)
  MRO:TDI = (128, 128, 128, 128, 128, 128, 128, 128, 128, 128, -9998, -9998, -9998, -9998)
  MRO:SPECIAL_PROCESSING_FLAG = (NOMINAL, NOMINAL, NOMINAL, NOMINAL, NOMINAL, NOMINAL, NOMINAL, NOMINAL, NOMINAL, NOMINAL, "NULL", "NULL", "NULL", "NULL")
END_GROUP = INSTRUMENT_SETTING_PARAMETERS
GROUP = VIEWING_PARAMETERS
  INCIDENCE_ANGLE = 77.095669
  EMISSION_ANGLE = 5.173310
  PHASE_ANGLE = 81.333798
  LOCAL_TIME = 17.34539
  SOLAR_LONGITUDE = 209.430864
  SUB_SOLAR_AZIMUTH = 254.414248
  NORTH_AZIMUTH = 335.725976
END_GROUP = VIEWING_PARAMETERS
/* The JPEG2000 image data file associated with this label. */
OBJECT = COMPRESSED_FILE
  FILE_NAME = "ESP_020783_0950_RED.JP2"
  RECORD_TYPE = UNDEFINED
  ENCODING_TYPE = "JP2"
  ENCODING_TYPE_VERSION_NAME = "ISO/IEC15444-1:2004"
  INTERCHANGE_FORMAT = BINARY
  /* The name of the original source file. */
  UNCOMPRESSED_FILE_NAME = "ESP_020783_0950_RED.IMG"
  /* The amount of original image data. */
  REQUIRED_STORAGE_BYTES = 2418461472
  ^DESCRIPTION = "JP2INFO.TXT"
END_OBJECT = COMPRESSED_FILE
/* The source image data definition. */
OBJECT = UNCOMPRESSED_FILE
  FILE_NAME = "ESP_020783_0950_RED.IMG"
  RECORD_TYPE = FIXED_LENGTH
  RECORD_BYTES = 68118
  FILE_RECORDS = 35504
  ^IMAGE = "ESP_020783_0950_RED.IMG"
  OBJECT = IMAGE
    DESCRIPTION = "HiRISE projected and mosaicked product"
    LINES = 35504
    LINE_SAMPLES = 34059
    BANDS = 1
    SAMPLE_TYPE = MSB_UNSIGNED_INTEGER
    SAMPLE_BITS = 16
    SAMPLE_BIT_MASK = 2#0000001111111111#
    /* NOTE: The conversion from DN to I/F (intensity/flux) is: */
    /* I/F = (DN * SCALING_FACTOR) + OFFSET */
    /* I/F is defined as the ratio of the observed radiance and */
    /* the radiance of a 100% lambertian reflector with the sun */
    /* and camera orthogonal to the observing surface. */
    SCALING_FACTOR = 8.46048017205639e-05
    OFFSET = 0.039398805445564
    BAND_STORAGE_TYPE = BAND_SEQUENTIAL
    CORE_NULL = 0
    CORE_LOW_REPR_SATURATION = 1
    CORE_LOW_INSTR_SATURATION = 2
    CORE_HIGH_REPR_SATURATION = 1023
    CORE_HIGH_INSTR_SATURATION = 1022
    CENTER_FILTER_WAVELENGTH = 700
    MRO:MINIMUM_STRETCH = 3
    MRO:MAXIMUM_STRETCH = 1021
    FILTER_NAME = "RED"
  END_OBJECT = IMAGE
END_OBJECT = UNCOMPRESSED_FILE
END
