PDS_VERSION_ID = PDS3
/* Identification Information */
NOT_APPLICABLE_CONSTANT = -9998
DATA_SET_ID = "MRO-M-HIRISE-3-RDR-V1.1"
DATA_SET_NAME = "MRO MARS HIGH RESOLUTION IMAGING SCIENCE EXPERIMENT RDR V1.1"
PRODUCER_INSTITUTION_NAME = "UNIVERSITY OF ARIZONA"
PRODUCER_ID = "UA"
PRODUCER_FULL_NAME = "ALFRED MCEWEN"
OBSERVATION_ID = "PSP_004788_0945"
PRODUCT_ID = "PSP_004788_0945_MIRB"
PRODUCT_VERSION_ID = "2"
INSTRUMENT_HOST_NAME = "MARS RECONNAISSANCE ORBITER"
INSTRUMENT_HOST_ID = "MRO"
INSTRUMENT_NAME = "HIGH RESOLUTION IMAGING SCIENCE EXPERIMENT"
INSTRUMENT_ID = "HIRISE"
TARGET_NAME = "MARS"
MISSION_PHASE_NAME = "PRIMARY SCIENCE PHASE"
ORBIT_NUMBER = 4788
SOURCE_PRODUCT_ID = (PSP_004788_0945_RED0_0, PSP_004788_0945_RED0_1, PSP_004788_0945_RED1_0, PSP_004788_0945_RED1_1, PSP_004788_0945_RED2_0, PSP_004788_0945_RED2_1, PSP_004788_0945_RED3_0, PSP_004788_0945_RED3_1, PSP_004788_0945_RED4_0, PSP_004788_0945_RED4_1, PSP_004788_0945_RED5_0, PSP_004788_0945_RED5_1, PSP_004788_0945_RED6_0, PSP_004788_0945_RED6_1, PSP_004788_0945_RED7_0, PSP_004788_0945_RED7_1, PSP_004788_0945_RED8_0, PSP_004788_0945_RED8_1, PSP_004788_0945_RED9_0, PSP_004788_0945_BG12_0, PSP_004788_0945_BG12_1, PSP_004788_0945_IR10_0, PSP_004788_0945_IR10_1, PSP_004788_0945_BG13_0, PSP_004788_0945_BG13_1, PSP_004788_0945_IR11_0, PSP_004788_0945_IR11_1)
RATIONALE_DESC = "Layers at the head of Chasma Australe exposed over 270 degrees of azimuth"
SOFTWARE_NAME = "PDS_to_JP2 v3.19 (1.53 2012/01/24 03:07:27)"
OBJECT = IMAGE_MAP_PROJECTION
  ^DATA_SET_MAP_PROJECTION = "DSMAP.CAT"
  MAP_PROJECTION_TYPE = "POLAR STEREOGRAPHIC"
  PROJECTION_LATITUDE_TYPE = PLANETOCENTRIC
  A_AXIS_RADIUS = 3396.19
  B_AXIS_RADIUS = 3396.19
  C_AXIS_RADIUS = 3376.2
  COORDINATE_SYSTEM_NAME = PLANETOCENTRIC
  POSITIVE_LONGITUDE_DIRECTION = EAST
  KEYWORD_LATITUDE_TYPE = PLANETOCENTRIC
  /* NOTE: CENTER_LATITUDE and CENTER_LONGITUDE describe the location */
  /* of the center of projection, which is not necessarily equal to the */
  /* location of the center point of the image. */
  CENTER_LATITUDE = -90.000
  CENTER_LONGITUDE = 0.000
  LINE_FIRST_PIXEL = 1
  LINE_LAST_PIXEL = 30095
  SAMPLE_FIRST_PIXEL = 1
  SAMPLE_LAST_PIXEL = 38425
  MAP_PROJECTION_ROTATION = 0.0
  MAP_RESOLUTION = 117851.61241167
  MAP_SCALE = 0.5
  MAXIMUM_LATITUDE = -85.497831523984
  MINIMUM_LATITUDE = -85.810775297693
  LINE_PROJECTION_OFFSET = -34218.0
  SAMPLE_PROJECTION_OFFSET = -490735.0
  EASTERNMOST_LONGITUDE = 97.384922152734
  WESTERNMOST_LONGITUDE = 93.738485307293
END_OBJECT = IMAGE_MAP_PROJECTION
/* All xxx_COUNT values are for the MRO spacecraft clock (SCLK) */
/* in seconds:subseconds form. A subsecond tick = 15.2588 microseconds. */
/* All xxx_TIME values are referenced to UTC. */
GROUP = TIME_PARAMETERS
  /* Time when the observation first started */
  MRO:OBSERVATION_START_TIME = 2007-08-04T12:23:55.373
  /* Time of the first image line */
  START_TIME = 2007-08-04T12:23:55.490
  SPACECRAFT_CLOCK_START_COUNT = "870697455:01702"
  /* Time of the last image line */
  STOP_TIME = 2007-08-04T12:24:01.670
  SPACECRAFT_CLOCK_STOP_COUNT = "870697461:13506"
  /* Time when this RDR product was created */
  PRODUCT_CREATION_TIME = 2016-10-17T14:06:31
END_GROUP = TIME_PARAMETERS
GROUP = INSTRUMENT_SETTING_PARAMETERS
  MRO:CCD_FLAG = (ON, ON, ON, ON, ON, ON, ON, ON, ON, ON, ON, ON, ON, ON)
  MRO:BINNING = (1, 1, 1, 1, 1, 1, 1, 1, 1, 1, 4, 4, 4, 4)
  MRO:TDI = (128, 128, 128, 128, 128, 128, 128, 128, 128, 128, 64, 64, 64, 64)
  MRO:SPECIAL_PROCESSING_FLAG = (CUBENORM, CUBENORM, CUBENORM, CUBENORM, CUBENORM, CUBENORM, CUBENORM, CUBENORM, CUBENORM, CUBENORM, CUBENORM, "NULL", CUBENORM, "NULL")
END_GROUP = INSTRUMENT_SETTING_PARAMETERS
GROUP = VIEWING_PARAMETERS
  INCIDENCE_ANGLE = 65.366449
  EMISSION_ANGLE = 0.067225
  PHASE_ANGLE = 65.312678
  LOCAL_TIME = 17.09919
  SOLAR_LONGITUDE = 289.289899
  SUB_SOLAR_AZIMUTH = 287.169949
  NORTH_AZIMUTH = 5.561704
END_GROUP = VIEWING_PARAMETERS
/* The JPEG2000 image data file associated with this label. */
OBJECT = COMPRESSED_FILE
  FILE_NAME = "PSP_004788_0945_MIRB.JP2"
  RECORD_TYPE = UNDEFINED
  ENCODING_TYPE = "JP2"
  ENCODING_TYPE_VERSION_NAME = "ISO/IEC15444-1:2004"
  INTERCHANGE_FORMAT = BINARY
  /* The name of the original source file. */
  UNCOMPRESSED_FILE_NAME = "PSP_004788_0945_MIRB.IMG"
  /* The amount of original image data. */
  REQUIRED_STORAGE_BYTES = 3469201125
  ^DESCRIPTION = "JP2INFO.TXT"
END_OBJECT = COMPRESSED_FILE
/* The source image data definition. */
OBJECT = UNCOMPRESSED_FILE
  FILE_NAME = "PSP_004788_0945_MIRB.IMG"
  RECORD_TYPE = FIXED_LENGTH
  RECORD_BYTES = 38425
  FILE_RECORDS = 90285
  ^IMAGE = "PSP_004788_0945_MIRB.IMG"
  OBJECT = IMAGE
    DESCRIPTION = "HiRISE projected and mosaicked product"
    LINES = 30095
    LINE_SAMPLES = 38425
    BANDS = 3
    SAMPLE_TYPE = MSB_UNSIGNED_INTEGER
    SAMPLE_BITS = 8
    SAMPLE_BIT_MASK = 2#11111111#
    MRO:STRETCH_FLAG = "NORMAL_STRETCH"
    /* Scaled DNs have the range 0 to 255 */
    /* and are relative values. */
    SCALING_FACTOR = 1.0079051383399
    OFFSET = -1.0079051383399
    BAND_STORAGE_TYPE = BAND_SEQUENTIAL
    CORE_NULL = 0
    CORE_LOW_REPR_SATURATION = 0
    CORE_LOW_INSTR_SATURATION = 0
    CORE_HIGH_REPR_SATURATION = 255
    CORE_HIGH_INSTR_SATURATION = 255
    CENTER_FILTER_WAVELENGTH = (-9998 , -9998 , -9998 )
    MRO:MINIMUM_STRETCH = (1, 1, 1)
    MRO:MAXIMUM_STRETCH = (254, 254, 254)
    FILTER_NAME = ("NULL", "NULL", "NULL")
  END_OBJECT = IMAGE
END_OBJECT = UNCOMPRESSED_FILE
END
